Workbook
Name b: '[1]ICD-X'!$C$3:$D$639
Name CONVERSI: #REF!
Name CONVERSIFULL: #REF!
Name DX_LAMA: #REF!
Name ICDX: #REF!
Name ICDXFULL: #REF!
Name NO_CODEOBAT: #REF!

Sheet PKG
B2: < 1th
B3: 1 Tahun | D3: REG. PKG DESA KARANGSOKO TAHUN 2026
B4: 1-2 Tahun | D4: UNIT LAYANAMNAN KLASTER 2
B5: 1-6 Tahun | D5: PUSKESMAS TRENGGALEK
B6: 2 Tahun | D6: https://puskesmastrenggalek.id/CKG-BIDAN/bidan.html
B7: 3-6 Tahun
B8: 2-6 Tahun
M9: PEMERIKSAAN MANDIRI | W9: PELAYANAN OLEH NAKES
B10: No. | C10: TANGGAL | D10: NIK | E10: N A M A | F10: UMUR | G10: TANGGAL LAHIR | H10: ALAMAT | M10: Hasil Skrinning DM Anak | O10: Demografi Anak | P10: Perkembangan | S10: Talasemia | U10: Tuberkulosis Bayi dan Anak Pra Sekolah | W10: Skrining Pertumbuhan - Bayi Baru Lahir | Y10: Skrining Penyakit Jantung Bawaan - Bayi Baru Lahir | AA10: Hasil Pemeriksaan SHK, G6PD, HAK | AB10: Pengambilan Darah Tumit | AC10: Tes Konfirmasi Pemeriksaan SHK, G6PD, HAK | AD10: Skrining Kelainan Saluran Empedu - Bayi Baru Lahir (0-2 hari) | AE10: Skrining Kelainan Saluran Empedu (14- 28 hari) | AF10: Skrining Kelainan Saluran Empedu (2-4 bulan) | AG10: Skrining Pertumbuhan - Balita dan Anak Prasekolah | AL10: Skrining Perkembangan Balita 1 Tahun | AM10: M-CHAT-REVISED - Jika terindikasi terlambat bicara, ada gangguan komunikasi atau interaksi sosial dan perilaku yang berulang-ulang | AN10: Kuesioner Gangguan Pemusatan Perhatian dan Hiperaktivitas (GPPH) - bila ada indikasi | AO10: Kuesioner Masalah Perilaku dan Emosional (KMPE) - Jika terindikasi memiliki masalah perilaku dan emosi | AP10: Kuesioner Pra Skrining Perkembangan (KPSP) | AQ10: Skrining Telinga dan Mata | AS10: Skrining Gigi - Balita dan Anak Prasekolah | AT10: Skrining Tuberkulosis - Balita dan Anak Prasekolah | AU10: Skoring TB - Hanya Apabila Tes Mantoux | AV10: Skrining Gula Darah Sewaktu - Bila ada Faktor Resiko | AW10: Rapid Test Hemoglobin - Balita | AX10: Skrining Lanjutan Talasemia - Balita dan Anak Prasekolah
J11: Tinggi | K11: Berat | L11: Lingkar | P11: 2 Tahun | Q11: (3-6 Tahun) | AG11: Status Gizi BB/U | AH11: Status gizi PB/U atau TB/U | AI11: Status Gizi BB/PB atau BB/TB | AJ11: Hasil IMT/U * | AK11: Status Lingkar Kepala *
H12: Desa/Kel. | I12: RT/RW | L12: Kepala | M12: Hasil | N12: Keterangan | Q12: Emosional | R12: Hiperaktif | S12: Hasil | T12: Keterangan | U12: Hasil | V12: Keterangan | W12: BBLahir | X12: PB Lahir | Y12: PJB - Tangan kanan (Oksimeter) | Z12: PJB - Kaki * | AQ12: 1-2 tahun | AR12: Balita dan Anak Prasekolah
B13: 1 | C13: 3 | D13: 5 | E13: 4 | F13: 7 | G13: 6 | I13: 8 | J13: 13 | K13: 14 | L13: 15 | M13: 16 | N13: 17 | O13: 18 | P13: 19 | Q13: 20 | R13: 21 | S13: 22 | T13: 23 | U13: 24 | V13: 25 | W13: 26 | Y13: 27 | AA13: 28 | AB13: 29 | AC13: 30 | AD13: 31 | AE13: 32 | AG13: 33 | AH13: 34 | AI13: 35 | AJ13: 36 | AK13: 37 | AL13: 38 | AM13: 39 | AN13: 40 | AO13: 41 | AP13: 42 | AQ13: 43 | AR13: 44 | AS13: 45 | AT13: 46 | AU13: 47 | AV13: 48 | AW13: 49 | AX13: 50
B14: 1 | C14: 45779 | D14: 3503110101250002 | E14: DEVARO GIVAREL AXCELLO | F14: =IFERROR(DATEDIF(G14,C14,"Y") & " thn. " &IF(DATEDIF(G14,C14,"YM")<10,"0"&DATEDIF(G14,C14,"YM"),DATEDIF(G14,C14,"YM")) & " bln.","") -> 0 thn. 04 bln. | G14: =IFERROR(ABS(IF(VALUE(MID(D14,7,2))>40,VALUE(MID(D14,7,2))-40,VALUE(MID(D14,7,2)))&"-"&IF(VALUE(MID(D14,9,2))<10,"0"&VALUE(MID(D14,9,2)),VALUE(MID(D14,9,2)))&"-"&VALUE(MID(D14,11,2))),"") -> 45658 | H14: KARANGSOKO | I14: RT 16 RW 4 | J14: 62 | K14: 6.2 | L14: 38 | W14: 2900 | X14: 50 | AA14: Negatif | AB14: Ya | AC14: Ya | AG14: =IF(D!BE10="","",IF(D!BE10<-3,"Gizi Buruk",IF(AND(D!BE10>=-3,D!BE10<-2),"Gizi Kurang",IF(AND(D!BE10>=-2,D!BE10<2),"Gizi Normal","Gizi Lebih")))) -> Gizi Buruk | AH14: =IF(D!BH10="","",IF(D!BH10<-3,"Sangat Pendek",IF(AND(D!BH10>=-3,D!BH10<-2),"Pendek",IF(AND(D!CB172>=-2,D!BH10<2),"Normal","Jangkung")))) -> Normal | AI14: =IF(D!BK10="","",(IF(D!BK10<-3,"Sangat Kurus",IF(AND(D!BK10>=-3,D!BK10<-2),"Kurus",IF(AND(D!BK10>=-2,D!BK10<2),"Normal","Gemuk"))))) -> Sangat Kurus | AJ14: =IF(D!BN10="","",IF(D!BN10<-3,"Sgt Kurus",IF(AND(D!BN10>=-3,D!BN10<-2),"Kurus",IF(AND(D!BN10>=-2,D!BN10<1),"Normal",IF(AND(D!BN10>=1,D!BN10<2),"Gemuk","Obesitas"))))) -> Sgt Kurus
B15: 2 | C15: 45780 | D15: 3503112803250002 | E15: Brahim Akio Pradana | F15: =IFERROR(DATEDIF(G15,C15,"Y") & " thn. " &IF(DATEDIF(G15,C15,"YM")<10,"0"&DATEDIF(G15,C15,"YM"),DATEDIF(G15,C15,"YM")) & " bln.","") -> 0 thn. 01 bln. | G15: =IFERROR(ABS(IF(VALUE(MID(D15,7,2))>40,VALUE(MID(D15,7,2))-40,VALUE(MID(D15,7,2)))&"-"&IF(VALUE(MID(D15,9,2))<10,"0"&VALUE(MID(D15,9,2)),VALUE(MID(D15,9,2)))&"-"&VALUE(MID(D15,11,2))),"") -> 45744 | H15: KARANGSOKO | I15: RT 18 | J15: 57 | K15: 5.6 | L15: 36 | W15: 3400 | X15: 51 | AA15: Negatif | AB15: Ya | AC15: Ya | AG15: =IF(D!BE11="","",IF(D!BE11<-3,"Gizi Buruk",IF(AND(D!BE11>=-3,D!BE11<-2),"Gizi Kurang",IF(AND(D!BE11>=-2,D!BE11<2),"Gizi Normal","Gizi Lebih")))) -> Gizi Normal | AH15: =IF(D!BH11="","",IF(D!BH11<-3,"Sangat Pendek",IF(AND(D!BH11>=-3,D!BH11<-2),"Pendek",IF(AND(D!CB173>=-2,D!BH11<2),"Normal","Jangkung")))) -> Normal | AI15: =IF(D!BK11="","",(IF(D!BK11<-3,"Sangat Kurus",IF(AND(D!BK11>=-3,D!BK11<-2),"Kurus",IF(AND(D!BK11>=-2,D!BK11<2),"Normal","Gemuk"))))) -> Normal | AJ15: =IF(D!BN11="","",IF(D!BN11<-3,"Sgt Kurus",IF(AND(D!BN11>=-3,D!BN11<-2),"Kurus",IF(AND(D!BN11>=-2,D!BN11<1),"Normal",IF(AND(D!BN11>=1,D!BN11<2),"Gemuk","Obesitas"))))) -> Gemuk
B16: 3 | C16: 45782 | D16: 3503114601250001 | E16: ADIVA MUMTAZA | F16: =IFERROR(DATEDIF(G16,C16,"Y") & " thn. " &IF(DATEDIF(G16,C16,"YM")<10,"0"&DATEDIF(G16,C16,"YM"),DATEDIF(G16,C16,"YM")) & " bln.","") -> 0 thn. 03 bln. | G16: =IFERROR(ABS(IF(VALUE(MID(D16,7,2))>40,VALUE(MID(D16,7,2))-40,VALUE(MID(D16,7,2)))&"-"&IF(VALUE(MID(D16,9,2))<10,"0"&VALUE(MID(D16,9,2)),VALUE(MID(D16,9,2)))&"-"&VALUE(MID(D16,11,2))),"") -> 45663 | H16: KARANGSOKO | I16: RT 5 RW 1 | J16: 61 | K16: 7 | L16: 0 | W16: 3200 | X16: 48 | AA16: Negatif | AB16: Ya | AC16: Ya | AG16: =IF(D!BE12="","",IF(D!BE12<-3,"Gizi Buruk",IF(AND(D!BE12>=-3,D!BE12<-2),"Gizi Kurang",IF(AND(D!BE12>=-2,D!BE12<2),"Gizi Normal","Gizi Lebih")))) -> Gizi Lebih | AH16: =IF(D!BH12="","",IF(D!BH12<-3,"Sangat Pendek",IF(AND(D!BH12>=-3,D!BH12<-2),"Pendek",IF(AND(D!CB174>=-2,D!BH12<2),"Normal","Jangkung")))) -> Normal | AI16: =IF(D!BK12="","",(IF(D!BK12<-3,"Sangat Kurus",IF(AND(D!BK12>=-3,D!BK12<-2),"Kurus",IF(AND(D!BK12>=-2,D!BK12<2),"Normal","Gemuk"))))) -> Gemuk | AJ16: =IF(D!BN12="","",IF(D!BN12<-3,"Sgt Kurus",IF(AND(D!BN12>=-3,D!BN12<-2),"Kurus",IF(AND(D!BN12>=-2,D!BN12<1),"Normal",IF(AND(D!BN12>=1,D!BN12<2),"Gemuk","Obesitas"))))) -> Gemuk
B17: 4 | C17: 45787 | D17: 3503114504250002 | E17: DANBAY | F17: =IFERROR(DATEDIF(G17,C17,"Y") & " thn. " &IF(DATEDIF(G17,C17,"YM")<10,"0"&DATEDIF(G17,C17,"YM"),DATEDIF(G17,C17,"YM")) & " bln.","") -> 0 thn. 01 bln. | G17: =IFERROR(ABS(IF(VALUE(MID(D17,7,2))>40,VALUE(MID(D17,7,2))-40,VALUE(MID(D17,7,2)))&"-"&IF(VALUE(MID(D17,9,2))<10,"0"&VALUE(MID(D17,9,2)),VALUE(MID(D17,9,2)))&"-"&VALUE(MID(D17,11,2))),"") -> 45752 | H17: KARANGSOKO | I17: rt 21 rw 5 | J17: 50 | K17: 4.8 | L17: 0 | W17: 4500 | X17: 50 | AA17: Negatif | AB17: Ya | AC17: Ya | AG17: =IF(D!BE13="","",IF(D!BE13<-3,"Gizi Buruk",IF(AND(D!BE13>=-3,D!BE13<-2),"Gizi Kurang",IF(AND(D!BE13>=-2,D!BE13<2),"Gizi Normal","Gizi Lebih")))) -> Gizi Normal | AH17: =IF(D!BH13="","",IF(D!BH13<-3,"Sangat Pendek",IF(AND(D!BH13>=-3,D!BH13<-2),"Pendek",IF(AND(D!CB175>=-2,D!BH13<2),"Normal","Jangkung")))) -> Normal | AI17: =IF(D!BK13="","",(IF(D!BK13<-3,"Sangat Kurus",IF(AND(D!BK13>=-3,D!BK13<-2),"Kurus",IF(AND(D!BK13>=-2,D!BK13<2),"Normal","Gemuk"))))) -> Gemuk | AJ17: =IF(D!BN13="","",IF(D!BN13<-3,"Sgt Kurus",IF(AND(D!BN13>=-3,D!BN13<-2),"Kurus",IF(AND(D!BN13>=-2,D!BN13<1),"Normal",IF(AND(D!BN13>=1,D!BN13<2),"Gemuk","Obesitas"))))) -> Obesitas
B18: 5 | C18: 45798 | D18: 350311530325000x | E18: Kayla Anindia Putri | F18: =IFERROR(DATEDIF(G18,C18,"Y") & " thn. " &IF(DATEDIF(G18,C18,"YM")<10,"0"&DATEDIF(G18,C18,"YM"),DATEDIF(G18,C18,"YM")) & " bln.","") -> 0 thn. 02 bln. | G18: =IFERROR(ABS(IF(VALUE(MID(D18,7,2))>40,VALUE(MID(D18,7,2))-40,VALUE(MID(D18,7,2)))&"-"&IF(VALUE(MID(D18,9,2))<10,"0"&VALUE(MID(D18,9,2)),VALUE(MID(D18,9,2)))&"-"&VALUE(MID(D18,11,2))),"") -> 45729 | H18: karangsoko | I18: rt 06/01 | J18: 52 | K18: 5 | L18: 37 | W18: 2900 | X18: 48 | AA18: Negatif | AB18: Ya | AC18: Ya | AG18: =IF(D!BE14="","",IF(D!BE14<-3,"Gizi Buruk",IF(AND(D!BE14>=-3,D!BE14<-2),"Gizi Kurang",IF(AND(D!BE14>=-2,D!BE14<2),"Gizi Normal","Gizi Lebih")))) -> Gizi Normal | AH18: =IF(D!BH14="","",IF(D!BH14<-3,"Sangat Pendek",IF(AND(D!BH14>=-3,D!BH14<-2),"Pendek",IF(AND(D!CB176>=-2,D!BH14<2),"Normal","Jangkung")))) -> Normal | AI18: =IF(D!BK14="","",(IF(D!BK14<-3,"Sangat Kurus",IF(AND(D!BK14>=-3,D!BK14<-2),"Kurus",IF(AND(D!BK14>=-2,D!BK14<2),"Normal","Gemuk"))))) -> Gemuk | AJ18: =IF(D!BN14="","",IF(D!BN14<-3,"Sgt Kurus",IF(AND(D!BN14>=-3,D!BN14<-2),"Kurus",IF(AND(D!BN14>=-2,D!BN14<1),"Normal",IF(AND(D!BN14>=1,D!BN14<2),"Gemuk","Obesitas"))))) -> Gemuk
B19: 6 | C19: 45798 | D19: 350311700125000x | E19: Rili Aynazwa Singadji | F19: =IFERROR(DATEDIF(G19,C19,"Y") & " thn. " &IF(DATEDIF(G19,C19,"YM")<10,"0"&DATEDIF(G19,C19,"YM"),DATEDIF(G19,C19,"YM")) & " bln.","") -> 0 thn. 03 bln. | G19: =IFERROR(ABS(IF(VALUE(MID(D19,7,2))>40,VALUE(MID(D19,7,2))-40,VALUE(MID(D19,7,2)))&"-"&IF(VALUE(MID(D19,9,2))<10,"0"&VALUE(MID(D19,9,2)),VALUE(MID(D19,9,2)))&"-"&VALUE(MID(D19,11,2))),"") -> 45687 | H19: KARANGSOKO | I19: rt 24 | J19: 56 | K19: 6.4 | L19: 37 | W19: 3300 | X19: 48 | AA19: Negatif | AB19: Ya | AC19: Ya | AG19: =IF(D!BE15="","",IF(D!BE15<-3,"Gizi Buruk",IF(AND(D!BE15>=-3,D!BE15<-2),"Gizi Kurang",IF(AND(D!BE15>=-2,D!BE15<2),"Gizi Normal","Gizi Lebih")))) -> Gizi Normal | AH19: =IF(D!BH15="","",IF(D!BH15<-3,"Sangat Pendek",IF(AND(D!BH15>=-3,D!BH15<-2),"Pendek",IF(AND(D!CB177>=-2,D!BH15<2),"Normal","Jangkung")))) -> Normal | AI19: =IF(D!BK15="","",(IF(D!BK15<-3,"Sangat Kurus",IF(AND(D!BK15>=-3,D!BK15<-2),"Kurus",IF(AND(D!BK15>=-2,D!BK15<2),"Normal","Gemuk"))))) -> Gemuk | AJ19: =IF(D!BN15="","",IF(D!BN15<-3,"Sgt Kurus",IF(AND(D!BN15>=-3,D!BN15<-2),"Kurus",IF(AND(D!BN15>=-2,D!BN15<1),"Normal",IF(AND(D!BN15>=1,D!BN15<2),"Gemuk","Obesitas"))))) -> Obesitas
B20: 7 | C20: 45798 | D20: 3503060102250001 | E20: ELVANO FARIZQY ALMUBAROG | F20: =IFERROR(DATEDIF(G20,C20,"Y") & " thn. " &IF(DATEDIF(G20,C20,"YM")<10,"0"&DATEDIF(G20,C20,"YM"),DATEDIF(G20,C20,"YM")) & " bln.","") -> 0 thn. 03 bln. | G20: =IFERROR(ABS(IF(VALUE(MID(D20,7,2))>40,VALUE(MID(D20,7,2))-40,VALUE(MID(D20,7,2)))&"-"&IF(VALUE(MID(D20,9,2))<10,"0"&VALUE(MID(D20,9,2)),VALUE(MID(D20,9,2)))&"-"&VALUE(MID(D20,11,2))),"") -> 45689 | H20: KARANGSOKO | I20: RT 03 RW 01 | J20: 58 | K20: 6.1 | L20: 0 | W20: 2900 | X20: 50 | AA20: Negatif | AB20: Ya | AC20: Ya | AG20: =IF(D!BE16="","",IF(D!BE16<-3,"Gizi Buruk",IF(AND(D!BE16>=-3,D!BE16<-2),"Gizi Kurang",IF(AND(D!BE16>=-2,D!BE16<2),"Gizi Normal","Gizi Lebih")))) -> Gizi Buruk | AH20: =IF(D!BH16="","",IF(D!BH16<-3,"Sangat Pendek",IF(AND(D!BH16>=-3,D!BH16<-2),"Pendek",IF(AND(D!CB178>=-2,D!BH16<2),"Normal","Jangkung")))) -> Normal | AI20: =IF(D!BK16="","",(IF(D!BK16<-3,"Sangat Kurus",IF(AND(D!BK16>=-3,D!BK16<-2),"Kurus",IF(AND(D!BK16>=-2,D!BK16<2),"Normal","Gemuk"))))) -> Sangat Kurus | AJ20: =IF(D!BN16="","",IF(D!BN16<-3,"Sgt Kurus",IF(AND(D!BN16>=-3,D!BN16<-2),"Kurus",IF(AND(D!BN16>=-2,D!BN16<1),"Normal",IF(AND(D!BN16>=1,D!BN16<2),"Gemuk","Obesitas"))))) -> Sgt Kurus
B21: 8 | C21: 45798 | D21: 3503110302250001 | E21: ELZEANDRA DIERO ARGATSANI | F21: =IFERROR(DATEDIF(G21,C21,"Y") & " thn. " &IF(DATEDIF(G21,C21,"YM")<10,"0"&DATEDIF(G21,C21,"YM"),DATEDIF(G21,C21,"YM")) & " bln.","") -> 0 thn. 03 bln. | G21: =IFERROR(ABS(IF(VALUE(MID(D21,7,2))>40,VALUE(MID(D21,7,2))-40,VALUE(MID(D21,7,2)))&"-"&IF(VALUE(MID(D21,9,2))<10,"0"&VALUE(MID(D21,9,2)),VALUE(MID(D21,9,2)))&"-"&VALUE(MID(D21,11,2))),"") -> 45691 | H21: KARANGSOKO | I21: RT 3 RW 1 | J21: 63 | K21: 7.1 | L21: 0 | W21: 3500 | X21: 51 | AA21: Negatif | AB21: Ya | AC21: Ya | AG21: =IF(D!BE17="","",IF(D!BE17<-3,"Gizi Buruk",IF(AND(D!BE17>=-3,D!BE17<-2),"Gizi Kurang",IF(AND(D!BE17>=-2,D!BE17<2),"Gizi Normal","Gizi Lebih")))) -> Gizi Buruk | AH21: =IF(D!BH17="","",IF(D!BH17<-3,"Sangat Pendek",IF(AND(D!BH17>=-3,D!BH17<-2),"Pendek",IF(AND(D!CB179>=-2,D!BH17<2),"Normal","Jangkung")))) -> Normal | AI21: =IF(D!BK17="","",(IF(D!BK17<-3,"Sangat Kurus",IF(AND(D!BK17>=-3,D!BK17<-2),"Kurus",IF(AND(D!BK17>=-2,D!BK17<2),"Normal","Gemuk"))))) -> Sangat Kurus | AJ21: =IF(D!BN17="","",IF(D!BN17<-3,"Sgt Kurus",IF(AND(D!BN17>=-3,D!BN17<-2),"Kurus",IF(AND(D!BN17>=-2,D!BN17<1),"Normal",IF(AND(D!BN17>=1,D!BN17<2),"Gemuk","Obesitas"))))) -> Sgt Kurus
B22: 9 | C22: 45801 | D22: 350311510525000x | E22: ALZENA HUMAIRA MAHESWARI BACHTIAR | F22: =IFERROR(DATEDIF(G22,C22,"Y") & " thn. " &IF(DATEDIF(G22,C22,"YM")<10,"0"&DATEDIF(G22,C22,"YM"),DATEDIF(G22,C22,"YM")) & " bln.","") -> 0 thn. 00 bln. | G22: =IFERROR(ABS(IF(VALUE(MID(D22,7,2))>40,VALUE(MID(D22,7,2))-40,VALUE(MID(D22,7,2)))&"-"&IF(VALUE(MID(D22,9,2))<10,"0"&VALUE(MID(D22,9,2)),VALUE(MID(D22,9,2)))&"-"&VALUE(MID(D22,11,2))),"") -> 45788 | H22: KARANGSOKO | I22: rt 18 rw 4 | J22: 51 | K22: 3.1 | L22: 0 | W22: 2900 | X22: 49 | AA22: Negatif | AB22: Ya | AC22: Ya | AG22: =IF(D!BE18="","",IF(D!BE18<-3,"Gizi Buruk",IF(AND(D!BE18>=-3,D!BE18<-2),"Gizi Kurang",IF(AND(D!BE18>=-2,D!BE18<2),"Gizi Normal","Gizi Lebih")))) -> Gizi Buruk | AH22: =IF(D!BH18="","",IF(D!BH18<-3,"Sangat Pendek",IF(AND(D!BH18>=-3,D!BH18<-2),"Pendek",IF(AND(D!CB180>=-2,D!BH18<2),"Normal","Jangkung")))) -> Normal | AI22: =IF(D!BK18="","",(IF(D!BK18<-3,"Sangat Kurus",IF(AND(D!BK18>=-3,D!BK18<-2),"Kurus",IF(AND(D!BK18>=-2,D!BK18<2),"Normal","Gemuk"))))) -> Sangat Kurus | AJ22: =IF(D!BN18="","",IF(D!BN18<-3,"Sgt Kurus",IF(AND(D!BN18>=-3,D!BN18<-2),"Kurus",IF(AND(D!BN18>=-2,D!BN18<1),"Normal",IF(AND(D!BN18>=1,D!BN18<2),"Gemuk","Obesitas"))))) -> Sgt Kurus
B23: 10 | C23: 45801 | D23: 9271024604200001 | E23: ARSHIYLA SHANUM PUTRI SANTO | F23: =IFERROR(DATEDIF(G23,C23,"Y") & " thn. " &IF(DATEDIF(G23,C23,"YM")<10,"0"&DATEDIF(G23,C23,"YM"),DATEDIF(G23,C23,"YM")) & " bln.","") -> 5 thn. 01 bln. | G23: =IFERROR(ABS(IF(VALUE(MID(D23,7,2))>40,VALUE(MID(D23,7,2))-40,VALUE(MID(D23,7,2)))&"-"&IF(VALUE(MID(D23,9,2))<10,"0"&VALUE(MID(D23,9,2)),VALUE(MID(D23,9,2)))&"-"&VALUE(MID(D23,11,2))),"") -> 43927 | H23: KARANGSOKO | I23: RT 24 | J23: 109 | K23: 18 | L23: 0 | M23: Tidak | O23: Non disabilitas | Q23: Tidak | R23: Tidak | S23: Tidak | U23: Tidak | AG23: =IF(D!BE19="","",IF(D!BE19<-3,"Gizi Buruk",IF(AND(D!BE19>=-3,D!BE19<-2),"Gizi Kurang",IF(AND(D!BE19>=-2,D!BE19<2),"Gizi Normal","Gizi Lebih")))) -> Gizi Normal | AH23: =IF(D!BH19="","",IF(D!BH19<-3,"Sangat Pendek",IF(AND(D!BH19>=-3,D!BH19<-2),"Pendek",IF(AND(D!CB181>=-2,D!BH19<2),"Normal","Jangkung")))) -> Normal | AI23: =IF(D!BK19="","",(IF(D!BK19<-3,"Sangat Kurus",IF(AND(D!BK19>=-3,D!BK19<-2),"Kurus",IF(AND(D!BK19>=-2,D!BK19<2),"Normal","Gemuk"))))) -> Normal | AJ23: =IF(D!BN19="","",IF(D!BN19<-3,"Sgt Kurus",IF(AND(D!BN19>=-3,D!BN19<-2),"Kurus",IF(AND(D!BN19>=-2,D!BN19<1),"Normal",IF(AND(D!BN19>=1,D!BN19<2),"Gemuk","Obesitas"))))) -> Normal | AP23: Sesuai usia | AS23: Ya | AU23: Tidak | AX23: Tidak
B24: 11 | C24: 45801 | D24: 3503114210210001 | E24: AURETA YUMNA OKTARIA | F24: =IFERROR(DATEDIF(G24,C24,"Y") & " thn. " &IF(DATEDIF(G24,C24,"YM")<10,"0"&DATEDIF(G24,C24,"YM"),DATEDIF(G24,C24,"YM")) & " bln.","") -> 3 thn. 07 bln. | G24: =IFERROR(ABS(IF(VALUE(MID(D24,7,2))>40,VALUE(MID(D24,7,2))-40,VALUE(MID(D24,7,2)))&"-"&IF(VALUE(MID(D24,9,2))<10,"0"&VALUE(MID(D24,9,2)),VALUE(MID(D24,9,2)))&"-"&VALUE(MID(D24,11,2))),"") -> 44471 | H24: KARANGSOKO | I24: rt 24 / 05 | J24: 92 | K24: 12.8 | L24: 0 | M24: Tidak | O24: Non disabilitas | Q24: Tidak | R24: Tidak | S24: Tidak | U24: Tidak | AG24: =IF(D!BE20="","",IF(D!BE20<-3,"Gizi Buruk",IF(AND(D!BE20>=-3,D!BE20<-2),"Gizi Kurang",IF(AND(D!BE20>=-2,D!BE20<2),"Gizi Normal","Gizi Lebih")))) -> Gizi Buruk | AH24: =IF(D!BH20="","",IF(D!BH20<-3,"Sangat Pendek",IF(AND(D!BH20>=-3,D!BH20<-2),"Pendek",IF(AND(D!CB182>=-2,D!BH20<2),"Normal","Jangkung")))) -> Normal | AI24: =IF(D!BK20="","",(IF(D!BK20<-3,"Sangat Kurus",IF(AND(D!BK20>=-3,D!BK20<-2),"Kurus",IF(AND(D!BK20>=-2,D!BK20<2),"Normal","Gemuk"))))) -> Sangat Kurus | AJ24: =IF(D!BN20="","",IF(D!BN20<-3,"Sgt Kurus",IF(AND(D!BN20>=-3,D!BN20<-2),"Kurus",IF(AND(D!BN20>=-2,D!BN20<1),"Normal",IF(AND(D!BN20>=1,D!BN20<2),"Gemuk","Obesitas"))))) -> Sgt Kurus | AP24: Sesuai usia | AS24: Ya | AU24: Tidak | AX24: Tidak
B25: 12 | C25: 45801 | D25: 3503116705220001 | E25: RAISYA ZAKIYA NURFHADILAH | F25: =IFERROR(DATEDIF(G25,C25,"Y") & " thn. " &IF(DATEDIF(G25,C25,"YM")<10,"0"&DATEDIF(G25,C25,"YM"),DATEDIF(G25,C25,"YM")) & " bln.","") -> 2 thn. 11 bln. | G25: =IFERROR(ABS(IF(VALUE(MID(D25,7,2))>40,VALUE(MID(D25,7,2))-40,VALUE(MID(D25,7,2)))&"-"&IF(VALUE(MID(D25,9,2))<10,"0"&VALUE(MID(D25,9,2)),VALUE(MID(D25,9,2)))&"-"&VALUE(MID(D25,11,2))),"") -> 44708 | H25: KARANGSOKO | I25: rt 29 | J25: 91 | K25: 12.1 | L25: 0 | O25: Non disabilitas | P25: Tidak | U25: Tidak | AG25: =IF(D!BE21="","",IF(D!BE21<-3,"Gizi Buruk",IF(AND(D!BE21>=-3,D!BE21<-2),"Gizi Kurang",IF(AND(D!BE21>=-2,D!BE21<2),"Gizi Normal","Gizi Lebih")))) -> Gizi Buruk | AH25: =IF(D!BH21="","",IF(D!BH21<-3,"Sangat Pendek",IF(AND(D!BH21>=-3,D!BH21<-2),"Pendek",IF(AND(D!CB183>=-2,D!BH21<2),"Normal","Jangkung")))) -> Normal | AI25: =IF(D!BK21="","",(IF(D!BK21<-3,"Sangat Kurus",IF(AND(D!BK21>=-3,D!BK21<-2),"Kurus",IF(AND(D!BK21>=-2,D!BK21<2),"Normal","Gemuk"))))) -> Sangat Kurus | AJ25: =IF(D!BN21="","",IF(D!BN21<-3,"Sgt Kurus",IF(AND(D!BN21>=-3,D!BN21<-2),"Kurus",IF(AND(D!BN21>=-2,D!BN21<1),"Normal",IF(AND(D!BN21>=1,D!BN21<2),"Gemuk","Obesitas"))))) -> Sgt Kurus | AP25: Sesuai usia | AS25: Tidak
B26: 13 | C26: 45801 | D26: 3503116411220002 | E26: ANDARA CHEISYA YUKI PRASETYO | F26: =IFERROR(DATEDIF(G26,C26,"Y") & " thn. " &IF(DATEDIF(G26,C26,"YM")<10,"0"&DATEDIF(G26,C26,"YM"),DATEDIF(G26,C26,"YM")) & " bln.","") -> 2 thn. 06 bln. | G26: =IFERROR(ABS(IF(VALUE(MID(D26,7,2))>40,VALUE(MID(D26,7,2))-40,VALUE(MID(D26,7,2)))&"-"&IF(VALUE(MID(D26,9,2))<10,"0"&VALUE(MID(D26,9,2)),VALUE(MID(D26,9,2)))&"-"&VALUE(MID(D26,11,2))),"") -> 44889 | H26: KARANGSOKO | I26: rt 29 rw 05 | J26: 94 | K26: 14.5 | L26: 0 | O26: Non disabilitas | P26: Tidak | U26: Tidak | AG26: =IF(D!BE22="","",IF(D!BE22<-3,"Gizi Buruk",IF(AND(D!BE22>=-3,D!BE22<-2),"Gizi Kurang",IF(AND(D!BE22>=-2,D!BE22<2),"Gizi Normal","Gizi Lebih")))) -> Gizi Buruk | AH26: =IF(D!BH22="","",IF(D!BH22<-3,"Sangat Pendek",IF(AND(D!BH22>=-3,D!BH22<-2),"Pendek",IF(AND(D!CB184>=-2,D!BH22<2),"Normal","Jangkung")))) -> Normal | AI26: =IF(D!BK22="","",(IF(D!BK22<-3,"Sangat Kurus",IF(AND(D!BK22>=-3,D!BK22<-2),"Kurus",IF(AND(D!BK22>=-2,D!BK22<2),"Normal","Gemuk"))))) -> Sangat Kurus | AJ26: =IF(D!BN22="","",IF(D!BN22<-3,"Sgt Kurus",IF(AND(D!BN22>=-3,D!BN22<-2),"Kurus",IF(AND(D!BN22>=-2,D!BN22<1),"Normal",IF(AND(D!BN22>=1,D!BN22<2),"Gemuk","Obesitas"))))) -> Sgt Kurus | AP26: Sesuai usia | AS26: Tidak
B27: 14 | C27: 45801 | D27: 3503115903240002 | E27: FAZLUNA MAHALA CANDARINI | F27: =IFERROR(DATEDIF(G27,C27,"Y") & " thn. " &IF(DATEDIF(G27,C27,"YM")<10,"0"&DATEDIF(G27,C27,"YM"),DATEDIF(G27,C27,"YM")) & " bln.","") -> 1 thn. 02 bln. | G27: =IFERROR(ABS(IF(VALUE(MID(D27,7,2))>40,VALUE(MID(D27,7,2))-40,VALUE(MID(D27,7,2)))&"-"&IF(VALUE(MID(D27,9,2))<10,"0"&VALUE(MID(D27,9,2)),VALUE(MID(D27,9,2)))&"-"&VALUE(MID(D27,11,2))),"") -> 45370 | H27: KARANGSOKO | I27: rt 24 | J27: 72 | K27: 9.2 | L27: 0 | O27: Non disabilitas | U27: Tidak | AG27: =IF(D!BE23="","",IF(D!BE23<-3,"Gizi Buruk",IF(AND(D!BE23>=-3,D!BE23<-2),"Gizi Kurang",IF(AND(D!BE23>=-2,D!BE23<2),"Gizi Normal","Gizi Lebih")))) -> Gizi Buruk | AH27: =IF(D!BH23="","",IF(D!BH23<-3,"Sangat Pendek",IF(AND(D!BH23>=-3,D!BH23<-2),"Pendek",IF(AND(D!CB185>=-2,D!BH23<2),"Normal","Jangkung")))) -> Normal | AI27: =IF(D!BK23="","",(IF(D!BK23<-3,"Sangat Kurus",IF(AND(D!BK23>=-3,D!BK23<-2),"Kurus",IF(AND(D!BK23>=-2,D!BK23<2),"Normal","Gemuk"))))) -> Sangat Kurus | AJ27: =IF(D!BN23="","",IF(D!BN23<-3,"Sgt Kurus",IF(AND(D!BN23>=-3,D!BN23<-2),"Kurus",IF(AND(D!BN23>=-2,D!BN23<1),"Normal",IF(AND(D!BN23>=1,D!BN23<2),"Gemuk","Obesitas"))))) -> Sgt Kurus | AL27: Y
B28: 15 | C28: 45803 | D28: 350311510525000x | E28: Muhammad Faizar Alvarendra | F28: =IFERROR(DATEDIF(G28,C28,"Y") & " thn. " &IF(DATEDIF(G28,C28,"YM")<10,"0"&DATEDIF(G28,C28,"YM"),DATEDIF(G28,C28,"YM")) & " bln.","") -> 0 thn. 00 bln. | G28: =IFERROR(ABS(IF(VALUE(MID(D28,7,2))>40,VALUE(MID(D28,7,2))-40,VALUE(MID(D28,7,2)))&"-"&IF(VALUE(MID(D28,9,2))<10,"0"&VALUE(MID(D28,9,2)),VALUE(MID(D28,9,2)))&"-"&VALUE(MID(D28,11,2))),"") -> 45788 | H28: KARANGSOKO | I28: rt 29 | J28: 92 | K28: 12.8 | L28: 0 | O28: Non disabilitas | U28: Tidak | AG28: =IF(D!BE24="","",IF(D!BE24<-3,"Gizi Buruk",IF(AND(D!BE24>=-3,D!BE24<-2),"Gizi Kurang",IF(AND(D!BE24>=-2,D!BE24<2),"Gizi Normal","Gizi Lebih")))) -> Gizi Buruk | AH28: =IF(D!BH24="","",IF(D!BH24<-3,"Sangat Pendek",IF(AND(D!BH24>=-3,D!BH24<-2),"Pendek",IF(AND(D!CB186>=-2,D!BH24<2),"Normal","Jangkung")))) -> Jangkung | AI28: =IF(D!BK24="","",(IF(D!BK24<-3,"Sangat Kurus",IF(AND(D!BK24>=-3,D!BK24<-2),"Kurus",IF(AND(D!BK24>=-2,D!BK24<2),"Normal","Gemuk"))))) -> Sangat Kurus | AJ28: =IF(D!BN24="","",IF(D!BN24<-3,"Sgt Kurus",IF(AND(D!BN24>=-3,D!BN24<-2),"Kurus",IF(AND(D!BN24>=-2,D!BN24<1),"Normal",IF(AND(D!BN24>=1,D!BN24<2),"Gemuk","Obesitas"))))) -> Sgt Kurus | AL28: Y | AS28: Ya
B29: 16 | C29: 45803 | D29: 3503110504220001 | E29: ELGIO DANIYAL ALKHALIFI | F29: =IFERROR(DATEDIF(G29,C29,"Y") & " thn. " &IF(DATEDIF(G29,C29,"YM")<10,"0"&DATEDIF(G29,C29,"YM"),DATEDIF(G29,C29,"YM")) & " bln.","") -> 3 thn. 01 bln. | G29: =IFERROR(ABS(IF(VALUE(MID(D29,7,2))>40,VALUE(MID(D29,7,2))-40,VALUE(MID(D29,7,2)))&"-"&IF(VALUE(MID(D29,9,2))<10,"0"&VALUE(MID(D29,9,2)),VALUE(MID(D29,9,2)))&"-"&VALUE(MID(D29,11,2))),"") -> 44656 | H29: KARANGSOKO | I29: rt 29 | J29: 87 | K29: 10.7 | L29: 0 | M29: Tidak | O29: Non disabilitas | Q29: Tidak | R29: Tidak | S29: Tidak | U29: Tidak | AG29: =IF(D!BE25="","",IF(D!BE25<-3,"Gizi Buruk",IF(AND(D!BE25>=-3,D!BE25<-2),"Gizi Kurang",IF(AND(D!BE25>=-2,D!BE25<2),"Gizi Normal","Gizi Lebih")))) -> Gizi Buruk | AH29: =IF(D!BH25="","",IF(D!BH25<-3,"Sangat Pendek",IF(AND(D!BH25>=-3,D!BH25<-2),"Pendek",IF(AND(D!CB187>=-2,D!BH25<2),"Normal","Jangkung")))) -> Pendek | AI29: =IF(D!BK25="","",(IF(D!BK25<-3,"Sangat Kurus",IF(AND(D!BK25>=-3,D!BK25<-2),"Kurus",IF(AND(D!BK25>=-2,D!BK25<2),"Normal","Gemuk"))))) -> Sangat Kurus | AJ29: =IF(D!BN25="","",IF(D!BN25<-3,"Sgt Kurus",IF(AND(D!BN25>=-3,D!BN25<-2),"Kurus",IF(AND(D!BN25>=-2,D!BN25<1),"Normal",IF(AND(D!BN25>=1,D!BN25<2),"Gemuk","Obesitas"))))) -> Sgt Kurus | AP29: Sesuai usia | AS29: Tidak | AU29: Tidak | AX29: Tidak
B30: 17 | C30: 45803 | D30: 350311060125000x | E30: andrean azzam alfarizqi | F30: =IFERROR(DATEDIF(G30,C30,"Y") & " thn. " &IF(DATEDIF(G30,C30,"YM")<10,"0"&DATEDIF(G30,C30,"YM"),DATEDIF(G30,C30,"YM")) & " bln.","") -> 0 thn. 04 bln. | G30: =IFERROR(ABS(IF(VALUE(MID(D30,7,2))>40,VALUE(MID(D30,7,2))-40,VALUE(MID(D30,7,2)))&"-"&IF(VALUE(MID(D30,9,2))<10,"0"&VALUE(MID(D30,9,2)),VALUE(MID(D30,9,2)))&"-"&VALUE(MID(D30,11,2))),"") -> 45663 | H30: KARANGSOKO | I30: rt 24 | J30: 96 | K30: 14.6 | L30: 0 | M30: Tidak | O30: Non disabilitas | Q30: Tidak | R30: Tidak | S30: Tidak | U30: Tidak | AG30: =IF(D!BE26="","",IF(D!BE26<-3,"Gizi Buruk",IF(AND(D!BE26>=-3,D!BE26<-2),"Gizi Kurang",IF(AND(D!BE26>=-2,D!BE26<2),"Gizi Normal","Gizi Lebih")))) -> Gizi Buruk | AH30: =IF(D!BH26="","",IF(D!BH26<-3,"Sangat Pendek",IF(AND(D!BH26>=-3,D!BH26<-2),"Pendek",IF(AND(D!CB188>=-2,D!BH26<2),"Normal","Jangkung")))) -> Jangkung | AI30: =IF(D!BK26="","",(IF(D!BK26<-3,"Sangat Kurus",IF(AND(D!BK26>=-3,D!BK26<-2),"Kurus",IF(AND(D!BK26>=-2,D!BK26<2),"Normal","Gemuk"))))) -> Sangat Kurus | AJ30: =IF(D!BN26="","",IF(D!BN26<-3,"Sgt Kurus",IF(AND(D!BN26>=-3,D!BN26<-2),"Kurus",IF(AND(D!BN26>=-2,D!BN26<1),"Normal",IF(AND(D!BN26>=1,D!BN26<2),"Gemuk","Obesitas"))))) -> Sgt Kurus | AP30: Sesuai usia | AS30: Tidak | AU30: Tidak | AX30: Tidak
B31: 18 | C31: 45803 | D31: 3503111112200001 | E31: ARSHAKI RAZIQ ZUHRI | F31: =IFERROR(DATEDIF(G31,C31,"Y") & " thn. " &IF(DATEDIF(G31,C31,"YM")<10,"0"&DATEDIF(G31,C31,"YM"),DATEDIF(G31,C31,"YM")) & " bln.","") -> 4 thn. 05 bln. | G31: =IFERROR(ABS(IF(VALUE(MID(D31,7,2))>40,VALUE(MID(D31,7,2))-40,VALUE(MID(D31,7,2)))&"-"&IF(VALUE(MID(D31,9,2))<10,"0"&VALUE(MID(D31,9,2)),VALUE(MID(D31,9,2)))&"-"&VALUE(MID(D31,11,2))),"") -> 44176 | H31: KARANGSOKO | I31: RT 24 RW 5 | J31: 110 | K31: 17.4 | L31: 0 | M31: Tidak | O31: Non disabilitas | Q31: Tidak | R31: Tidak | S31: Tidak | U31: Tidak | AG31: =IF(D!BE27="","",IF(D!BE27<-3,"Gizi Buruk",IF(AND(D!BE27>=-3,D!BE27<-2),"Gizi Kurang",IF(AND(D!BE27>=-2,D!BE27<2),"Gizi Normal","Gizi Lebih")))) -> Gizi Buruk | AH31: =IF(D!BH27="","",IF(D!BH27<-3,"Sangat Pendek",IF(AND(D!BH27>=-3,D!BH27<-2),"Pendek",IF(AND(D!CB189>=-2,D!BH27<2),"Normal","Jangkung")))) -> Normal | AI31: =IF(D!BK27="","",(IF(D!BK27<-3,"Sangat Kurus",IF(AND(D!BK27>=-3,D!BK27<-2),"Kurus",IF(AND(D!BK27>=-2,D!BK27<2),"Normal","Gemuk"))))) -> Sangat Kurus | AJ31: =IF(D!BN27="","",IF(D!BN27<-3,"Sgt Kurus",IF(AND(D!BN27>=-3,D!BN27<-2),"Kurus",IF(AND(D!BN27>=-2,D!BN27<1),"Normal",IF(AND(D!BN27>=1,D!BN27<2),"Gemuk","Obesitas"))))) -> Sgt Kurus | AP31: Sesuai usia | AS31: Tidak | AU31: Tidak | AX31: Tidak
B32: 19 | C32: 45803 | D32: 3503112302210001 | E32: CHEVANDRA FEBRIAN FRANSISCO | F32: =IFERROR(DATEDIF(G32,C32,"Y") & " thn. " &IF(DATEDIF(G32,C32,"YM")<10,"0"&DATEDIF(G32,C32,"YM"),DATEDIF(G32,C32,"YM")) & " bln.","") -> 4 thn. 03 bln. | G32: =IFERROR(ABS(IF(VALUE(MID(D32,7,2))>40,VALUE(MID(D32,7,2))-40,VALUE(MID(D32,7,2)))&"-"&IF(VALUE(MID(D32,9,2))<10,"0"&VALUE(MID(D32,9,2)),VALUE(MID(D32,9,2)))&"-"&VALUE(MID(D32,11,2))),"") -> 44250 | H32: JATIPRAHU | I32: RT 23 | J32: 104 | K32: 19 | L32: 0 | M32: Tidak | O32: Non disabilitas | Q32: Tidak | R32: Tidak | S32: Tidak | U32: Tidak | AG32: =IF(D!BE28="","",IF(D!BE28<-3,"Gizi Buruk",IF(AND(D!BE28>=-3,D!BE28<-2),"Gizi Kurang",IF(AND(D!BE28>=-2,D!BE28<2),"Gizi Normal","Gizi Lebih")))) -> Gizi Normal | AH32: =IF(D!BH28="","",IF(D!BH28<-3,"Sangat Pendek",IF(AND(D!BH28>=-3,D!BH28<-2),"Pendek",IF(AND(D!CB190>=-2,D!BH28<2),"Normal","Jangkung")))) -> Normal | AI32: =IF(D!BK28="","",(IF(D!BK28<-3,"Sangat Kurus",IF(AND(D!BK28>=-3,D!BK28<-2),"Kurus",IF(AND(D!BK28>=-2,D!BK28<2),"Normal","Gemuk"))))) -> Normal | AJ32: =IF(D!BN28="","",IF(D!BN28<-3,"Sgt Kurus",IF(AND(D!BN28>=-3,D!BN28<-2),"Kurus",IF(AND(D!BN28>=-2,D!BN28<1),"Normal",IF(AND(D!BN28>=1,D!BN28<2),"Gemuk","Obesitas"))))) -> Gemuk | AP32: Sesuai usia | AS32: Tidak | AU32: Tidak | AX32: Tidak
B33: 20 | C33: 45803 | D33: 7371021207210002 | E33: LIBAN ABHISEVA RAZKYTAMA | F33: =IFERROR(DATEDIF(G33,C33,"Y") & " thn. " &IF(DATEDIF(G33,C33,"YM")<10,"0"&DATEDIF(G33,C33,"YM"),DATEDIF(G33,C33,"YM")) & " bln.","") -> 3 thn. 10 bln. | G33: =IFERROR(ABS(IF(VALUE(MID(D33,7,2))>40,VALUE(MID(D33,7,2))-40,VALUE(MID(D33,7,2)))&"-"&IF(VALUE(MID(D33,9,2))<10,"0"&VALUE(MID(D33,9,2)),VALUE(MID(D33,9,2)))&"-"&VALUE(MID(D33,11,2))),"") -> 44389 | H33: KARANGSOKO | I33: rt 22 | J33: 0 | K33: 102 | L33: 18.1 | M33: Tidak | O33: Non disabilitas | Q33: Tidak | R33: Tidak | S33: Tidak | U33: Tidak | AG33: =IF(D!BE29="","",IF(D!BE29<-3,"Gizi Buruk",IF(AND(D!BE29>=-3,D!BE29<-2),"Gizi Kurang",IF(AND(D!BE29>=-2,D!BE29<2),"Gizi Normal","Gizi Lebih")))) -> Gizi Lebih | AH33: =IF(D!BH29="","",IF(D!BH29<-3,"Sangat Pendek",IF(AND(D!BH29>=-3,D!BH29<-2),"Pendek",IF(AND(D!CB191>=-2,D!BH29<2),"Normal","Jangkung")))) -> Sangat Pendek | AI33: =IF(D!BK29="","",(IF(D!BK29<-3,"Sangat Kurus",IF(AND(D!BK29>=-3,D!BK29<-2),"Kurus",IF(AND(D!BK29>=-2,D!BK29<2),"Normal","Gemuk"))))) | AJ33: =IF(D!BN29="","",IF(D!BN29<-3,"Sgt Kurus",IF(AND(D!BN29>=-3,D!BN29<-2),"Kurus",IF(AND(D!BN29>=-2,D!BN29<1),"Normal",IF(AND(D!BN29>=1,D!BN29<2),"Gemuk","Obesitas"))))) | AP33: Sesuai usia | AS33: Tidak | AU33: Tidak | AX33: Tidak
B34: 21 | C34: 45803 | D34: 3503110310210002 | E34: FAIREL ATHARIZZ CALIEF | F34: =IFERROR(DATEDIF(G34,C34,"Y") & " thn. " &IF(DATEDIF(G34,C34,"YM")<10,"0"&DATEDIF(G34,C34,"YM"),DATEDIF(G34,C34,"YM")) & " bln.","") -> 3 thn. 07 bln. | G34: =IFERROR(ABS(IF(VALUE(MID(D34,7,2))>40,VALUE(MID(D34,7,2))-40,VALUE(MID(D34,7,2)))&"-"&IF(VALUE(MID(D34,9,2))<10,"0"&VALUE(MID(D34,9,2)),VALUE(MID(D34,9,2)))&"-"&VALUE(MID(D34,11,2))),"") -> 44472 | H34: KARANGSOKO | I34: rtc29 | J34: 100 | K34: 14.2 | L34: 0 | M34: Tidak | O34: Non disabilitas | Q34: Tidak | R34: Tidak | S34: Tidak | U34: Tidak | AG34: =IF(D!BE30="","",IF(D!BE30<-3,"Gizi Buruk",IF(AND(D!BE30>=-3,D!BE30<-2),"Gizi Kurang",IF(AND(D!BE30>=-2,D!BE30<2),"Gizi Normal","Gizi Lebih")))) -> Gizi Buruk | AH34: =IF(D!BH30="","",IF(D!BH30<-3,"Sangat Pendek",IF(AND(D!BH30>=-3,D!BH30<-2),"Pendek",IF(AND(D!CB192>=-2,D!BH30<2),"Normal","Jangkung")))) -> Normal | AI34: =IF(D!BK30="","",(IF(D!BK30<-3,"Sangat Kurus",IF(AND(D!BK30>=-3,D!BK30<-2),"Kurus",IF(AND(D!BK30>=-2,D!BK30<2),"Normal","Gemuk"))))) -> Sangat Kurus | AJ34: =IF(D!BN30="","",IF(D!BN30<-3,"Sgt Kurus",IF(AND(D!BN30>=-3,D!BN30<-2),"Kurus",IF(AND(D!BN30>=-2,D!BN30<1),"Normal",IF(AND(D!BN30>=1,D!BN30<2),"Gemuk","Obesitas"))))) -> Sgt Kurus | AP34: Sesuai usia | AS34: Tidak | AU34: Tidak | AX34: Tidak
B35: 22 | C35: 45803 | D35: 3503110611210001 | E35: ZAFRAN BASYAR HUSNAPUTRA | F35: =IFERROR(DATEDIF(G35,C35,"Y") & " thn. " &IF(DATEDIF(G35,C35,"YM")<10,"0"&DATEDIF(G35,C35,"YM"),DATEDIF(G35,C35,"YM")) & " bln.","") -> 3 thn. 06 bln. | G35: =IFERROR(ABS(IF(VALUE(MID(D35,7,2))>40,VALUE(MID(D35,7,2))-40,VALUE(MID(D35,7,2)))&"-"&IF(VALUE(MID(D35,9,2))<10,"0"&VALUE(MID(D35,9,2)),VALUE(MID(D35,9,2)))&"-"&VALUE(MID(D35,11,2))),"") -> 44506 | H35: KARANGSOKO | I35: rt 24 | J35: 101 | K35: 15 | L35: 0 | M35: Tidak | O35: Non disabilitas | Q35: Tidak | R35: Tidak | S35: Tidak | U35: Tidak | AG35: =IF(D!BE31="","",IF(D!BE31<-3,"Gizi Buruk",IF(AND(D!BE31>=-3,D!BE31<-2),"Gizi Kurang",IF(AND(D!BE31>=-2,D!BE31<2),"Gizi Normal","Gizi Lebih")))) -> Gizi Normal | AH35: =IF(D!BH31="","",IF(D!BH31<-3,"Sangat Pendek",IF(AND(D!BH31>=-3,D!BH31<-2),"Pendek",IF(AND(D!CB193>=-2,D!BH31<2),"Normal","Jangkung")))) -> Normal | AI35: =IF(D!BK31="","",(IF(D!BK31<-3,"Sangat Kurus",IF(AND(D!BK31>=-3,D!BK31<-2),"Kurus",IF(AND(D!BK31>=-2,D!BK31<2),"Normal","Gemuk"))))) -> Normal | AJ35: =IF(D!BN31="","",IF(D!BN31<-3,"Sgt Kurus",IF(AND(D!BN31>=-3,D!BN31<-2),"Kurus",IF(AND(D!BN31>=-2,D!BN31<1),"Normal",IF(AND(D!BN31>=1,D!BN31<2),"Gemuk","Obesitas"))))) -> Normal | AP35: Sesuai usia | AS35: Tidak | AU35: Tidak | AX35: Tidak
B36: 23 | C36: 45803 | D36: 3504057105230002 | E36: ELENORA CEISYA HANUM | F36: =IFERROR(DATEDIF(G36,C36,"Y") & " thn. " &IF(DATEDIF(G36,C36,"YM")<10,"0"&DATEDIF(G36,C36,"YM"),DATEDIF(G36,C36,"YM")) & " bln.","") -> 1 thn. 11 bln. | G36: =IFERROR(ABS(IF(VALUE(MID(D36,7,2))>40,VALUE(MID(D36,7,2))-40,VALUE(MID(D36,7,2)))&"-"&IF(VALUE(MID(D36,9,2))<10,"0"&VALUE(MID(D36,9,2)),VALUE(MID(D36,9,2)))&"-"&VALUE(MID(D36,11,2))),"") -> 45077 | H36: KARANGSOKO | I36: 45799 | J36: 90 | K36: 15 | L36: 0 | O36: Non disabilitas | U36: Tidak | AG36: =IF(D!BE32="","",IF(D!BE32<-3,"Gizi Buruk",IF(AND(D!BE32>=-3,D!BE32<-2),"Gizi Kurang",IF(AND(D!BE32>=-2,D!BE32<2),"Gizi Normal","Gizi Lebih")))) -> Gizi Lebih | AH36: =IF(D!BH32="","",IF(D!BH32<-3,"Sangat Pendek",IF(AND(D!BH32>=-3,D!BH32<-2),"Pendek",IF(AND(D!CB194>=-2,D!BH32<2),"Normal","Jangkung")))) -> Normal | AI36: =IF(D!BK32="","",(IF(D!BK32<-3,"Sangat Kurus",IF(AND(D!BK32>=-3,D!BK32<-2),"Kurus",IF(AND(D!BK32>=-2,D!BK32<2),"Normal","Gemuk"))))) -> Normal | AJ36: =IF(D!BN32="","",IF(D!BN32<-3,"Sgt Kurus",IF(AND(D!BN32>=-3,D!BN32<-2),"Kurus",IF(AND(D!BN32>=-2,D!BN32<1),"Normal",IF(AND(D!BN32>=1,D!BN32<2),"Gemuk","Obesitas"))))) -> Obesitas | AL36: Y
B37: 24 | C37: 45804 | D37: 3503112207220001 | E37: ADZRIL PRADIPTA AL BAIHAQI | F37: =IFERROR(DATEDIF(G37,C37,"Y") & " thn. " &IF(DATEDIF(G37,C37,"YM")<10,"0"&DATEDIF(G37,C37,"YM"),DATEDIF(G37,C37,"YM")) & " bln.","") -> 2 thn. 10 bln. | G37: =IFERROR(ABS(IF(VALUE(MID(D37,7,2))>40,VALUE(MID(D37,7,2))-40,VALUE(MID(D37,7,2)))&"-"&IF(VALUE(MID(D37,9,2))<10,"0"&VALUE(MID(D37,9,2)),VALUE(MID(D37,9,2)))&"-"&VALUE(MID(D37,11,2))),"") -> 44764 | H37: KARANGSOKO | I37: RT 09 | J37: 88 | K37: 161 | L37: 0 | O37: Non disabilitas | P37: Tidak | U37: Tidak | AG37: =IF(D!BE33="","",IF(D!BE33<-3,"Gizi Buruk",IF(AND(D!BE33>=-3,D!BE33<-2),"Gizi Kurang",IF(AND(D!BE33>=-2,D!BE33<2),"Gizi Normal","Gizi Lebih")))) -> Gizi Lebih | AH37: =IF(D!BH33="","",IF(D!BH33<-3,"Sangat Pendek",IF(AND(D!BH33>=-3,D!BH33<-2),"Pendek",IF(AND(D!CB195>=-2,D!BH33<2),"Normal","Jangkung")))) -> Pendek | AI37: =IF(D!BK33="","",(IF(D!BK33<-3,"Sangat Kurus",IF(AND(D!BK33>=-3,D!BK33<-2),"Kurus",IF(AND(D!BK33>=-2,D!BK33<2),"Normal","Gemuk"))))) -> Gemuk | AJ37: =IF(D!BN33="","",IF(D!BN33<-3,"Sgt Kurus",IF(AND(D!BN33>=-3,D!BN33<-2),"Kurus",IF(AND(D!BN33>=-2,D!BN33<1),"Normal",IF(AND(D!BN33>=1,D!BN33<2),"Gemuk","Obesitas"))))) -> Obesitas | AP37: Sesuai usia | AS37: Tidak
B38: 25 | C38: 45804 | D38: 3503111403230001 | E38: KENZIO XABIRU WIJAYA | F38: =IFERROR(DATEDIF(G38,C38,"Y") & " thn. " &IF(DATEDIF(G38,C38,"YM")<10,"0"&DATEDIF(G38,C38,"YM"),DATEDIF(G38,C38,"YM")) & " bln.","") -> 2 thn. 02 bln. | G38: =IFERROR(ABS(IF(VALUE(MID(D38,7,2))>40,VALUE(MID(D38,7,2))-40,VALUE(MID(D38,7,2)))&"-"&IF(VALUE(MID(D38,9,2))<10,"0"&VALUE(MID(D38,9,2)),VALUE(MID(D38,9,2)))&"-"&VALUE(MID(D38,11,2))),"") -> 44999 | H38: KARANGSOKO | I38: RT 11 | J38: 83 | K38: 10.5 | L38: 0 | O38: Non disabilitas | P38: Tidak | U38: Tidak | AG38: =IF(D!BE34="","",IF(D!BE34<-3,"Gizi Buruk",IF(AND(D!BE34>=-3,D!BE34<-2),"Gizi Kurang",IF(AND(D!BE34>=-2,D!BE34<2),"Gizi Normal","Gizi Lebih")))) -> Gizi Buruk | AH38: =IF(D!BH34="","",IF(D!BH34<-3,"Sangat Pendek",IF(AND(D!BH34>=-3,D!BH34<-2),"Pendek",IF(AND(D!CB196>=-2,D!BH34<2),"Normal","Jangkung")))) -> Normal | AI38: =IF(D!BK34="","",(IF(D!BK34<-3,"Sangat Kurus",IF(AND(D!BK34>=-3,D!BK34<-2),"Kurus",IF(AND(D!BK34>=-2,D!BK34<2),"Normal","Gemuk"))))) -> Sangat Kurus | AJ38: =IF(D!BN34="","",IF(D!BN34<-3,"Sgt Kurus",IF(AND(D!BN34>=-3,D!BN34<-2),"Kurus",IF(AND(D!BN34>=-2,D!BN34<1),"Normal",IF(AND(D!BN34>=1,D!BN34<2),"Gemuk","Obesitas"))))) -> Sgt Kurus | AP38: Sesuai usia | AS38: Tidak
B39: 26 | C39: 45804 | D39: 3503111503230002 | E39: ALVINO NUFFAIL HAIDAR SETIAWAN | F39: =IFERROR(DATEDIF(G39,C39,"Y") & " thn. " &IF(DATEDIF(G39,C39,"YM")<10,"0"&DATEDIF(G39,C39,"YM"),DATEDIF(G39,C39,"YM")) & " bln.","") -> 2 thn. 02 bln. | G39: =IFERROR(ABS(IF(VALUE(MID(D39,7,2))>40,VALUE(MID(D39,7,2))-40,VALUE(MID(D39,7,2)))&"-"&IF(VALUE(MID(D39,9,2))<10,"0"&VALUE(MID(D39,9,2)),VALUE(MID(D39,9,2)))&"-"&VALUE(MID(D39,11,2))),"") -> 45000 | H39: KARANGSOKO | I39: RT 11 RW 02 | J39: 82 | K39: 10.2 | L39: 0 | O39: Non disabilitas | P39: Tidak | U39: Tidak | AG39: =IF(D!BE35="","",IF(D!BE35<-3,"Gizi Buruk",IF(AND(D!BE35>=-3,D!BE35<-2),"Gizi Kurang",IF(AND(D!BE35>=-2,D!BE35<2),"Gizi Normal","Gizi Lebih")))) -> Gizi Buruk | AH39: =IF(D!BH35="","",IF(D!BH35<-3,"Sangat Pendek",IF(AND(D!BH35>=-3,D!BH35<-2),"Pendek",IF(AND(D!CB197>=-2,D!BH35<2),"Normal","Jangkung")))) -> Pendek | AI39: =IF(D!BK35="","",(IF(D!BK35<-3,"Sangat Kurus",IF(AND(D!BK35>=-3,D!BK35<-2),"Kurus",IF(AND(D!BK35>=-2,D!BK35<2),"Normal","Gemuk"))))) -> Sangat Kurus | AJ39: =IF(D!BN35="","",IF(D!BN35<-3,"Sgt Kurus",IF(AND(D!BN35>=-3,D!BN35<-2),"Kurus",IF(AND(D!BN35>=-2,D!BN35<1),"Normal",IF(AND(D!BN35>=1,D!BN35<2),"Gemuk","Obesitas"))))) -> Sgt Kurus | AP39: Sesuai usia | AS39: Tidak
B40: 27 | C40: 45804 | D40: 3503111410200004 | E40: MAHARDIKA KHOIRUL ALFARIS | F40: =IFERROR(DATEDIF(G40,C40,"Y") & " thn. " &IF(DATEDIF(G40,C40,"YM")<10,"0"&DATEDIF(G40,C40,"YM"),DATEDIF(G40,C40,"YM")) & " bln.","") -> 4 thn. 07 bln. | G40: =IFERROR(ABS(IF(VALUE(MID(D40,7,2))>40,VALUE(MID(D40,7,2))-40,VALUE(MID(D40,7,2)))&"-"&IF(VALUE(MID(D40,9,2))<10,"0"&VALUE(MID(D40,9,2)),VALUE(MID(D40,9,2)))&"-"&VALUE(MID(D40,11,2))),"") -> 44118 | H40: KARANGSOKO | I40: rt 11 | J40: 103 | K40: 16.9 | L40: 0 | M40: Tidak | O40: Non disabilitas | Q40: Tidak | R40: Tidak | S40: Tidak | U40: Tidak | AG40: =IF(D!BE36="","",IF(D!BE36<-3,"Gizi Buruk",IF(AND(D!BE36>=-3,D!BE36<-2),"Gizi Kurang",IF(AND(D!BE36>=-2,D!BE36<2),"Gizi Normal","Gizi Lebih")))) -> Gizi Buruk | AH40: =IF(D!BH36="","",IF(D!BH36<-3,"Sangat Pendek",IF(AND(D!BH36>=-3,D!BH36<-2),"Pendek",IF(AND(D!CB198>=-2,D!BH36<2),"Normal","Jangkung")))) -> Normal | AI40: =IF(D!BK36="","",(IF(D!BK36<-3,"Sangat Kurus",IF(AND(D!BK36>=-3,D!BK36<-2),"Kurus",IF(AND(D!BK36>=-2,D!BK36<2),"Normal","Gemuk"))))) -> Sangat Kurus | AJ40: =IF(D!BN36="","",IF(D!BN36<-3,"Sgt Kurus",IF(AND(D!BN36>=-3,D!BN36<-2),"Kurus",IF(AND(D!BN36>=-2,D!BN36<1),"Normal",IF(AND(D!BN36>=1,D!BN36<2),"Gemuk","Obesitas"))))) -> Sgt Kurus | AP40: Sesuai usia | AS40: Tidak | AU40: Tidak
B41: 28 | C41: 45804 | D41: 3503113008210001 | E41: GUSTAV ANDRYAN AIRLANGGA | F41: =IFERROR(DATEDIF(G41,C41,"Y") & " thn. " &IF(DATEDIF(G41,C41,"YM")<10,"0"&DATEDIF(G41,C41,"YM"),DATEDIF(G41,C41,"YM")) & " bln.","") -> 3 thn. 08 bln. | G41: =IFERROR(ABS(IF(VALUE(MID(D41,7,2))>40,VALUE(MID(D41,7,2))-40,VALUE(MID(D41,7,2)))&"-"&IF(VALUE(MID(D41,9,2))<10,"0"&VALUE(MID(D41,9,2)),VALUE(MID(D41,9,2)))&"-"&VALUE(MID(D41,11,2))),"") -> 44438 | H41: 0 | I41: rt 11 rw 2 | J41: 104 | K41: 17.1 | L41: 0 | M41: Tidak | O41: Non disabilitas | Q41: Tidak | R41: Tidak | S41: Tidak | U41: Tidak | AG41: =IF(D!BE37="","",IF(D!BE37<-3,"Gizi Buruk",IF(AND(D!BE37>=-3,D!BE37<-2),"Gizi Kurang",IF(AND(D!BE37>=-2,D!BE37<2),"Gizi Normal","Gizi Lebih")))) -> Gizi Buruk | AH41: =IF(D!BH37="","",IF(D!BH37<-3,"Sangat Pendek",IF(AND(D!BH37>=-3,D!BH37<-2),"Pendek",IF(AND(D!CB199>=-2,D!BH37<2),"Normal","Jangkung")))) -> Normal | AI41: =IF(D!BK37="","",(IF(D!BK37<-3,"Sangat Kurus",IF(AND(D!BK37>=-3,D!BK37<-2),"Kurus",IF(AND(D!BK37>=-2,D!BK37<2),"Normal","Gemuk"))))) -> Sangat Kurus | AJ41: =IF(D!BN37="","",IF(D!BN37<-3,"Sgt Kurus",IF(AND(D!BN37>=-3,D!BN37<-2),"Kurus",IF(AND(D!BN37>=-2,D!BN37<1),"Normal",IF(AND(D!BN37>=1,D!BN37<2),"Gemuk","Obesitas"))))) -> Sgt Kurus | AP41: Sesuai usia | AS41: Tidak | AU41: Tidak
B42: 29 | C42: 45804 | D42: 3503116304210001 | E42: BRIDGIA ALMERA BIMANTARA | F42: =IFERROR(DATEDIF(G42,C42,"Y") & " thn. " &IF(DATEDIF(G42,C42,"YM")<10,"0"&DATEDIF(G42,C42,"YM"),DATEDIF(G42,C42,"YM")) & " bln.","") -> 4 thn. 01 bln. | G42: =IFERROR(ABS(IF(VALUE(MID(D42,7,2))>40,VALUE(MID(D42,7,2))-40,VALUE(MID(D42,7,2)))&"-"&IF(VALUE(MID(D42,9,2))<10,"0"&VALUE(MID(D42,9,2)),VALUE(MID(D42,9,2)))&"-"&VALUE(MID(D42,11,2))),"") -> 44309 | H42: KARANGSOKO | I42: rt 07 | J42: 94 | K42: 12 | L42: 0 | M42: Tidak | O42: Non disabilitas | Q42: Tidak | R42: Tidak | S42: Tidak | U42: Tidak | AG42: =IF(D!BE38="","",IF(D!BE38<-3,"Gizi Buruk",IF(AND(D!BE38>=-3,D!BE38<-2),"Gizi Kurang",IF(AND(D!BE38>=-2,D!BE38<2),"Gizi Normal","Gizi Lebih")))) -> Gizi Kurang | AH42: =IF(D!BH38="","",IF(D!BH38<-3,"Sangat Pendek",IF(AND(D!BH38>=-3,D!BH38<-2),"Pendek",IF(AND(D!CB200>=-2,D!BH38<2),"Normal","Jangkung")))) -> Normal | AI42: =IF(D!BK38="","",(IF(D!BK38<-3,"Sangat Kurus",IF(AND(D!BK38>=-3,D!BK38<-2),"Kurus",IF(AND(D!BK38>=-2,D!BK38<2),"Normal","Gemuk"))))) -> Normal | AJ42: =IF(D!BN38="","",IF(D!BN38<-3,"Sgt Kurus",IF(AND(D!BN38>=-3,D!BN38<-2),"Kurus",IF(AND(D!BN38>=-2,D!BN38<1),"Normal",IF(AND(D!BN38>=1,D!BN38<2),"Gemuk","Obesitas"))))) -> Normal | AP42: Sesuai usia | AS42: Tidak | AU42: Tidak | AX42: Tidak
B43: 30 | C43: 45804 | D43: 3503116802220001 | E43: JOVINA MAULIDIYA SAPUTRI | F43: =IFERROR(DATEDIF(G43,C43,"Y") & " thn. " &IF(DATEDIF(G43,C43,"YM")<10,"0"&DATEDIF(G43,C43,"YM"),DATEDIF(G43,C43,"YM")) & " bln.","") -> 3 thn. 02 bln. | G43: =IFERROR(ABS(IF(VALUE(MID(D43,7,2))>40,VALUE(MID(D43,7,2))-40,VALUE(MID(D43,7,2)))&"-"&IF(VALUE(MID(D43,9,2))<10,"0"&VALUE(MID(D43,9,2)),VALUE(MID(D43,9,2)))&"-"&VALUE(MID(D43,11,2))),"") -> 44620 | H43: KARANGSOKO | I43: RT 7 RW 2 | J43: 0 | K43: 0 | L43: 0 | M43: Tidak | O43: Non disabilitas | Q43: Tidak | R43: Tidak | S43: Tidak | U43: Tidak | AG43: =IF(D!BE39="","",IF(D!BE39<-3,"Gizi Buruk",IF(AND(D!BE39>=-3,D!BE39<-2),"Gizi Kurang",IF(AND(D!BE39>=-2,D!BE39<2),"Gizi Normal","Gizi Lebih")))) -> Gizi Buruk | AH43: =IF(D!BH39="","",IF(D!BH39<-3,"Sangat Pendek",IF(AND(D!BH39>=-3,D!BH39<-2),"Pendek",IF(AND(D!CB201>=-2,D!BH39<2),"Normal","Jangkung")))) -> Sangat Pendek | AI43: =IF(D!BK39="","",(IF(D!BK39<-3,"Sangat Kurus",IF(AND(D!BK39>=-3,D!BK39<-2),"Kurus",IF(AND(D!BK39>=-2,D!BK39<2),"Normal","Gemuk"))))) | AJ43: =IF(D!BN39="","",IF(D!BN39<-3,"Sgt Kurus",IF(AND(D!BN39>=-3,D!BN39<-2),"Kurus",IF(AND(D!BN39>=-2,D!BN39<1),"Normal",IF(AND(D!BN39>=1,D!BN39<2),"Gemuk","Obesitas"))))) | AP43: Sesuai usia | AS43: Tidak | AU43: Tidak
B44: 31 | C44: 45804 | D44: 350311440825000x | E44: NADHEERA AYCIRA ELSHANUM | F44: =IFERROR(DATEDIF(G44,C44,"Y") & " thn. " &IF(DATEDIF(G44,C44,"YM")<10,"0"&DATEDIF(G44,C44,"YM"),DATEDIF(G44,C44,"YM")) & " bln.","") | G44: =IFERROR(ABS(IF(VALUE(MID(D44,7,2))>40,VALUE(MID(D44,7,2))-40,VALUE(MID(D44,7,2)))&"-"&IF(VALUE(MID(D44,9,2))<10,"0"&VALUE(MID(D44,9,2)),VALUE(MID(D44,9,2)))&"-"&VALUE(MID(D44,11,2))),"") -> 45873 | H44: KARANGSOKO | I44: RT 08 | J44: 0 | K44: 0 | L44: 0 | O44: Non disabilitas | U44: Tidak | AG44: =IF(D!BE40="","",IF(D!BE40<-3,"Gizi Buruk",IF(AND(D!BE40>=-3,D!BE40<-2),"Gizi Kurang",IF(AND(D!BE40>=-2,D!BE40<2),"Gizi Normal","Gizi Lebih")))) | AH44: =IF(D!BH40="","",IF(D!BH40<-3,"Sangat Pendek",IF(AND(D!BH40>=-3,D!BH40<-2),"Pendek",IF(AND(D!CB202>=-2,D!BH40<2),"Normal","Jangkung")))) | AI44: =IF(D!BK40="","",(IF(D!BK40<-3,"Sangat Kurus",IF(AND(D!BK40>=-3,D!BK40<-2),"Kurus",IF(AND(D!BK40>=-2,D!BK40<2),"Normal","Gemuk"))))) | AJ44: =IF(D!BN40="","",IF(D!BN40<-3,"Sgt Kurus",IF(AND(D!BN40>=-3,D!BN40<-2),"Kurus",IF(AND(D!BN40>=-2,D!BN40<1),"Normal",IF(AND(D!BN40>=1,D!BN40<2),"Gemuk","Obesitas"))))) | AL44: Y
B45: 32 | C45: 45804 | D45: 3503110608200006 | E45: ARKA DEWANGGA PUTRA | F45: =IFERROR(DATEDIF(G45,C45,"Y") & " thn. " &IF(DATEDIF(G45,C45,"YM")<10,"0"&DATEDIF(G45,C45,"YM"),DATEDIF(G45,C45,"YM")) & " bln.","") -> 4 thn. 09 bln. | G45: =IFERROR(ABS(IF(VALUE(MID(D45,7,2))>40,VALUE(MID(D45,7,2))-40,VALUE(MID(D45,7,2)))&"-"&IF(VALUE(MID(D45,9,2))<10,"0"&VALUE(MID(D45,9,2)),VALUE(MID(D45,9,2)))&"-"&VALUE(MID(D45,11,2))),"") -> 44049 | H45: KARANGSOKO | I45: RT 09 RW 02 | J45: 99 | K45: 17.4 | L45: 0 | M45: Tidak | O45: Non disabilitas | Q45: Tidak | R45: Tidak | S45: Tidak | U45: Tidak | AG45: =IF(D!BE41="","",IF(D!BE41<-3,"Gizi Buruk",IF(AND(D!BE41>=-3,D!BE41<-2),"Gizi Kurang",IF(AND(D!BE41>=-2,D!BE41<2),"Gizi Normal","Gizi Lebih")))) -> Gizi Buruk | AH45: =IF(D!BH41="","",IF(D!BH41<-3,"Sangat Pendek",IF(AND(D!BH41>=-3,D!BH41<-2),"Pendek",IF(AND(D!CB203>=-2,D!BH41<2),"Normal","Jangkung")))) -> Pendek | AI45: =IF(D!BK41="","",(IF(D!BK41<-3,"Sangat Kurus",IF(AND(D!BK41>=-3,D!BK41<-2),"Kurus",IF(AND(D!BK41>=-2,D!BK41<2),"Normal","Gemuk"))))) -> Sangat Kurus | AJ45: =IF(D!BN41="","",IF(D!BN41<-3,"Sgt Kurus",IF(AND(D!BN41>=-3,D!BN41<-2),"Kurus",IF(AND(D!BN41>=-2,D!BN41<1),"Normal",IF(AND(D!BN41>=1,D!BN41<2),"Gemuk","Obesitas"))))) -> Sgt Kurus | AP45: Sesuai usia | AS45: Tidak | AU45: Tidak | AX45: Tidak
B46: 33 | C46: 45804 | D46: 3503061911200001 | E46: EL FATHAN MUHAMMAD | F46: =IFERROR(DATEDIF(G46,C46,"Y") & " thn. " &IF(DATEDIF(G46,C46,"YM")<10,"0"&DATEDIF(G46,C46,"YM"),DATEDIF(G46,C46,"YM")) & " bln.","") -> 4 thn. 06 bln. | G46: =IFERROR(ABS(IF(VALUE(MID(D46,7,2))>40,VALUE(MID(D46,7,2))-40,VALUE(MID(D46,7,2)))&"-"&IF(VALUE(MID(D46,9,2))<10,"0"&VALUE(MID(D46,9,2)),VALUE(MID(D46,9,2)))&"-"&VALUE(MID(D46,11,2))),"") -> 44154 | H46: KARANGSOKO | I46: RT 08 RW 02 | J46: 108 | K46: 17.3 | L46: 0 | M46: Tidak | O46: Non disabilitas | Q46: Tidak | R46: Tidak | S46: Tidak | U46: Tidak | AG46: =IF(D!BE42="","",IF(D!BE42<-3,"Gizi Buruk",IF(AND(D!BE42>=-3,D!BE42<-2),"Gizi Kurang",IF(AND(D!BE42>=-2,D!BE42<2),"Gizi Normal","Gizi Lebih")))) -> Gizi Buruk | AH46: =IF(D!BH42="","",IF(D!BH42<-3,"Sangat Pendek",IF(AND(D!BH42>=-3,D!BH42<-2),"Pendek",IF(AND(D!CB204>=-2,D!BH42<2),"Normal","Jangkung")))) -> Normal | AI46: =IF(D!BK42="","",(IF(D!BK42<-3,"Sangat Kurus",IF(AND(D!BK42>=-3,D!BK42<-2),"Kurus",IF(AND(D!BK42>=-2,D!BK42<2),"Normal","Gemuk"))))) -> Sangat Kurus | AJ46: =IF(D!BN42="","",IF(D!BN42<-3,"Sgt Kurus",IF(AND(D!BN42>=-3,D!BN42<-2),"Kurus",IF(AND(D!BN42>=-2,D!BN42<1),"Normal",IF(AND(D!BN42>=1,D!BN42<2),"Gemuk","Obesitas"))))) -> Sgt Kurus | AP46: Sesuai usia | AS46: Tidak | AU46: Tidak | AX46: Tidak
B47: 34 | C47: 45804 | D47: 3503111608210002 | E47: MUHAMMAD RAFANDRA ARRIZQI | F47: =IFERROR(DATEDIF(G47,C47,"Y") & " thn. " &IF(DATEDIF(G47,C47,"YM")<10,"0"&DATEDIF(G47,C47,"YM"),DATEDIF(G47,C47,"YM")) & " bln.","") -> 3 thn. 09 bln. | G47: =IFERROR(ABS(IF(VALUE(MID(D47,7,2))>40,VALUE(MID(D47,7,2))-40,VALUE(MID(D47,7,2)))&"-"&IF(VALUE(MID(D47,9,2))<10,"0"&VALUE(MID(D47,9,2)),VALUE(MID(D47,9,2)))&"-"&VALUE(MID(D47,11,2))),"") -> 44424 | H47: KARANGSOKO | I47: rt 07 | J47: 105 | K47: 17.3 | L47: 0 | M47: Tidak | O47: Non disabilitas | Q47: Tidak | R47: Tidak | S47: Tidak | U47: Tidak | AG47: =IF(D!BE43="","",IF(D!BE43<-3,"Gizi Buruk",IF(AND(D!BE43>=-3,D!BE43<-2),"Gizi Kurang",IF(AND(D!BE43>=-2,D!BE43<2),"Gizi Normal","Gizi Lebih")))) -> Gizi Buruk | AH47: =IF(D!BH43="","",IF(D!BH43<-3,"Sangat Pendek",IF(AND(D!BH43>=-3,D!BH43<-2),"Pendek",IF(AND(D!CB205>=-2,D!BH43<2),"Normal","Jangkung")))) -> Normal | AI47: =IF(D!BK43="","",(IF(D!BK43<-3,"Sangat Kurus",IF(AND(D!BK43>=-3,D!BK43<-2),"Kurus",IF(AND(D!BK43>=-2,D!BK43<2),"Normal","Gemuk"))))) -> Sangat Kurus | AJ47: =IF(D!BN43="","",IF(D!BN43<-3,"Sgt Kurus",IF(AND(D!BN43>=-3,D!BN43<-2),"Kurus",IF(AND(D!BN43>=-2,D!BN43<1),"Normal",IF(AND(D!BN43>=1,D!BN43<2),"Gemuk","Obesitas"))))) -> Sgt Kurus | AP47: Sesuai usia | AS47: Tidak | AU47: Tidak | AX47: Tidak
B48: 35 | C48: 45804 | D48: 350311041122000x | E48: MUHAMMAD FIRMAN SYAHIDAN | F48: =IFERROR(DATEDIF(G48,C48,"Y") & " thn. " &IF(DATEDIF(G48,C48,"YM")<10,"0"&DATEDIF(G48,C48,"YM"),DATEDIF(G48,C48,"YM")) & " bln.","") -> 2 thn. 06 bln. | G48: =IFERROR(ABS(IF(VALUE(MID(D48,7,2))>40,VALUE(MID(D48,7,2))-40,VALUE(MID(D48,7,2)))&"-"&IF(VALUE(MID(D48,9,2))<10,"0"&VALUE(MID(D48,9,2)),VALUE(MID(D48,9,2)))&"-"&VALUE(MID(D48,11,2))),"") -> 44869 | H48: KARANGSOKO | I48: RT 10 | J48: 0 | K48: 0 | L48: 0 | O48: Non disabilitas | P48: Tidak | U48: Tidak | AG48: =IF(D!BE44="","",IF(D!BE44<-3,"Gizi Buruk",IF(AND(D!BE44>=-3,D!BE44<-2),"Gizi Kurang",IF(AND(D!BE44>=-2,D!BE44<2),"Gizi Normal","Gizi Lebih")))) -> Gizi Buruk | AH48: =IF(D!BH44="","",IF(D!BH44<-3,"Sangat Pendek",IF(AND(D!BH44>=-3,D!BH44<-2),"Pendek",IF(AND(D!CB206>=-2,D!BH44<2),"Normal","Jangkung")))) -> Sangat Pendek | AI48: =IF(D!BK44="","",(IF(D!BK44<-3,"Sangat Kurus",IF(AND(D!BK44>=-3,D!BK44<-2),"Kurus",IF(AND(D!BK44>=-2,D!BK44<2),"Normal","Gemuk"))))) | AJ48: =IF(D!BN44="","",IF(D!BN44<-3,"Sgt Kurus",IF(AND(D!BN44>=-3,D!BN44<-2),"Kurus",IF(AND(D!BN44>=-2,D!BN44<1),"Normal",IF(AND(D!BN44>=1,D!BN44<2),"Gemuk","Obesitas"))))) | AP48: Sesuai usia | AS48: Tidak
B49: 36 | C49: 45804 | D49: 350311480721000x | E49: ALYA FAKHRANI | F49: =IFERROR(DATEDIF(G49,C49,"Y") & " thn. " &IF(DATEDIF(G49,C49,"YM")<10,"0"&DATEDIF(G49,C49,"YM"),DATEDIF(G49,C49,"YM")) & " bln.","") -> 3 thn. 10 bln. | G49: =IFERROR(ABS(IF(VALUE(MID(D49,7,2))>40,VALUE(MID(D49,7,2))-40,VALUE(MID(D49,7,2)))&"-"&IF(VALUE(MID(D49,9,2))<10,"0"&VALUE(MID(D49,9,2)),VALUE(MID(D49,9,2)))&"-"&VALUE(MID(D49,11,2))),"") -> 44385 | H49: KARANGSOKO | I49: RT 09 RW 02 | J49: 0 | K49: 0 | L49: 0 | M49: Tidak | O49: Non disabilitas | Q49: Tidak | R49: Tidak | S49: Tidak | U49: Tidak | AG49: =IF(D!BE45="","",IF(D!BE45<-3,"Gizi Buruk",IF(AND(D!BE45>=-3,D!BE45<-2),"Gizi Kurang",IF(AND(D!BE45>=-2,D!BE45<2),"Gizi Normal","Gizi Lebih")))) -> Gizi Buruk | AH49: =IF(D!BH45="","",IF(D!BH45<-3,"Sangat Pendek",IF(AND(D!BH45>=-3,D!BH45<-2),"Pendek",IF(AND(D!CB207>=-2,D!BH45<2),"Normal","Jangkung")))) -> Sangat Pendek | AI49: =IF(D!BK45="","",(IF(D!BK45<-3,"Sangat Kurus",IF(AND(D!BK45>=-3,D!BK45<-2),"Kurus",IF(AND(D!BK45>=-2,D!BK45<2),"Normal","Gemuk"))))) | AJ49: =IF(D!BN45="","",IF(D!BN45<-3,"Sgt Kurus",IF(AND(D!BN45>=-3,D!BN45<-2),"Kurus",IF(AND(D!BN45>=-2,D!BN45<1),"Normal",IF(AND(D!BN45>=1,D!BN45<2),"Gemuk","Obesitas"))))) | AP49: Sesuai usia | AS49: Tidak | AU49: Tidak | AX49: Tidak
B50: 37 | C50: 45804 | D50: 3503115911200001 | E50: TITIN DEVI NADYA | F50: =IFERROR(DATEDIF(G50,C50,"Y") & " thn. " &IF(DATEDIF(G50,C50,"YM")<10,"0"&DATEDIF(G50,C50,"YM"),DATEDIF(G50,C50,"YM")) & " bln.","") -> 4 thn. 06 bln. | G50: =IFERROR(ABS(IF(VALUE(MID(D50,7,2))>40,VALUE(MID(D50,7,2))-40,VALUE(MID(D50,7,2)))&"-"&IF(VALUE(MID(D50,9,2))<10,"0"&VALUE(MID(D50,9,2)),VALUE(MID(D50,9,2)))&"-"&VALUE(MID(D50,11,2))),"") -> 44154 | H50: KARANGSOKO | I50: rt 8 | J50: 0 | K50: 0 | L50: 0 | M50: Tidak | O50: Non disabilitas | Q50: Tidak | R50: Tidak | S50: Tidak | U50: Tidak | AG50: =IF(D!BE46="","",IF(D!BE46<-3,"Gizi Buruk",IF(AND(D!BE46>=-3,D!BE46<-2),"Gizi Kurang",IF(AND(D!BE46>=-2,D!BE46<2),"Gizi Normal","Gizi Lebih")))) -> Gizi Buruk | AH50: =IF(D!BH46="","",IF(D!BH46<-3,"Sangat Pendek",IF(AND(D!BH46>=-3,D!BH46<-2),"Pendek",IF(AND(D!CB208>=-2,D!BH46<2),"Normal","Jangkung")))) -> Sangat Pendek | AI50: =IF(D!BK46="","",(IF(D!BK46<-3,"Sangat Kurus",IF(AND(D!BK46>=-3,D!BK46<-2),"Kurus",IF(AND(D!BK46>=-2,D!BK46<2),"Normal","Gemuk"))))) | AJ50: =IF(D!BN46="","",IF(D!BN46<-3,"Sgt Kurus",IF(AND(D!BN46>=-3,D!BN46<-2),"Kurus",IF(AND(D!BN46>=-2,D!BN46<1),"Normal",IF(AND(D!BN46>=1,D!BN46<2),"Gemuk","Obesitas"))))) | AP50: Sesuai usia | AS50: Tidak | AU50: Tidak | AX50: Tidak
B51: 38 | C51: 45804 | D51: 3503114406210002 | E51: FELYCIA INEZ GIANINA | F51: =IFERROR(DATEDIF(G51,C51,"Y") & " thn. " &IF(DATEDIF(G51,C51,"YM")<10,"0"&DATEDIF(G51,C51,"YM"),DATEDIF(G51,C51,"YM")) & " bln.","") -> 3 thn. 11 bln. | G51: =IFERROR(ABS(IF(VALUE(MID(D51,7,2))>40,VALUE(MID(D51,7,2))-40,VALUE(MID(D51,7,2)))&"-"&IF(VALUE(MID(D51,9,2))<10,"0"&VALUE(MID(D51,9,2)),VALUE(MID(D51,9,2)))&"-"&VALUE(MID(D51,11,2))),"") -> 44351 | H51: KARANGSOKO | I51: rt 08 | J51: 0 | K51: 0 | L51: 0 | M51: Tidak | O51: Non disabilitas | Q51: Tidak | R51: Tidak | S51: Tidak | U51: Tidak | AG51: =IF(D!BE47="","",IF(D!BE47<-3,"Gizi Buruk",IF(AND(D!BE47>=-3,D!BE47<-2),"Gizi Kurang",IF(AND(D!BE47>=-2,D!BE47<2),"Gizi Normal","Gizi Lebih")))) -> Gizi Buruk | AH51: =IF(D!BH47="","",IF(D!BH47<-3,"Sangat Pendek",IF(AND(D!BH47>=-3,D!BH47<-2),"Pendek",IF(AND(D!CB209>=-2,D!BH47<2),"Normal","Jangkung")))) -> Sangat Pendek | AI51: =IF(D!BK47="","",(IF(D!BK47<-3,"Sangat Kurus",IF(AND(D!BK47>=-3,D!BK47<-2),"Kurus",IF(AND(D!BK47>=-2,D!BK47<2),"Normal","Gemuk"))))) | AJ51: =IF(D!BN47="","",IF(D!BN47<-3,"Sgt Kurus",IF(AND(D!BN47>=-3,D!BN47<-2),"Kurus",IF(AND(D!BN47>=-2,D!BN47<1),"Normal",IF(AND(D!BN47>=1,D!BN47<2),"Gemuk","Obesitas"))))) | AP51: Sesuai usia | AS51: Tidak | AU51: Tidak | AX51: Tidak
B52: 39 | C52: 45804 | D52: 3503116405230001 | E52: SELENA GHEA YUKIANTO | F52: =IFERROR(DATEDIF(G52,C52,"Y") & " thn. " &IF(DATEDIF(G52,C52,"YM")<10,"0"&DATEDIF(G52,C52,"YM"),DATEDIF(G52,C52,"YM")) & " bln.","") -> 2 thn. 00 bln. | G52: =IFERROR(ABS(IF(VALUE(MID(D52,7,2))>40,VALUE(MID(D52,7,2))-40,VALUE(MID(D52,7,2)))&"-"&IF(VALUE(MID(D52,9,2))<10,"0"&VALUE(MID(D52,9,2)),VALUE(MID(D52,9,2)))&"-"&VALUE(MID(D52,11,2))),"") -> 45070 | H52: KELUTAN | I52: rt 12 | J52: 0 | K52: 0 | L52: 0 | O52: Non disabilitas | P52: Tidak | U52: Tidak | AG52: =IF(D!BE48="","",IF(D!BE48<-3,"Gizi Buruk",IF(AND(D!BE48>=-3,D!BE48<-2),"Gizi Kurang",IF(AND(D!BE48>=-2,D!BE48<2),"Gizi Normal","Gizi Lebih")))) -> Gizi Buruk | AH52: =IF(D!BH48="","",IF(D!BH48<-3,"Sangat Pendek",IF(AND(D!BH48>=-3,D!BH48<-2),"Pendek",IF(AND(D!CB210>=-2,D!BH48<2),"Normal","Jangkung")))) -> Sangat Pendek | AI52: =IF(D!BK48="","",(IF(D!BK48<-3,"Sangat Kurus",IF(AND(D!BK48>=-3,D!BK48<-2),"Kurus",IF(AND(D!BK48>=-2,D!BK48<2),"Normal","Gemuk"))))) | AJ52: =IF(D!BN48="","",IF(D!BN48<-3,"Sgt Kurus",IF(AND(D!BN48>=-3,D!BN48<-2),"Kurus",IF(AND(D!BN48>=-2,D!BN48<1),"Normal",IF(AND(D!BN48>=1,D!BN48<2),"Gemuk","Obesitas"))))) | AP52: Sesuai usia | AS52: Tidak
B53: 40 | C53: 45804 | D53: 3503112512220001 | E53: MUHAMMAD DEVANKA SHANKARA ROFIQ | F53: =IFERROR(DATEDIF(G53,C53,"Y") & " thn. " &IF(DATEDIF(G53,C53,"YM")<10,"0"&DATEDIF(G53,C53,"YM"),DATEDIF(G53,C53,"YM")) & " bln.","") -> 2 thn. 05 bln. | G53: =IFERROR(ABS(IF(VALUE(MID(D53,7,2))>40,VALUE(MID(D53,7,2))-40,VALUE(MID(D53,7,2)))&"-"&IF(VALUE(MID(D53,9,2))<10,"0"&VALUE(MID(D53,9,2)),VALUE(MID(D53,9,2)))&"-"&VALUE(MID(D53,11,2))),"") -> 44920 | H53: KARANGSOKO | I53: rt 08 | J53: 0 | K53: 0 | L53: 0 | O53: Non disabilitas | P53: Tidak | U53: Tidak | AG53: =IF(D!BE49="","",IF(D!BE49<-3,"Gizi Buruk",IF(AND(D!BE49>=-3,D!BE49<-2),"Gizi Kurang",IF(AND(D!BE49>=-2,D!BE49<2),"Gizi Normal","Gizi Lebih")))) -> Gizi Buruk | AH53: =IF(D!BH49="","",IF(D!BH49<-3,"Sangat Pendek",IF(AND(D!BH49>=-3,D!BH49<-2),"Pendek",IF(AND(D!CB211>=-2,D!BH49<2),"Normal","Jangkung")))) -> Sangat Pendek | AI53: =IF(D!BK49="","",(IF(D!BK49<-3,"Sangat Kurus",IF(AND(D!BK49>=-3,D!BK49<-2),"Kurus",IF(AND(D!BK49>=-2,D!BK49<2),"Normal","Gemuk"))))) | AJ53: =IF(D!BN49="","",IF(D!BN49<-3,"Sgt Kurus",IF(AND(D!BN49>=-3,D!BN49<-2),"Kurus",IF(AND(D!BN49>=-2,D!BN49<1),"Normal",IF(AND(D!BN49>=1,D!BN49<2),"Gemuk","Obesitas"))))) | AP53: Sesuai usia | AS53: Tidak
B54: 41 | C54: 45804 | D54: 3503110707200001 | E54: BREMANA CAKRA ATMADEVA | F54: =IFERROR(DATEDIF(G54,C54,"Y") & " thn. " &IF(DATEDIF(G54,C54,"YM")<10,"0"&DATEDIF(G54,C54,"YM"),DATEDIF(G54,C54,"YM")) & " bln.","") -> 4 thn. 10 bln. | G54: =IFERROR(ABS(IF(VALUE(MID(D54,7,2))>40,VALUE(MID(D54,7,2))-40,VALUE(MID(D54,7,2)))&"-"&IF(VALUE(MID(D54,9,2))<10,"0"&VALUE(MID(D54,9,2)),VALUE(MID(D54,9,2)))&"-"&VALUE(MID(D54,11,2))),"") -> 44019 | H54: KARANGSOKO | I54: RT 08 RW 02 | J54: 0 | K54: 0 | L54: 0 | M54: Tidak | O54: Non disabilitas | Q54: Tidak | R54: Tidak | S54: Tidak | U54: Tidak | AG54: =IF(D!BE50="","",IF(D!BE50<-3,"Gizi Buruk",IF(AND(D!BE50>=-3,D!BE50<-2),"Gizi Kurang",IF(AND(D!BE50>=-2,D!BE50<2),"Gizi Normal","Gizi Lebih")))) -> Gizi Buruk | AH54: =IF(D!BH50="","",IF(D!BH50<-3,"Sangat Pendek",IF(AND(D!BH50>=-3,D!BH50<-2),"Pendek",IF(AND(D!CB212>=-2,D!BH50<2),"Normal","Jangkung")))) -> Sangat Pendek | AI54: =IF(D!BK50="","",(IF(D!BK50<-3,"Sangat Kurus",IF(AND(D!BK50>=-3,D!BK50<-2),"Kurus",IF(AND(D!BK50>=-2,D!BK50<2),"Normal","Gemuk"))))) | AJ54: =IF(D!BN50="","",IF(D!BN50<-3,"Sgt Kurus",IF(AND(D!BN50>=-3,D!BN50<-2),"Kurus",IF(AND(D!BN50>=-2,D!BN50<1),"Normal",IF(AND(D!BN50>=1,D!BN50<2),"Gemuk","Obesitas"))))) | AP54: Sesuai usia | AS54: Tidak | AU54: Tidak | AX54: Tidak
B55: 42 | C55: 45804 | D55: 3503111705220003 | E55: SHAKABIAN ATHALLA YULIAWAN | F55: =IFERROR(DATEDIF(G55,C55,"Y") & " thn. " &IF(DATEDIF(G55,C55,"YM")<10,"0"&DATEDIF(G55,C55,"YM"),DATEDIF(G55,C55,"YM")) & " bln.","") -> 3 thn. 00 bln. | G55: =IFERROR(ABS(IF(VALUE(MID(D55,7,2))>40,VALUE(MID(D55,7,2))-40,VALUE(MID(D55,7,2)))&"-"&IF(VALUE(MID(D55,9,2))<10,"0"&VALUE(MID(D55,9,2)),VALUE(MID(D55,9,2)))&"-"&VALUE(MID(D55,11,2))),"") -> 44698 | H55: KARANGSOKO | I55: rt 08 | J55: 97 | K55: 15.2 | L55: 0 | M55: Tidak | O55: Non disabilitas | Q55: Tidak | R55: Tidak | S55: Tidak | U55: Tidak | AG55: =IF(D!BE51="","",IF(D!BE51<-3,"Gizi Buruk",IF(AND(D!BE51>=-3,D!BE51<-2),"Gizi Kurang",IF(AND(D!BE51>=-2,D!BE51<2),"Gizi Normal","Gizi Lebih")))) -> Gizi Buruk | AH55: =IF(D!BH51="","",IF(D!BH51<-3,"Sangat Pendek",IF(AND(D!BH51>=-3,D!BH51<-2),"Pendek",IF(AND(D!CB213>=-2,D!BH51<2),"Normal","Jangkung")))) -> Normal | AI55: =IF(D!BK51="","",(IF(D!BK51<-3,"Sangat Kurus",IF(AND(D!BK51>=-3,D!BK51<-2),"Kurus",IF(AND(D!BK51>=-2,D!BK51<2),"Normal","Gemuk"))))) -> Sangat Kurus | AJ55: =IF(D!BN51="","",IF(D!BN51<-3,"Sgt Kurus",IF(AND(D!BN51>=-3,D!BN51<-2),"Kurus",IF(AND(D!BN51>=-2,D!BN51<1),"Normal",IF(AND(D!BN51>=1,D!BN51<2),"Gemuk","Obesitas"))))) -> Sgt Kurus | AP55: Sesuai usia | AS55: Tidak | AU55: Tidak | AX55: Tidak
B56: 43 | C56: 45804 | D56: 350311500322000x | E56: ALIFA ZAHRA TAZKIYA | F56: =IFERROR(DATEDIF(G56,C56,"Y") & " thn. " &IF(DATEDIF(G56,C56,"YM")<10,"0"&DATEDIF(G56,C56,"YM"),DATEDIF(G56,C56,"YM")) & " bln.","") -> 3 thn. 02 bln. | G56: =IFERROR(ABS(IF(VALUE(MID(D56,7,2))>40,VALUE(MID(D56,7,2))-40,VALUE(MID(D56,7,2)))&"-"&IF(VALUE(MID(D56,9,2))<10,"0"&VALUE(MID(D56,9,2)),VALUE(MID(D56,9,2)))&"-"&VALUE(MID(D56,11,2))),"") -> 44630 | H56: KARANGSOKO | I56: RT 10 RW 02 | J56: 94 | K56: 15.6 | L56: 0 | M56: Tidak | O56: Non disabilitas | Q56: Tidak | R56: Tidak | S56: Tidak | U56: Tidak | AG56: =IF(D!BE52="","",IF(D!BE52<-3,"Gizi Buruk",IF(AND(D!BE52>=-3,D!BE52<-2),"Gizi Kurang",IF(AND(D!BE52>=-2,D!BE52<2),"Gizi Normal","Gizi Lebih")))) -> Gizi Buruk | AH56: =IF(D!BH52="","",IF(D!BH52<-3,"Sangat Pendek",IF(AND(D!BH52>=-3,D!BH52<-2),"Pendek",IF(AND(D!CB214>=-2,D!BH52<2),"Normal","Jangkung")))) -> Normal | AI56: =IF(D!BK52="","",(IF(D!BK52<-3,"Sangat Kurus",IF(AND(D!BK52>=-3,D!BK52<-2),"Kurus",IF(AND(D!BK52>=-2,D!BK52<2),"Normal","Gemuk"))))) -> Sangat Kurus | AJ56: =IF(D!BN52="","",IF(D!BN52<-3,"Sgt Kurus",IF(AND(D!BN52>=-3,D!BN52<-2),"Kurus",IF(AND(D!BN52>=-2,D!BN52<1),"Normal",IF(AND(D!BN52>=1,D!BN52<2),"Gemuk","Obesitas"))))) -> Sgt Kurus | AP56: Sesuai usia | AS56: Tidak | AU56: Tidak | AX56: Tidak
B57: 44 | F57: =IFERROR(DATEDIF(G57,C57,"Y") & " thn. " &IF(DATEDIF(G57,C57,"YM")<10,"0"&DATEDIF(G57,C57,"YM"),DATEDIF(G57,C57,"YM")) & " bln.","") | G57: =IFERROR(ABS(IF(VALUE(MID(D57,7,2))>40,VALUE(MID(D57,7,2))-40,VALUE(MID(D57,7,2)))&"-"&IF(VALUE(MID(D57,9,2))<10,"0"&VALUE(MID(D57,9,2)),VALUE(MID(D57,9,2)))&"-"&VALUE(MID(D57,11,2))),"") | AG57: =IF(D!BE53="","",IF(D!BE53<-3,"Gizi Buruk",IF(AND(D!BE53>=-3,D!BE53<-2),"Gizi Kurang",IF(AND(D!BE53>=-2,D!BE53<2),"Gizi Normal","Gizi Lebih")))) | AH57: =IF(D!BH53="","",IF(D!BH53<-3,"Sangat Pendek",IF(AND(D!BH53>=-3,D!BH53<-2),"Pendek",IF(AND(D!CB215>=-2,D!BH53<2),"Normal","Jangkung")))) | AI57: =IF(D!BK53="","",(IF(D!BK53<-3,"Sangat Kurus",IF(AND(D!BK53>=-3,D!BK53<-2),"Kurus",IF(AND(D!BK53>=-2,D!BK53<2),"Normal","Gemuk"))))) | AJ57: =IF(D!BN53="","",IF(D!BN53<-3,"Sgt Kurus",IF(AND(D!BN53>=-3,D!BN53<-2),"Kurus",IF(AND(D!BN53>=-2,D!BN53<1),"Normal",IF(AND(D!BN53>=1,D!BN53<2),"Gemuk","Obesitas")))))
B58: 45 | F58: =IFERROR(DATEDIF(G58,C58,"Y") & " thn. " &IF(DATEDIF(G58,C58,"YM")<10,"0"&DATEDIF(G58,C58,"YM"),DATEDIF(G58,C58,"YM")) & " bln.","") | G58: =IFERROR(ABS(IF(VALUE(MID(D58,7,2))>40,VALUE(MID(D58,7,2))-40,VALUE(MID(D58,7,2)))&"-"&IF(VALUE(MID(D58,9,2))<10,"0"&VALUE(MID(D58,9,2)),VALUE(MID(D58,9,2)))&"-"&VALUE(MID(D58,11,2))),"") | AG58: =IF(D!BE54="","",IF(D!BE54<-3,"Gizi Buruk",IF(AND(D!BE54>=-3,D!BE54<-2),"Gizi Kurang",IF(AND(D!BE54>=-2,D!BE54<2),"Gizi Normal","Gizi Lebih")))) | AH58: =IF(D!BH54="","",IF(D!BH54<-3,"Sangat Pendek",IF(AND(D!BH54>=-3,D!BH54<-2),"Pendek",IF(AND(D!CB216>=-2,D!BH54<2),"Normal","Jangkung")))) | AI58: =IF(D!BK54="","",(IF(D!BK54<-3,"Sangat Kurus",IF(AND(D!BK54>=-3,D!BK54<-2),"Kurus",IF(AND(D!BK54>=-2,D!BK54<2),"Normal","Gemuk"))))) | AJ58: =IF(D!BN54="","",IF(D!BN54<-3,"Sgt Kurus",IF(AND(D!BN54>=-3,D!BN54<-2),"Kurus",IF(AND(D!BN54>=-2,D!BN54<1),"Normal",IF(AND(D!BN54>=1,D!BN54<2),"Gemuk","Obesitas")))))
B59: 46 | F59: =IFERROR(DATEDIF(G59,C59,"Y") & " thn. " &IF(DATEDIF(G59,C59,"YM")<10,"0"&DATEDIF(G59,C59,"YM"),DATEDIF(G59,C59,"YM")) & " bln.","") | G59: =IFERROR(ABS(IF(VALUE(MID(D59,7,2))>40,VALUE(MID(D59,7,2))-40,VALUE(MID(D59,7,2)))&"-"&IF(VALUE(MID(D59,9,2))<10,"0"&VALUE(MID(D59,9,2)),VALUE(MID(D59,9,2)))&"-"&VALUE(MID(D59,11,2))),"") | AG59: =IF(D!BE55="","",IF(D!BE55<-3,"Gizi Buruk",IF(AND(D!BE55>=-3,D!BE55<-2),"Gizi Kurang",IF(AND(D!BE55>=-2,D!BE55<2),"Gizi Normal","Gizi Lebih")))) | AH59: =IF(D!BH55="","",IF(D!BH55<-3,"Sangat Pendek",IF(AND(D!BH55>=-3,D!BH55<-2),"Pendek",IF(AND(D!CB217>=-2,D!BH55<2),"Normal","Jangkung")))) | AI59: =IF(D!BK55="","",(IF(D!BK55<-3,"Sangat Kurus",IF(AND(D!BK55>=-3,D!BK55<-2),"Kurus",IF(AND(D!BK55>=-2,D!BK55<2),"Normal","Gemuk"))))) | AJ59: =IF(D!BN55="","",IF(D!BN55<-3,"Sgt Kurus",IF(AND(D!BN55>=-3,D!BN55<-2),"Kurus",IF(AND(D!BN55>=-2,D!BN55<1),"Normal",IF(AND(D!BN55>=1,D!BN55<2),"Gemuk","Obesitas")))))
B60: 47 | F60: =IFERROR(DATEDIF(G60,C60,"Y") & " thn. " &IF(DATEDIF(G60,C60,"YM")<10,"0"&DATEDIF(G60,C60,"YM"),DATEDIF(G60,C60,"YM")) & " bln.","") | G60: =IFERROR(ABS(IF(VALUE(MID(D60,7,2))>40,VALUE(MID(D60,7,2))-40,VALUE(MID(D60,7,2)))&"-"&IF(VALUE(MID(D60,9,2))<10,"0"&VALUE(MID(D60,9,2)),VALUE(MID(D60,9,2)))&"-"&VALUE(MID(D60,11,2))),"") | AG60: =IF(D!BE56="","",IF(D!BE56<-3,"Gizi Buruk",IF(AND(D!BE56>=-3,D!BE56<-2),"Gizi Kurang",IF(AND(D!BE56>=-2,D!BE56<2),"Gizi Normal","Gizi Lebih")))) | AH60: =IF(D!BH56="","",IF(D!BH56<-3,"Sangat Pendek",IF(AND(D!BH56>=-3,D!BH56<-2),"Pendek",IF(AND(D!CB218>=-2,D!BH56<2),"Normal","Jangkung")))) | AI60: =IF(D!BK56="","",(IF(D!BK56<-3,"Sangat Kurus",IF(AND(D!BK56>=-3,D!BK56<-2),"Kurus",IF(AND(D!BK56>=-2,D!BK56<2),"Normal","Gemuk"))))) | AJ60: =IF(D!BN56="","",IF(D!BN56<-3,"Sgt Kurus",IF(AND(D!BN56>=-3,D!BN56<-2),"Kurus",IF(AND(D!BN56>=-2,D!BN56<1),"Normal",IF(AND(D!BN56>=1,D!BN56<2),"Gemuk","Obesitas")))))
B61: 48 | F61: =IFERROR(DATEDIF(G61,C61,"Y") & " thn. " &IF(DATEDIF(G61,C61,"YM")<10,"0"&DATEDIF(G61,C61,"YM"),DATEDIF(G61,C61,"YM")) & " bln.","") | G61: =IFERROR(ABS(IF(VALUE(MID(D61,7,2))>40,VALUE(MID(D61,7,2))-40,VALUE(MID(D61,7,2)))&"-"&IF(VALUE(MID(D61,9,2))<10,"0"&VALUE(MID(D61,9,2)),VALUE(MID(D61,9,2)))&"-"&VALUE(MID(D61,11,2))),"") | AG61: =IF(D!BE57="","",IF(D!BE57<-3,"Gizi Buruk",IF(AND(D!BE57>=-3,D!BE57<-2),"Gizi Kurang",IF(AND(D!BE57>=-2,D!BE57<2),"Gizi Normal","Gizi Lebih")))) | AH61: =IF(D!BH57="","",IF(D!BH57<-3,"Sangat Pendek",IF(AND(D!BH57>=-3,D!BH57<-2),"Pendek",IF(AND(D!CB219>=-2,D!BH57<2),"Normal","Jangkung")))) | AI61: =IF(D!BK57="","",(IF(D!BK57<-3,"Sangat Kurus",IF(AND(D!BK57>=-3,D!BK57<-2),"Kurus",IF(AND(D!BK57>=-2,D!BK57<2),"Normal","Gemuk"))))) | AJ61: =IF(D!BN57="","",IF(D!BN57<-3,"Sgt Kurus",IF(AND(D!BN57>=-3,D!BN57<-2),"Kurus",IF(AND(D!BN57>=-2,D!BN57<1),"Normal",IF(AND(D!BN57>=1,D!BN57<2),"Gemuk","Obesitas")))))
B62: 49 | F62: =IFERROR(DATEDIF(G62,C62,"Y") & " thn. " &IF(DATEDIF(G62,C62,"YM")<10,"0"&DATEDIF(G62,C62,"YM"),DATEDIF(G62,C62,"YM")) & " bln.","") | G62: =IFERROR(ABS(IF(VALUE(MID(D62,7,2))>40,VALUE(MID(D62,7,2))-40,VALUE(MID(D62,7,2)))&"-"&IF(VALUE(MID(D62,9,2))<10,"0"&VALUE(MID(D62,9,2)),VALUE(MID(D62,9,2)))&"-"&VALUE(MID(D62,11,2))),"") | AG62: =IF(D!BE58="","",IF(D!BE58<-3,"Gizi Buruk",IF(AND(D!BE58>=-3,D!BE58<-2),"Gizi Kurang",IF(AND(D!BE58>=-2,D!BE58<2),"Gizi Normal","Gizi Lebih")))) | AH62: =IF(D!BH58="","",IF(D!BH58<-3,"Sangat Pendek",IF(AND(D!BH58>=-3,D!BH58<-2),"Pendek",IF(AND(D!CB220>=-2,D!BH58<2),"Normal","Jangkung")))) | AI62: =IF(D!BK58="","",(IF(D!BK58<-3,"Sangat Kurus",IF(AND(D!BK58>=-3,D!BK58<-2),"Kurus",IF(AND(D!BK58>=-2,D!BK58<2),"Normal","Gemuk"))))) | AJ62: =IF(D!BN58="","",IF(D!BN58<-3,"Sgt Kurus",IF(AND(D!BN58>=-3,D!BN58<-2),"Kurus",IF(AND(D!BN58>=-2,D!BN58<1),"Normal",IF(AND(D!BN58>=1,D!BN58<2),"Gemuk","Obesitas")))))
B63: 50 | F63: =IFERROR(DATEDIF(G63,C63,"Y") & " thn. " &IF(DATEDIF(G63,C63,"YM")<10,"0"&DATEDIF(G63,C63,"YM"),DATEDIF(G63,C63,"YM")) & " bln.","") | G63: =IFERROR(ABS(IF(VALUE(MID(D63,7,2))>40,VALUE(MID(D63,7,2))-40,VALUE(MID(D63,7,2)))&"-"&IF(VALUE(MID(D63,9,2))<10,"0"&VALUE(MID(D63,9,2)),VALUE(MID(D63,9,2)))&"-"&VALUE(MID(D63,11,2))),"") | AG63: =IF(D!BE59="","",IF(D!BE59<-3,"Gizi Buruk",IF(AND(D!BE59>=-3,D!BE59<-2),"Gizi Kurang",IF(AND(D!BE59>=-2,D!BE59<2),"Gizi Normal","Gizi Lebih")))) | AH63: =IF(D!BH59="","",IF(D!BH59<-3,"Sangat Pendek",IF(AND(D!BH59>=-3,D!BH59<-2),"Pendek",IF(AND(D!CB221>=-2,D!BH59<2),"Normal","Jangkung")))) | AI63: =IF(D!BK59="","",(IF(D!BK59<-3,"Sangat Kurus",IF(AND(D!BK59>=-3,D!BK59<-2),"Kurus",IF(AND(D!BK59>=-2,D!BK59<2),"Normal","Gemuk"))))) | AJ63: =IF(D!BN59="","",IF(D!BN59<-3,"Sgt Kurus",IF(AND(D!BN59>=-3,D!BN59<-2),"Kurus",IF(AND(D!BN59>=-2,D!BN59<1),"Normal",IF(AND(D!BN59>=1,D!BN59<2),"Gemuk","Obesitas")))))
B64: 51 | F64: =IFERROR(DATEDIF(G64,C64,"Y") & " thn. " &IF(DATEDIF(G64,C64,"YM")<10,"0"&DATEDIF(G64,C64,"YM"),DATEDIF(G64,C64,"YM")) & " bln.","") | G64: =IFERROR(ABS(IF(VALUE(MID(D64,7,2))>40,VALUE(MID(D64,7,2))-40,VALUE(MID(D64,7,2)))&"-"&IF(VALUE(MID(D64,9,2))<10,"0"&VALUE(MID(D64,9,2)),VALUE(MID(D64,9,2)))&"-"&VALUE(MID(D64,11,2))),"") | AG64: =IF(D!BE60="","",IF(D!BE60<-3,"Gizi Buruk",IF(AND(D!BE60>=-3,D!BE60<-2),"Gizi Kurang",IF(AND(D!BE60>=-2,D!BE60<2),"Gizi Normal","Gizi Lebih")))) | AH64: =IF(D!BH60="","",IF(D!BH60<-3,"Sangat Pendek",IF(AND(D!BH60>=-3,D!BH60<-2),"Pendek",IF(AND(D!CB222>=-2,D!BH60<2),"Normal","Jangkung")))) | AI64: =IF(D!BK60="","",(IF(D!BK60<-3,"Sangat Kurus",IF(AND(D!BK60>=-3,D!BK60<-2),"Kurus",IF(AND(D!BK60>=-2,D!BK60<2),"Normal","Gemuk"))))) | AJ64: =IF(D!BN60="","",IF(D!BN60<-3,"Sgt Kurus",IF(AND(D!BN60>=-3,D!BN60<-2),"Kurus",IF(AND(D!BN60>=-2,D!BN60<1),"Normal",IF(AND(D!BN60>=1,D!BN60<2),"Gemuk","Obesitas")))))
B65: 52 | F65: =IFERROR(DATEDIF(G65,C65,"Y") & " thn. " &IF(DATEDIF(G65,C65,"YM")<10,"0"&DATEDIF(G65,C65,"YM"),DATEDIF(G65,C65,"YM")) & " bln.","") | G65: =IFERROR(ABS(IF(VALUE(MID(D65,7,2))>40,VALUE(MID(D65,7,2))-40,VALUE(MID(D65,7,2)))&"-"&IF(VALUE(MID(D65,9,2))<10,"0"&VALUE(MID(D65,9,2)),VALUE(MID(D65,9,2)))&"-"&VALUE(MID(D65,11,2))),"") | AG65: =IF(D!BE61="","",IF(D!BE61<-3,"Gizi Buruk",IF(AND(D!BE61>=-3,D!BE61<-2),"Gizi Kurang",IF(AND(D!BE61>=-2,D!BE61<2),"Gizi Normal","Gizi Lebih")))) | AH65: =IF(D!BH61="","",IF(D!BH61<-3,"Sangat Pendek",IF(AND(D!BH61>=-3,D!BH61<-2),"Pendek",IF(AND(D!CB223>=-2,D!BH61<2),"Normal","Jangkung")))) | AI65: =IF(D!BK61="","",(IF(D!BK61<-3,"Sangat Kurus",IF(AND(D!BK61>=-3,D!BK61<-2),"Kurus",IF(AND(D!BK61>=-2,D!BK61<2),"Normal","Gemuk"))))) | AJ65: =IF(D!BN61="","",IF(D!BN61<-3,"Sgt Kurus",IF(AND(D!BN61>=-3,D!BN61<-2),"Kurus",IF(AND(D!BN61>=-2,D!BN61<1),"Normal",IF(AND(D!BN61>=1,D!BN61<2),"Gemuk","Obesitas")))))
B66: 53 | F66: =IFERROR(DATEDIF(G66,C66,"Y") & " thn. " &IF(DATEDIF(G66,C66,"YM")<10,"0"&DATEDIF(G66,C66,"YM"),DATEDIF(G66,C66,"YM")) & " bln.","") | G66: =IFERROR(ABS(IF(VALUE(MID(D66,7,2))>40,VALUE(MID(D66,7,2))-40,VALUE(MID(D66,7,2)))&"-"&IF(VALUE(MID(D66,9,2))<10,"0"&VALUE(MID(D66,9,2)),VALUE(MID(D66,9,2)))&"-"&VALUE(MID(D66,11,2))),"") | AG66: =IF(D!BE62="","",IF(D!BE62<-3,"Gizi Buruk",IF(AND(D!BE62>=-3,D!BE62<-2),"Gizi Kurang",IF(AND(D!BE62>=-2,D!BE62<2),"Gizi Normal","Gizi Lebih")))) | AH66: =IF(D!BH62="","",IF(D!BH62<-3,"Sangat Pendek",IF(AND(D!BH62>=-3,D!BH62<-2),"Pendek",IF(AND(D!CB224>=-2,D!BH62<2),"Normal","Jangkung")))) | AI66: =IF(D!BK62="","",(IF(D!BK62<-3,"Sangat Kurus",IF(AND(D!BK62>=-3,D!BK62<-2),"Kurus",IF(AND(D!BK62>=-2,D!BK62<2),"Normal","Gemuk"))))) | AJ66: =IF(D!BN62="","",IF(D!BN62<-3,"Sgt Kurus",IF(AND(D!BN62>=-3,D!BN62<-2),"Kurus",IF(AND(D!BN62>=-2,D!BN62<1),"Normal",IF(AND(D!BN62>=1,D!BN62<2),"Gemuk","Obesitas")))))
B67: 54 | F67: =IFERROR(DATEDIF(G67,C67,"Y") & " thn. " &IF(DATEDIF(G67,C67,"YM")<10,"0"&DATEDIF(G67,C67,"YM"),DATEDIF(G67,C67,"YM")) & " bln.","") | G67: =IFERROR(ABS(IF(VALUE(MID(D67,7,2))>40,VALUE(MID(D67,7,2))-40,VALUE(MID(D67,7,2)))&"-"&IF(VALUE(MID(D67,9,2))<10,"0"&VALUE(MID(D67,9,2)),VALUE(MID(D67,9,2)))&"-"&VALUE(MID(D67,11,2))),"") | AG67: =IF(D!BE63="","",IF(D!BE63<-3,"Gizi Buruk",IF(AND(D!BE63>=-3,D!BE63<-2),"Gizi Kurang",IF(AND(D!BE63>=-2,D!BE63<2),"Gizi Normal","Gizi Lebih")))) | AH67: =IF(D!BH63="","",IF(D!BH63<-3,"Sangat Pendek",IF(AND(D!BH63>=-3,D!BH63<-2),"Pendek",IF(AND(D!CB225>=-2,D!BH63<2),"Normal","Jangkung")))) | AI67: =IF(D!BK63="","",(IF(D!BK63<-3,"Sangat Kurus",IF(AND(D!BK63>=-3,D!BK63<-2),"Kurus",IF(AND(D!BK63>=-2,D!BK63<2),"Normal","Gemuk"))))) | AJ67: =IF(D!BN63="","",IF(D!BN63<-3,"Sgt Kurus",IF(AND(D!BN63>=-3,D!BN63<-2),"Kurus",IF(AND(D!BN63>=-2,D!BN63<1),"Normal",IF(AND(D!BN63>=1,D!BN63<2),"Gemuk","Obesitas")))))
B68: 55 | F68: =IFERROR(DATEDIF(G68,C68,"Y") & " thn. " &IF(DATEDIF(G68,C68,"YM")<10,"0"&DATEDIF(G68,C68,"YM"),DATEDIF(G68,C68,"YM")) & " bln.","") | G68: =IFERROR(ABS(IF(VALUE(MID(D68,7,2))>40,VALUE(MID(D68,7,2))-40,VALUE(MID(D68,7,2)))&"-"&IF(VALUE(MID(D68,9,2))<10,"0"&VALUE(MID(D68,9,2)),VALUE(MID(D68,9,2)))&"-"&VALUE(MID(D68,11,2))),"") | AG68: =IF(D!BE64="","",IF(D!BE64<-3,"Gizi Buruk",IF(AND(D!BE64>=-3,D!BE64<-2),"Gizi Kurang",IF(AND(D!BE64>=-2,D!BE64<2),"Gizi Normal","Gizi Lebih")))) | AH68: =IF(D!BH64="","",IF(D!BH64<-3,"Sangat Pendek",IF(AND(D!BH64>=-3,D!BH64<-2),"Pendek",IF(AND(D!CB226>=-2,D!BH64<2),"Normal","Jangkung")))) | AI68: =IF(D!BK64="","",(IF(D!BK64<-3,"Sangat Kurus",IF(AND(D!BK64>=-3,D!BK64<-2),"Kurus",IF(AND(D!BK64>=-2,D!BK64<2),"Normal","Gemuk"))))) | AJ68: =IF(D!BN64="","",IF(D!BN64<-3,"Sgt Kurus",IF(AND(D!BN64>=-3,D!BN64<-2),"Kurus",IF(AND(D!BN64>=-2,D!BN64<1),"Normal",IF(AND(D!BN64>=1,D!BN64<2),"Gemuk","Obesitas")))))
... B613: 600 | F613: =IFERROR(DATEDIF(G613,C613,"Y") & " thn. " &IF(DATEDIF(G613,C613,"YM")<10,"0"&DATEDIF(G613,C613,"YM"),DATEDIF(G613,C613,"YM")) & " bln.","") | G613: =IFERROR(ABS(IF(VALUE(MID(D613,7,2))>40,VALUE(MID(D613,7,2))-40,VALUE(MID(D613,7,2)))&"-"&IF(VALUE(MID(D613,9,2))<10,"0"&VALUE(MID(D613,9,2)),VALUE(MID(D613,9,2)))&"-"&VALUE(MID(D613,11,2))),"") | AG613: =IF(D!BE609="","",IF(D!BE609<-3,"Gizi Buruk",IF(AND(D!BE609>=-3,D!BE609<-2),"Gizi Kurang",IF(AND(D!BE609>=-2,D!BE609<2),"Gizi Normal","Gizi Lebih")))) | AH613: =IF(D!BH609="","",IF(D!BH609<-3,"Sangat Pendek",IF(AND(D!BH609>=-3,D!BH609<-2),"Pendek",IF(AND(D!CB771>=-2,D!BH609<2),"Normal","Jangkung")))) | AI613: =IF(D!BK609="","",(IF(D!BK609<-3,"Sangat Kurus",IF(AND(D!BK609>=-3,D!BK609<-2),"Kurus",IF(AND(D!BK609>=-2,D!BK609<2),"Normal","Gemuk"))))) | AJ613: =IF(D!BN609="","",IF(D!BN609<-3,"Sgt Kurus",IF(AND(D!BN609>=-3,D!BN609<-2),"Kurus",IF(AND(D!BN609>=-2,D!BN609<1),"Normal",IF(AND(D!BN609>=1,D!BN609<2),"Gemuk","Obesitas")))))

Sheet D
AA10: 1 | AB10: =PKG!C14 -> 45779 | AC10: =PKG!G14 -> 45658 | AD10: =IFERROR(IF(VALUE(MID(PKG!D14,7,2))>40,"P","L"),"") -> L | AE10: =PKG!H14 -> KARANGSOKO | AF10: =IFERROR(VLOOKUP(AE10,$AW$10:$AX$16,2,0),"") -> 1 | AG10: =IFERROR(IF(AND(AE10<>"",AF10=""),"Luar Wil",AE10)&VLOOKUP(DAY(AB10),$AS$10:$AT$14,2),"") -> KARANGSOKOMg 1 | AH10: =IFERROR(DATEDIF(AC10,AB10,"Y"),"") -> 0 | AI10: =IFERROR(DATEDIF(AC10,AB10,"yM"),"") -> 4 | AJ10: =IFERROR(DATEDIF(AC10,AB10,"M"),"") -> 4 | AK10: =IFERROR(VLOOKUP(VLOOKUP(AJ10,$AM$10:$AN$13,2)&AD10,$AQ$10:$AR$17,2),"") | AM10: 216 | AN10: A | AO10: 18 | AP10: A | AQ10: AL | AR10: PKG USIA 18-29 TH | AS10: 1 | AT10: Mg 1 | AU10: =DAY(AB10) -> 2 | AV10: =VLOOKUP(DAY(AB10),$AS$10:$AT$14,2) -> Mg 1 | AW10: KARANGSOKO | AX10: 1 | AZ10: =IFERROR(DATEDIF(AC10,AB10,"M"),"") -> 4 | BA10: =IF(AZ10>216,"D",AZ10) -> 4 | BB10: =PKG!J14 -> 62 | BC10: =PKG!K14 -> 6.2 | BD10: =IFERROR(IF(AD10="L",VLOOKUP(BA10,$BZ$10:$CF$226,2),IF(AD10="P",VLOOKUP(BA10,$BZ$10:$CF$226,5),"")),"") -> 6.7 | BE10: =IFERROR((BC10-BD10)/IF(AD10="L",(IF(OR(BC10>BD10,BC10=BD10),VLOOKUP(BA10,$BZ$10:$CF$226,4),VLOOKUP(BA10,$BZ$10:$CF$226,3))),IF(OR(BC10>BD10,BC10=BD10),VLOOKUP(BA10,$BZ$10:$CF$226,7),VLOOKUP(BA10,$BZ$10:$CF$226,6))),"") -> -7.1651235 | BG10: =IFERROR(IF(AD10="L",VLOOKUP(BA10,$CH$10:$CN$226,2),IF(AD10="P",VLOOKUP(BA10,$CH$10:$CN$226,5),"")),"") -> 63.7 | BH10: =IFERROR((BB10-BG10)/IF(AD10="L",(IF(OR(BB10>BG10,BB10=BG10),VLOOKUP(BA10,$CH$10:$CN$226,4),VLOOKUP(BA10,$CH$10:$CN$226,3))),IF(OR(BB10>BG10,BB10=BG10),VLOOKUP(BA10,$CH$10:$CN$226,7),VLOOKUP(BA10,$CH$10:$CN$226,6))),"") -> -0.62962963 | BJ10: =IFERROR(IF(AD10="L",VLOOKUP(BB10,$CP$10:$CV$272,2),IF(AD10="P",VLOOKUP(BB10,$CP$10:$CV$272,5),"")),"") -> 6.2 | BK10: =IFERROR((BC10-BJ10)/IF(AD10="L",(IF(OR(BC10>BJ10,BC10=BJ10),VLOOKUP(BB10,$CP$10:$CV$272,4),VLOOKUP(BB10,$CP$10:$CV$272,3))),IF(OR(BC10>BJ10,BC10=BJ10),VLOOKUP(BB10,$CP$10:$CV$272,7),VLOOKUP(BB10,$CP$10:$CV$272,6))),"") -> -8.4980159 | BM10: =IFERROR(BC10/(BB10/100)^2,"") -> 0.65397734 | BN10: =IFERROR(IF(BM10>DP10,3+(BM10-DP10)/(DP10-DQ10),IF(BM10>DQ10,2+(BM10-DQ10)/(DP10-DQ10),IF(BM10>DR10,1+(BM10-DR10)/(DQ10-DR10),IF(BM10>DS10,(BM10-DS10)/(DR10-DS10),IF(BM10>DT10,-1+(BM10-DT10)/(DS10-DT10),IF(BM10>DU10,-2+(BM10-DU10)/(DT10-DU10),IF(BM10>DV10,-3+(BM10-DV10)/(DU10-DV10),-3-(DV10-BM10)/(DU10-DV10)))))))),"") -> -14.587293 | BZ10: 0 | CA10: 3.3 | CB10: 0.4 | CC10: 0.5 | CD10: 3.2 | CE10: 0.5 | CF10: 0.4 | CH10: 0 | CI10: 50.5 | CJ10: 2.3 | CK10: 2.3 | CL10: 49.9 | CM10: 2.2 | CN10: 2.1 | CP10: 49 | CQ10: 3.1 | CR10: 0.3 | CS10: 0.6 | CT10: 3.3 | CU10: 0.4 | CV10: 0.3 | CZ10: 0 | DA10: 18.1 | DB10: 16.3 | DC10: 14.8 | DD10: 13.4 | DE10: 12.2 | DF10: 11.1 | DG10: 10.2 | DH10: 17.7 | DI10: 16.1 | DJ10: 14.6 | DK10: 13.3 | DL10: 12.2 | DM10: 11.1 | DN10: 10.1 | DP10: =IFERROR(IF(AD10="L",VLOOKUP(BA10,$CZ$10:$DN$82,2),IF(AD10="P",VLOOKUP(BA10,$CZ$10:$DN$82,9),0)),"") -> 22.1 | DQ10: =IFERROR(IF(AD10="L",VLOOKUP(BA10,$CZ$10:$DN$82,3),IF(AD10="P",VLOOKUP(BA10,$CZ$10:$DN$82,10),0)),"") -> 20.3 | DR10: =IFERROR(IF(AD10="L",VLOOKUP(BA10,$CZ$10:$DN$82,4),IF(AD10="P",VLOOKUP(BA10,$CZ$10:$DN$82,11),0)),"") -> 18.7 | DS10: =IFERROR(IF(AD10="L",VLOOKUP(BA10,$CZ$10:$DN$82,5),IF(AD10="P",VLOOKUP(BA10,$CZ$10:$DN$82,12),0)),"") -> 17.2 | DT10: =IFERROR(IF(AD10="L",VLOOKUP(BA10,$CZ$10:$DN$82,6),IF(AD10="P",VLOOKUP(BA10,$CZ$10:$DN$82,13),0)),"") -> 15.8 | DU10: =IFERROR(IF(AD10="L",VLOOKUP(BA10,$CZ$10:$DN$82,7),IF(AD10="P",VLOOKUP(BA10,$CZ$10:$DN$82,14),0)),"") -> 14.5 | DV10: =IFERROR(IF(AD10="L",VLOOKUP(BA10,$CZ$10:$DN$82,8),IF(AD10="P",VLOOKUP(BA10,$CZ$10:$DN$82,15),0)),"") -> 13.4 | DZ10: 0 | EA10: 38.3 | EB10: 37 | EC10: 35.7 | ED10: 34.5 | EE10: 33.2 | EF10: 31.9 | EG10: 30.7 | EH10: 37.4 | EI10: 36.2 | EJ10: 35.1 | EK10: 33.9 | EL10: 32.7 | EM10: 31.5 | EN10: 30.3
AA11: 2 | AB11: =PKG!C15 -> 45780 | AC11: =PKG!G15 -> 45744 | AD11: =IFERROR(IF(VALUE(MID(PKG!D15,7,2))>40,"P","L"),"") -> L | AE11: =PKG!H15 -> KARANGSOKO | AF11: =IFERROR(VLOOKUP(AE11,$AW$10:$AX$16,2,0),"") -> 1 | AG11: =IFERROR(IF(AND(AE11<>"",AF11=""),"Luar Wil",AE11)&VLOOKUP(DAY(AB11),$AS$10:$AT$14,2),"") -> KARANGSOKOMg 1 | AH11: =IFERROR(DATEDIF(AC11,AB11,"Y"),"") -> 0 | AI11: =IFERROR(DATEDIF(AC11,AB11,"yM"),"") -> 1 | AJ11: =IFERROR(DATEDIF(AC11,AB11,"M"),"") -> 1 | AK11: =IFERROR(VLOOKUP(VLOOKUP(AJ11,$AM$10:$AN$13,2)&AD11,$AQ$10:$AR$17,2),"") | AM11: 360 | AN11: B | AO11: 30 | AP11: B | AQ11: AP | AR11: PKG USIA 18-29 TH | AS11: 7 | AT11: Mg 2 | AW11: KELUTAN | AX11: 3 | AZ11: =IFERROR(DATEDIF(AC11,AB11,"M"),"") -> 1 | BA11: =IF(AZ11>216,"D",AZ11) -> 1 | BB11: =PKG!J15 -> 57 | BC11: =PKG!K15 -> 5.6 | BD11: =IFERROR(IF(AD11="L",VLOOKUP(BA11,$BZ$10:$CF$226,2),IF(AD11="P",VLOOKUP(BA11,$BZ$10:$CF$226,5),"")),"") -> 4.3 | BE11: =IFERROR((BC11-BD11)/IF(AD11="L",(IF(OR(BC11>BD11,BC11=BD11),VLOOKUP(BA11,$BZ$10:$CF$226,4),VLOOKUP(BA11,$BZ$10:$CF$226,3))),IF(OR(BC11>BD11,BC11=BD11),VLOOKUP(BA11,$BZ$10:$CF$226,7),VLOOKUP(BA11,$BZ$10:$CF$226,6))),"") -> 1.8571429 | BG11: =IFERROR(IF(AD11="L",VLOOKUP(BA11,$CH$10:$CN$226,2),IF(AD11="P",VLOOKUP(BA11,$CH$10:$CN$226,5),"")),"") -> 54.6 | BH11: =IFERROR((BB11-BG11)/IF(AD11="L",(IF(OR(BB11>BG11,BB11=BG11),VLOOKUP(BA11,$CH$10:$CN$226,4),VLOOKUP(BA11,$CH$10:$CN$226,3))),IF(OR(BB11>BG11,BB11=BG11),VLOOKUP(BA11,$CH$10:$CN$226,7),VLOOKUP(BA11,$CH$10:$CN$226,6))),"") -> 0.96 | BJ11: =IFERROR(IF(AD11="L",VLOOKUP(BB11,$CP$10:$CV$272,2),IF(AD11="P",VLOOKUP(BB11,$CP$10:$CV$272,5),"")),"") -> 4.8 | BK11: =IFERROR((BC11-BJ11)/IF(AD11="L",(IF(OR(BC11>BJ11,BC11=BJ11),VLOOKUP(BB11,$CP$10:$CV$272,4),VLOOKUP(BB11,$CP$10:$CV$272,3))),IF(OR(BC11>BJ11,BC11=BJ11),VLOOKUP(BB11,$CP$10:$CV$272,7),VLOOKUP(BB11,$CP$10:$CV$272,6))),"") -> 1.1428571 | BM11: =IFERROR(BC11/(BB11/100)^2,"") -> 17.236073 | BN11: =IFERROR(IF(BM11>DP11,3+(BM11-DP11)/(DP11-DQ11),IF(BM11>DQ11,2+(BM11-DQ11)/(DP11-DQ11),IF(BM11>DR11,1+(BM11-DR11)/(DQ11-DR11),IF(BM11>DS11,(BM11-DS11)/(DR11-DS11),IF(BM11>DT11,-1+(BM11-DT11)/(DS11-DT11),IF(BM11>DU11,-2+(BM11-DU11)/(DT11-DU11),IF(BM11>DV11,-3+(BM11-DV11)/(DU11-DV11),-3-(DV11-BM11)/(DU11-DV11)))))))),"") -> 1.6240484 | BZ11: 1 | CA11: 4.3 | CB11: 0.7 | CC11: 0.7 | CD11: 4 | CE11: 0.6 | CF11: 0.5 | CH11: 1 | CI11: 54.6 | CJ11: 2.5 | CK11: 2.5 | CL11: 53.5 | CM11: 2.3 | CN11: 2.3 | CP11: 49.5 | CQ11: 3.2 | CR11: 0.3 | CS11: 0.6 | CT11: 3.4 | CU11: 0.4 | CV11: 0.3 | CZ11: 1 | DA11: 19.4 | DB11: 17.8 | DC11: 16.3 | DD11: 14.9 | DE11: 13.6 | DF11: 12.4 | DG11: 11.3 | DH11: 19.1 | DI11: 17.5 | DJ11: 16 | DK11: 14.6 | DL11: 13.2 | DM11: 12 | DN11: 10.8 | DP11: =IFERROR(IF(AD11="L",VLOOKUP(BA11,$CZ$10:$DN$82,2),IF(AD11="P",VLOOKUP(BA11,$CZ$10:$DN$82,9),0)),"") -> 19.4 | DQ11: =IFERROR(IF(AD11="L",VLOOKUP(BA11,$CZ$10:$DN$82,3),IF(AD11="P",VLOOKUP(BA11,$CZ$10:$DN$82,10),0)),"") -> 17.8 | DR11: =IFERROR(IF(AD11="L",VLOOKUP(BA11,$CZ$10:$DN$82,4),IF(AD11="P",VLOOKUP(BA11,$CZ$10:$DN$82,11),0)),"") -> 16.3 | DS11: =IFERROR(IF(AD11="L",VLOOKUP(BA11,$CZ$10:$DN$82,5),IF(AD11="P",VLOOKUP(BA11,$CZ$10:$DN$82,12),0)),"") -> 14.9 | DT11: =IFERROR(IF(AD11="L",VLOOKUP(BA11,$CZ$10:$DN$82,6),IF(AD11="P",VLOOKUP(BA11,$CZ$10:$DN$82,13),0)),"") -> 13.6 | DU11: =IFERROR(IF(AD11="L",VLOOKUP(BA11,$CZ$10:$DN$82,7),IF(AD11="P",VLOOKUP(BA11,$CZ$10:$DN$82,14),0)),"") -> 12.4 | DV11: =IFERROR(IF(AD11="L",VLOOKUP(BA11,$CZ$10:$DN$82,8),IF(AD11="P",VLOOKUP(BA11,$CZ$10:$DN$82,15),0)),"") -> 11.3 | DZ11: 1 | EA11: 40.8 | EB11: 39.6 | EC11: 38.4 | ED11: 37.3 | EE11: 36.1 | EF11: 34.9 | EG11: 33.8 | EH11: 40.1 | EI11: 38.9 | EJ11: 37.7 | EK11: 36.5 | EL11: 35.4 | EM11: 34.2 | EN11: 33
AA12: 3 | AB12: =PKG!C16 -> 45782 | AC12: =PKG!G16 -> 45663 | AD12: =IFERROR(IF(VALUE(MID(PKG!D16,7,2))>40,"P","L"),"") -> P | AE12: =PKG!H16 -> KARANGSOKO | AF12: =IFERROR(VLOOKUP(AE12,$AW$10:$AX$16,2,0),"") -> 1 | AG12: =IFERROR(IF(AND(AE12<>"",AF12=""),"Luar Wil",AE12)&VLOOKUP(DAY(AB12),$AS$10:$AT$14,2),"") -> KARANGSOKOMg 1 | AH12: =IFERROR(DATEDIF(AC12,AB12,"Y"),"") -> 0 | AI12: =IFERROR(DATEDIF(AC12,AB12,"yM"),"") -> 3 | AJ12: =IFERROR(DATEDIF(AC12,AB12,"M"),"") -> 3 | AK12: =IFERROR(VLOOKUP(VLOOKUP(AJ12,$AM$10:$AN$13,2)&AD12,$AQ$10:$AR$17,2),"") | AM12: 480 | AN12: C | AO12: 40 | AP12: C | AQ12: BL | AR12: PKG USIA 30-39 TH (Laki2) | AS12: 14 | AT12: Mg 3 | AW12: Luar Wil | AX12: 7 | AZ12: =IFERROR(DATEDIF(AC12,AB12,"M"),"") -> 3 | BA12: =IF(AZ12>216,"D",AZ12) -> 3 | BB12: =PKG!J16 -> 61 | BC12: =PKG!K16 -> 7 | BD12: =IFERROR(IF(AD12="L",VLOOKUP(BA12,$BZ$10:$CF$226,2),IF(AD12="P",VLOOKUP(BA12,$BZ$10:$CF$226,5),"")),"") -> 5.4 | BE12: =IFERROR((BC12-BD12)/IF(AD12="L",(IF(OR(BC12>BD12,BC12=BD12),VLOOKUP(BA12,$BZ$10:$CF$226,4),VLOOKUP(BA12,$BZ$10:$CF$226,3))),IF(OR(BC12>BD12,BC12=BD12),VLOOKUP(BA12,$BZ$10:$CF$226,7),VLOOKUP(BA12,$BZ$10:$CF$226,6))),"") -> 2 | BG12: =IFERROR(IF(AD12="L",VLOOKUP(BA12,$CH$10:$CN$226,2),IF(AD12="P",VLOOKUP(BA12,$CH$10:$CN$226,5),"")),"") -> 59.5 | BH12: =IFERROR((BB12-BG12)/IF(AD12="L",(IF(OR(BB12>BG12,BB12=BG12),VLOOKUP(BA12,$CH$10:$CN$226,4),VLOOKUP(BA12,$CH$10:$CN$226,3))),IF(OR(BB12>BG12,BB12=BG12),VLOOKUP(BA12,$CH$10:$CN$226,7),VLOOKUP(BA12,$CH$10:$CN$226,6))),"") -> 0.625 | BJ12: =IFERROR(IF(AD12="L",VLOOKUP(BB12,$CP$10:$CV$272,2),IF(AD12="P",VLOOKUP(BB12,$CP$10:$CV$272,5),"")),"") -> 5.8 | BK12: =IFERROR((BC12-BJ12)/IF(AD12="L",(IF(OR(BC12>BJ12,BC12=BJ12),VLOOKUP(BB12,$CP$10:$CV$272,4),VLOOKUP(BB12,$CP$10:$CV$272,3))),IF(OR(BC12>BJ12,BC12=BJ12),VLOOKUP(BB12,$CP$10:$CV$272,7),VLOOKUP(BB12,$CP$10:$CV$272,6))),"") -> 2 | BM12: =IFERROR(BC12/(BB12/100)^2,"") -> 18.812147 | BN12: =IFERROR(IF(BM12>DP12,3+(BM12-DP12)/(DP12-DQ12),IF(BM12>DQ12,2+(BM12-DQ12)/(DP12-DQ12),IF(BM12>DR12,1+(BM12-DR12)/(DQ12-DR12),IF(BM12>DS12,(BM12-DS12)/(DR12-DS12),IF(BM12>DT12,-1+(BM12-DT12)/(DS12-DT12),IF(BM12>DU12,-2+(BM12-DU12)/(DT12-DU12),IF(BM12>DV12,-3+(BM12-DV12)/(DU12-DV12),-3-(DV12-BM12)/(DU12-DV12)))))))),"") -> 1.5067485 | BZ12: 2 | CA12: 5.2 | CB12: 0.9 | CC12: 0.8 | CD12: 4.7 | CE12: 0.7 | CF12: 0.7 | CH12: 2 | CI12: 58.1 | CJ12: 2.6 | CK12: 2.6 | CL12: 56.8 | CM12: 2.4 | CN12: 2.4 | CP12: 50 | CQ12: 3.3 | CR12: 0.4 | CS12: 0.6 | CT12: 3.4 | CU12: 0.4 | CV12: 0.4 | CZ12: 2 | DA12: 21.1 | DB12: 19.4 | DC12: 17.8 | DD12: 16.3 | DE12: 15 | DF12: 13.7 | DG12: 12.5 | DH12: 20.7 | DI12: 19 | DJ12: 17.3 | DK12: 15.8 | DL12: 14.3 | DM12: 13 | DN12: 11.8 | DP12: =IFERROR(IF(AD12="L",VLOOKUP(BA12,$CZ$10:$DN$82,2),IF(AD12="P",VLOOKUP(BA12,$CZ$10:$DN$82,9),0)),"") -> 21.5 | DQ12: =IFERROR(IF(AD12="L",VLOOKUP(BA12,$CZ$10:$DN$82,3),IF(AD12="P",VLOOKUP(BA12,$CZ$10:$DN$82,10),0)),"") -> 19.7 | DR12: =IFERROR(IF(AD12="L",VLOOKUP(BA12,$CZ$10:$DN$82,4),IF(AD12="P",VLOOKUP(BA12,$CZ$10:$DN$82,11),0)),"") -> 17.9 | DS12: =IFERROR(IF(AD12="L",VLOOKUP(BA12,$CZ$10:$DN$82,5),IF(AD12="P",VLOOKUP(BA12,$CZ$10:$DN$82,12),0)),"") -> 16.4 | DT12: =IFERROR(IF(AD12="L",VLOOKUP(BA12,$CZ$10:$DN$82,6),IF(AD12="P",VLOOKUP(BA12,$CZ$10:$DN$82,13),0)),"") -> 14.9 | DU12: =IFERROR(IF(AD12="L",VLOOKUP(BA12,$CZ$10:$DN$82,7),IF(AD12="P",VLOOKUP(BA12,$CZ$10:$DN$82,14),0)),"") -> 13.6 | DV12: =IFERROR(IF(AD12="L",VLOOKUP(BA12,$CZ$10:$DN$82,8),IF(AD12="P",VLOOKUP(BA12,$CZ$10:$DN$82,15),0)),"") -> 12.4 | DZ12: 2 | EA12: 42.6 | EB12: 41.5 | EC12: 40.3 | ED12: 39.1 | EE12: 38 | EF12: 36.8 | EG12: 35.6 | EH12: 41.9 | EI12: 40.7 | EJ12: 39.5 | EK12: 38.3 | EL12: 37 | EM12: 35.8 | EN12: 34.6
AA13: 4 | AB13: =PKG!C17 -> 45787 | AC13: =PKG!G17 -> 45752 | AD13: =IFERROR(IF(VALUE(MID(PKG!D17,7,2))>40,"P","L"),"") -> P | AE13: =PKG!H17 -> KARANGSOKO | AF13: =IFERROR(VLOOKUP(AE13,$AW$10:$AX$16,2,0),"") -> 1 | AG13: =IFERROR(IF(AND(AE13<>"",AF13=""),"Luar Wil",AE13)&VLOOKUP(DAY(AB13),$AS$10:$AT$14,2),"") -> KARANGSOKOMg 2 | AH13: =IFERROR(DATEDIF(AC13,AB13,"Y"),"") -> 0 | AI13: =IFERROR(DATEDIF(AC13,AB13,"yM"),"") -> 1 | AJ13: =IFERROR(DATEDIF(AC13,AB13,"M"),"") -> 1 | AK13: =IFERROR(VLOOKUP(VLOOKUP(AJ13,$AM$10:$AN$13,2)&AD13,$AQ$10:$AR$17,2),"") | AM13: 720 | AN13: D | AO13: 60 | AP13: D | AQ13: BP | AR13: PKG USIA 30-39 TH (Perempuan) | AS13: 21 | AT13: Mg 4 | AW13: NGANTRU | AX13: 6 | AZ13: =IFERROR(DATEDIF(AC13,AB13,"M"),"") -> 1 | BA13: =IF(AZ13>216,"D",AZ13) -> 1 | BB13: =PKG!J17 -> 50 | BC13: =PKG!K17 -> 4.8 | BD13: =IFERROR(IF(AD13="L",VLOOKUP(BA13,$BZ$10:$CF$226,2),IF(AD13="P",VLOOKUP(BA13,$BZ$10:$CF$226,5),"")),"") -> 4 | BE13: =IFERROR((BC13-BD13)/IF(AD13="L",(IF(OR(BC13>BD13,BC13=BD13),VLOOKUP(BA13,$BZ$10:$CF$226,4),VLOOKUP(BA13,$BZ$10:$CF$226,3))),IF(OR(BC13>BD13,BC13=BD13),VLOOKUP(BA13,$BZ$10:$CF$226,7),VLOOKUP(BA13,$BZ$10:$CF$226,6))),"") -> 1.6 | BG13: =IFERROR(IF(AD13="L",VLOOKUP(BA13,$CH$10:$CN$226,2),IF(AD13="P",VLOOKUP(BA13,$CH$10:$CN$226,5),"")),"") -> 53.5 | BH13: =IFERROR((BB13-BG13)/IF(AD13="L",(IF(OR(BB13>BG13,BB13=BG13),VLOOKUP(BA13,$CH$10:$CN$226,4),VLOOKUP(BA13,$CH$10:$CN$226,3))),IF(OR(BB13>BG13,BB13=BG13),VLOOKUP(BA13,$CH$10:$CN$226,7),VLOOKUP(BA13,$CH$10:$CN$226,6))),"") -> -1.5217391 | BJ13: =IFERROR(IF(AD13="L",VLOOKUP(BB13,$CP$10:$CV$272,2),IF(AD13="P",VLOOKUP(BB13,$CP$10:$CV$272,5),"")),"") -> 3.4 | BK13: =IFERROR((BC13-BJ13)/IF(AD13="L",(IF(OR(BC13>BJ13,BC13=BJ13),VLOOKUP(BB13,$CP$10:$CV$272,4),VLOOKUP(BB13,$CP$10:$CV$272,3))),IF(OR(BC13>BJ13,BC13=BJ13),VLOOKUP(BB13,$CP$10:$CV$272,7),VLOOKUP(BB13,$CP$10:$CV$272,6))),"") -> 3.5 | BM13: =IFERROR(BC13/(BB13/100)^2,"") -> 19.2 | BN13: =IFERROR(IF(BM13>DP13,3+(BM13-DP13)/(DP13-DQ13),IF(BM13>DQ13,2+(BM13-DQ13)/(DP13-DQ13),IF(BM13>DR13,1+(BM13-DR13)/(DQ13-DR13),IF(BM13>DS13,(BM13-DS13)/(DR13-DS13),IF(BM13>DT13,-1+(BM13-DT13)/(DS13-DT13),IF(BM13>DU13,-2+(BM13-DU13)/(DT13-DU13),IF(BM13>DV13,-3+(BM13-DV13)/(DU13-DV13),-3-(DV13-BM13)/(DU13-DV13)))))))),"") -> 3.0625 | BZ13: 3 | CA13: 6 | CB13: 1 | CC13: 0.9 | CD13: 5.4 | CE13: 0.7 | CF13: 0.8 | CH13: 3 | CI13: 61.1 | CJ13: 2.6 | CK13: 2.6 | CL13: 59.5 | CM13: 2.4 | CN13: 2.4 | CP13: 50.5 | CQ13: 3.4 | CR13: 0.4 | CS13: 0.6 | CT13: 3.5 | CU13: 0.4 | CV13: 0.4 | CZ13: 3 | DA13: 21.8 | DB13: 20 | DC13: 18.4 | DD13: 16.9 | DE13: 15.5 | DF13: 14.3 | DG13: 13.1 | DH13: 21.5 | DI13: 19.7 | DJ13: 17.9 | DK13: 16.4 | DL13: 14.9 | DM13: 13.6 | DN13: 12.4 | DP13: =IFERROR(IF(AD13="L",VLOOKUP(BA13,$CZ$10:$DN$82,2),IF(AD13="P",VLOOKUP(BA13,$CZ$10:$DN$82,9),0)),"") -> 19.1 | DQ13: =IFERROR(IF(AD13="L",VLOOKUP(BA13,$CZ$10:$DN$82,3),IF(AD13="P",VLOOKUP(BA13,$CZ$10:$DN$82,10),0)),"") -> 17.5 | DR13: =IFERROR(IF(AD13="L",VLOOKUP(BA13,$CZ$10:$DN$82,4),IF(AD13="P",VLOOKUP(BA13,$CZ$10:$DN$82,11),0)),"") -> 16 | DS13: =IFERROR(IF(AD13="L",VLOOKUP(BA13,$CZ$10:$DN$82,5),IF(AD13="P",VLOOKUP(BA13,$CZ$10:$DN$82,12),0)),"") -> 14.6 | DT13: =IFERROR(IF(AD13="L",VLOOKUP(BA13,$CZ$10:$DN$82,6),IF(AD13="P",VLOOKUP(BA13,$CZ$10:$DN$82,13),0)),"") -> 13.2 | DU13: =IFERROR(IF(AD13="L",VLOOKUP(BA13,$CZ$10:$DN$82,7),IF(AD13="P",VLOOKUP(BA13,$CZ$10:$DN$82,14),0)),"") -> 12 | DV13: =IFERROR(IF(AD13="L",VLOOKUP(BA13,$CZ$10:$DN$82,8),IF(AD13="P",VLOOKUP(BA13,$CZ$10:$DN$82,15),0)),"") -> 10.8 | DZ13: 3 | EA13: 44.1 | EB13: 42.9 | EC13: 41.7 | ED13: 40.5 | EE13: 39.3 | EF13: 38.1 | EG13: 37 | EH13: 43.3 | EI13: 42 | EJ13: 40.8 | EK13: 39.5 | EL13: 38.3 | EM13: 37.1 | EN13: 35.8
AA14: 5 | AB14: =PKG!C18 -> 45798 | AC14: =PKG!G18 -> 45729 | AD14: =IFERROR(IF(VALUE(MID(PKG!D18,7,2))>40,"P","L"),"") -> P | AE14: =PKG!H18 -> karangsoko | AF14: =IFERROR(VLOOKUP(AE14,$AW$10:$AX$16,2,0),"") -> 1 | AG14: =IFERROR(IF(AND(AE14<>"",AF14=""),"Luar Wil",AE14)&VLOOKUP(DAY(AB14),$AS$10:$AT$14,2),"") -> karangsokoMg 4 | AH14: =IFERROR(DATEDIF(AC14,AB14,"Y"),"") -> 0 | AI14: =IFERROR(DATEDIF(AC14,AB14,"yM"),"") -> 2 | AJ14: =IFERROR(DATEDIF(AC14,AB14,"M"),"") -> 2 | AK14: =IFERROR(VLOOKUP(VLOOKUP(AJ14,$AM$10:$AN$13,2)&AD14,$AQ$10:$AR$17,2),"") | AQ14: CL | AR14: PKG USIA 40-59 TH (Laki2) | AS14: 28 | AT14: Mg 5 | AW14: SAMBIREJO | AX14: 2 | AZ14: =IFERROR(DATEDIF(AC14,AB14,"M"),"") -> 2 | BA14: =IF(AZ14>216,"D",AZ14) -> 2 | BB14: =PKG!J18 -> 52 | BC14: =PKG!K18 -> 5 | BD14: =IFERROR(IF(AD14="L",VLOOKUP(BA14,$BZ$10:$CF$226,2),IF(AD14="P",VLOOKUP(BA14,$BZ$10:$CF$226,5),"")),"") -> 4.7 | BE14: =IFERROR((BC14-BD14)/IF(AD14="L",(IF(OR(BC14>BD14,BC14=BD14),VLOOKUP(BA14,$BZ$10:$CF$226,4),VLOOKUP(BA14,$BZ$10:$CF$226,3))),IF(OR(BC14>BD14,BC14=BD14),VLOOKUP(BA14,$BZ$10:$CF$226,7),VLOOKUP(BA14,$BZ$10:$CF$226,6))),"") -> 0.42857143 | BG14: =IFERROR(IF(AD14="L",VLOOKUP(BA14,$CH$10:$CN$226,2),IF(AD14="P",VLOOKUP(BA14,$CH$10:$CN$226,5),"")),"") -> 56.8 | BH14: =IFERROR((BB14-BG14)/IF(AD14="L",(IF(OR(BB14>BG14,BB14=BG14),VLOOKUP(BA14,$CH$10:$CN$226,4),VLOOKUP(BA14,$CH$10:$CN$226,3))),IF(OR(BB14>BG14,BB14=BG14),VLOOKUP(BA14,$CH$10:$CN$226,7),VLOOKUP(BA14,$CH$10:$CN$226,6))),"") -> -2 | BJ14: =IFERROR(IF(AD14="L",VLOOKUP(BB14,$CP$10:$CV$272,2),IF(AD14="P",VLOOKUP(BB14,$CP$10:$CV$272,5),"")),"") -> 3.7 | BK14: =IFERROR((BC14-BJ14)/IF(AD14="L",(IF(OR(BC14>BJ14,BC14=BJ14),VLOOKUP(BB14,$CP$10:$CV$272,4),VLOOKUP(BB14,$CP$10:$CV$272,3))),IF(OR(BC14>BJ14,BC14=BJ14),VLOOKUP(BB14,$CP$10:$CV$272,7),VLOOKUP(BB14,$CP$10:$CV$272,6))),"") -> 2.6 | BM14: =IFERROR(BC14/(BB14/100)^2,"") -> 18.491124 | BN14: =IFERROR(IF(BM14>DP14,3+(BM14-DP14)/(DP14-DQ14),IF(BM14>DQ14,2+(BM14-DQ14)/(DP14-DQ14),IF(BM14>DR14,1+(BM14-DR14)/(DQ14-DR14),IF(BM14>DS14,(BM14-DS14)/(DR14-DS14),IF(BM14>DT14,-1+(BM14-DT14)/(DS14-DT14),IF(BM14>DU14,-2+(BM14-DU14)/(DT14-DU14),IF(BM14>DV14,-3+(BM14-DV14)/(DU14-DV14),-3-(DV14-BM14)/(DU14-DV14)))))))),"") -> 1.7006613 | BZ14: 4 | CA14: 6.7 | CB14: 1 | CC14: 0.9 | CD14: 6 | CE14: 0.7 | CF14: 0.9 | CH14: 4 | CI14: 63.7 | CJ14: 2.7 | CK14: 2.7 | CL14: 62 | CM14: 2.6 | CN14: 2.6 | CP14: 51 | CQ14: 3.5 | CR14: 0.4 | CS14: 0.5 | CT14: 3.5 | CU14: 0.5 | CV14: 0.5 | CZ14: 4 | DA14: 22.1 | DB14: 20.3 | DC14: 18.7 | DD14: 17.2 | DE14: 15.8 | DF14: 14.5 | DG14: 13.4 | DH14: 22 | DI14: 20 | DJ14: 18.3 | DK14: 16.7 | DL14: 15.2 | DM14: 13.9 | DN14: 12.7 | DP14: =IFERROR(IF(AD14="L",VLOOKUP(BA14,$CZ$10:$DN$82,2),IF(AD14="P",VLOOKUP(BA14,$CZ$10:$DN$82,9),0)),"") -> 20.7 | DQ14: =IFERROR(IF(AD14="L",VLOOKUP(BA14,$CZ$10:$DN$82,3),IF(AD14="P",VLOOKUP(BA14,$CZ$10:$DN$82,10),0)),"") -> 19 | DR14: =IFERROR(IF(AD14="L",VLOOKUP(BA14,$CZ$10:$DN$82,4),IF(AD14="P",VLOOKUP(BA14,$CZ$10:$DN$82,11),0)),"") -> 17.3 | DS14: =IFERROR(IF(AD14="L",VLOOKUP(BA14,$CZ$10:$DN$82,5),IF(AD14="P",VLOOKUP(BA14,$CZ$10:$DN$82,12),0)),"") -> 15.8 | DT14: =IFERROR(IF(AD14="L",VLOOKUP(BA14,$CZ$10:$DN$82,6),IF(AD14="P",VLOOKUP(BA14,$CZ$10:$DN$82,13),0)),"") -> 14.3 | DU14: =IFERROR(IF(AD14="L",VLOOKUP(BA14,$CZ$10:$DN$82,7),IF(AD14="P",VLOOKUP(BA14,$CZ$10:$DN$82,14),0)),"") -> 13 | DV14: =IFERROR(IF(AD14="L",VLOOKUP(BA14,$CZ$10:$DN$82,8),IF(AD14="P",VLOOKUP(BA14,$CZ$10:$DN$82,15),0)),"") -> 11.8 | DZ14: 4 | EA14: 45.2 | EB14: 44 | EC14: 42.8 | ED14: 41.6 | EE14: 40.4 | EF14: 39.2 | EG14: 38 | EH14: 44.4 | EI14: 43.1 | EJ14: 41.8 | EK14: 40.6 | EL14: 39.3 | EM14: 38.1 | EN14: 36.8
AA15: 6 | AB15: =PKG!C19 -> 45798 | AC15: =PKG!G19 -> 45687 | AD15: =IFERROR(IF(VALUE(MID(PKG!D19,7,2))>40,"P","L"),"") -> P | AE15: =PKG!H19 -> KARANGSOKO | AF15: =IFERROR(VLOOKUP(AE15,$AW$10:$AX$16,2,0),"") -> 1 | AG15: =IFERROR(IF(AND(AE15<>"",AF15=""),"Luar Wil",AE15)&VLOOKUP(DAY(AB15),$AS$10:$AT$14,2),"") -> KARANGSOKOMg 4 | AH15: =IFERROR(DATEDIF(AC15,AB15,"Y"),"") -> 0 | AI15: =IFERROR(DATEDIF(AC15,AB15,"yM"),"") -> 3 | AJ15: =IFERROR(DATEDIF(AC15,AB15,"M"),"") -> 3 | AK15: =IFERROR(VLOOKUP(VLOOKUP(AJ15,$AM$10:$AN$13,2)&AD15,$AQ$10:$AR$17,2),"") | AQ15: CP | AR15: PKG USIA 40-59 TH (Perempuan) | AW15: SUMBERGEDONG | AX15: 4 | AZ15: =IFERROR(DATEDIF(AC15,AB15,"M"),"") -> 3 | BA15: =IF(AZ15>216,"D",AZ15) -> 3 | BB15: =PKG!J19 -> 56 | BC15: =PKG!K19 -> 6.4 | BD15: =IFERROR(IF(AD15="L",VLOOKUP(BA15,$BZ$10:$CF$226,2),IF(AD15="P",VLOOKUP(BA15,$BZ$10:$CF$226,5),"")),"") -> 5.4 | BE15: =IFERROR((BC15-BD15)/IF(AD15="L",(IF(OR(BC15>BD15,BC15=BD15),VLOOKUP(BA15,$BZ$10:$CF$226,4),VLOOKUP(BA15,$BZ$10:$CF$226,3))),IF(OR(BC15>BD15,BC15=BD15),VLOOKUP(BA15,$BZ$10:$CF$226,7),VLOOKUP(BA15,$BZ$10:$CF$226,6))),"") -> 1.25 | BG15: =IFERROR(IF(AD15="L",VLOOKUP(BA15,$CH$10:$CN$226,2),IF(AD15="P",VLOOKUP(BA15,$CH$10:$CN$226,5),"")),"") -> 59.5 | BH15: =IFERROR((BB15-BG15)/IF(AD15="L",(IF(OR(BB15>BG15,BB15=BG15),VLOOKUP(BA15,$CH$10:$CN$226,4),VLOOKUP(BA15,$CH$10:$CN$226,3))),IF(OR(BB15>BG15,BB15=BG15),VLOOKUP(BA15,$CH$10:$CN$226,7),VLOOKUP(BA15,$CH$10:$CN$226,6))),"") -> -1.4583333 | BJ15: =IFERROR(IF(AD15="L",VLOOKUP(BB15,$CP$10:$CV$272,2),IF(AD15="P",VLOOKUP(BB15,$CP$10:$CV$272,5),"")),"") -> 4.5 | BK15: =IFERROR((BC15-BJ15)/IF(AD15="L",(IF(OR(BC15>BJ15,BC15=BJ15),VLOOKUP(BB15,$CP$10:$CV$272,4),VLOOKUP(BB15,$CP$10:$CV$272,3))),IF(OR(BC15>BJ15,BC15=BJ15),VLOOKUP(BB15,$CP$10:$CV$272,7),VLOOKUP(BB15,$CP$10:$CV$272,6))),"") -> 3.8 | BM15: =IFERROR(BC15/(BB15/100)^2,"") -> 20.408163 | BN15: =IFERROR(IF(BM15>DP15,3+(BM15-DP15)/(DP15-DQ15),IF(BM15>DQ15,2+(BM15-DQ15)/(DP15-DQ15),IF(BM15>DR15,1+(BM15-DR15)/(DQ15-DR15),IF(BM15>DS15,(BM15-DS15)/(DR15-DS15),IF(BM15>DT15,-1+(BM15-DT15)/(DS15-DT15),IF(BM15>DU15,-2+(BM15-DU15)/(DT15-DU15),IF(BM15>DV15,-3+(BM15-DV15)/(DU15-DV15),-3-(DV15-BM15)/(DU15-DV15)))))))),"") -> 2.393424 | BZ15: 5 | CA15: 7.3 | CB15: 1 | CC15: 0.9 | CD15: 6.7 | CE15: 0.9 | CF15: 0.8 | CH15: 5 | CI15: 65.9 | CJ15: 2.7 | CK15: 2.7 | CL15: 64.1 | CM15: 2.6 | CN15: 2.6 | CP15: 51.5 | CQ15: 3.6 | CR15: 0.5 | CS15: 0.6 | CT15: 3.6 | CU15: 0.5 | CV15: 0.5 | CZ15: 5 | DA15: 22.3 | DB15: 20.5 | DC15: 18.8 | DD15: 17.3 | DE15: 15.9 | DF15: 14.7 | DG15: 13.5 | DH15: 22.2 | DI15: 20.2 | DJ15: 18.4 | DK15: 16.8 | DL15: 15.4 | DM15: 14.1 | DN15: 12.9 | DP15: =IFERROR(IF(AD15="L",VLOOKUP(BA15,$CZ$10:$DN$82,2),IF(AD15="P",VLOOKUP(BA15,$CZ$10:$DN$82,9),0)),"") -> 21.5 | DQ15: =IFERROR(IF(AD15="L",VLOOKUP(BA15,$CZ$10:$DN$82,3),IF(AD15="P",VLOOKUP(BA15,$CZ$10:$DN$82,10),0)),"") -> 19.7 | DR15: =IFERROR(IF(AD15="L",VLOOKUP(BA15,$CZ$10:$DN$82,4),IF(AD15="P",VLOOKUP(BA15,$CZ$10:$DN$82,11),0)),"") -> 17.9 | DS15: =IFERROR(IF(AD15="L",VLOOKUP(BA15,$CZ$10:$DN$82,5),IF(AD15="P",VLOOKUP(BA15,$CZ$10:$DN$82,12),0)),"") -> 16.4 | DT15: =IFERROR(IF(AD15="L",VLOOKUP(BA15,$CZ$10:$DN$82,6),IF(AD15="P",VLOOKUP(BA15,$CZ$10:$DN$82,13),0)),"") -> 14.9 | DU15: =IFERROR(IF(AD15="L",VLOOKUP(BA15,$CZ$10:$DN$82,7),IF(AD15="P",VLOOKUP(BA15,$CZ$10:$DN$82,14),0)),"") -> 13.6 | DV15: =IFERROR(IF(AD15="L",VLOOKUP(BA15,$CZ$10:$DN$82,8),IF(AD15="P",VLOOKUP(BA15,$CZ$10:$DN$82,15),0)),"") -> 12.4 | DZ15: 5 | EA15: 46.2 | EB15: 45 | EC15: 43.8 | ED15: 42.6 | EE15: 41.4 | EF15: 40.1 | EG15: 38.9 | EH15: 45.3 | EI15: 44 | EJ15: 42.7 | EK15: 41.5 | EL15: 40.2 | EM15: 38.9 | EN15: 37.6
AA16: 7 | AB16: =PKG!C20 -> 45798 | AC16: =PKG!G20 -> 45689 | AD16: =IFERROR(IF(VALUE(MID(PKG!D20,7,2))>40,"P","L"),"") -> L | AE16: =PKG!H20 -> KARANGSOKO | AF16: =IFERROR(VLOOKUP(AE16,$AW$10:$AX$16,2,0),"") -> 1 | AG16: =IFERROR(IF(AND(AE16<>"",AF16=""),"Luar Wil",AE16)&VLOOKUP(DAY(AB16),$AS$10:$AT$14,2),"") -> KARANGSOKOMg 4 | AH16: =IFERROR(DATEDIF(AC16,AB16,"Y"),"") -> 0 | AI16: =IFERROR(DATEDIF(AC16,AB16,"yM"),"") -> 3 | AJ16: =IFERROR(DATEDIF(AC16,AB16,"M"),"") -> 3 | AK16: =IFERROR(VLOOKUP(VLOOKUP(AJ16,$AM$10:$AN$13,2)&AD16,$AQ$10:$AR$17,2),"") | AQ16: DL | AR16: PKG USIA >60 TH (Laki2) | AW16: TAMANAN | AX16: 5 | AZ16: =IFERROR(DATEDIF(AC16,AB16,"M"),"") -> 3 | BA16: =IF(AZ16>216,"D",AZ16) -> 3 | BB16: =PKG!J20 -> 58 | BC16: =PKG!K20 -> 6.1 | BD16: =IFERROR(IF(AD16="L",VLOOKUP(BA16,$BZ$10:$CF$226,2),IF(AD16="P",VLOOKUP(BA16,$BZ$10:$CF$226,5),"")),"") -> 6 | BE16: =IFERROR((BC16-BD16)/IF(AD16="L",(IF(OR(BC16>BD16,BC16=BD16),VLOOKUP(BA16,$BZ$10:$CF$226,4),VLOOKUP(BA16,$BZ$10:$CF$226,3))),IF(OR(BC16>BD16,BC16=BD16),VLOOKUP(BA16,$BZ$10:$CF$226,7),VLOOKUP(BA16,$BZ$10:$CF$226,6))),"") -> -6.3881173 | BG16: =IFERROR(IF(AD16="L",VLOOKUP(BA16,$CH$10:$CN$226,2),IF(AD16="P",VLOOKUP(BA16,$CH$10:$CN$226,5),"")),"") -> 61.1 | BH16: =IFERROR((BB16-BG16)/IF(AD16="L",(IF(OR(BB16>BG16,BB16=BG16),VLOOKUP(BA16,$CH$10:$CN$226,4),VLOOKUP(BA16,$CH$10:$CN$226,3))),IF(OR(BB16>BG16,BB16=BG16),VLOOKUP(BA16,$CH$10:$CN$226,7),VLOOKUP(BA16,$CH$10:$CN$226,6))),"") -> -1.1923077 | BJ16: =IFERROR(IF(AD16="L",VLOOKUP(BB16,$CP$10:$CV$272,2),IF(AD16="P",VLOOKUP(BB16,$CP$10:$CV$272,5),"")),"") -> 5.1 | BK16: =IFERROR((BC16-BJ16)/IF(AD16="L",(IF(OR(BC16>BJ16,BC16=BJ16),VLOOKUP(BB16,$CP$10:$CV$272,4),VLOOKUP(BB16,$CP$10:$CV$272,3))),IF(OR(BC16>BJ16,BC16=BJ16),VLOOKUP(BB16,$CP$10:$CV$272,7),VLOOKUP(BB16,$CP$10:$CV$272,6))),"") -> -6.9275794 | BM16: =IFERROR(BC16/(BB16/100)^2,"") -> 0.74522724 | BN16: =IFERROR(IF(BM16>DP16,3+(BM16-DP16)/(DP16-DQ16),IF(BM16>DQ16,2+(BM16-DQ16)/(DP16-DQ16),IF(BM16>DR16,1+(BM16-DR16)/(DQ16-DR16),IF(BM16>DS16,(BM16-DS16)/(DR16-DS16),IF(BM16>DT16,-1+(BM16-DT16)/(DS16-DT16),IF(BM16>DU16,-2+(BM16-DU16)/(DT16-DU16),IF(BM16>DV16,-3+(BM16-DV16)/(DU16-DV16),-3-(DV16-BM16)/(DU16-DV16)))))))),"") -> -13.295644 | BZ16: 6 | CA16: 7.8 | CB16: 0.9 | CC16: 1 | CD16: 7.2 | CE16: 0.9 | CF16: 0.9 | CH16: 6 | CI16: 67.8 | CJ16: 2.7 | CK16: 2.7 | CL16: 65.9 | CM16: 2.6 | CN16: 2.6 | CP16: 52 | CQ16: 3.7 | CR16: 0.5 | CS16: 0.6 | CT16: 3.7 | CU16: 0.5 | CV16: 0.5 | CZ16: 6 | DA16: 22.3 | DB16: 20.5 | DC16: 18.8 | DD16: 17.3 | DE16: 16 | DF16: 14.7 | DG16: 13.6 | DH16: 22.3 | DI16: 20.3 | DJ16: 18.5 | DK16: 16.9 | DL16: 15.5 | DM16: 14.1 | DN16: 13 | DP16: =IFERROR(IF(AD16="L",VLOOKUP(BA16,$CZ$10:$DN$82,2),IF(AD16="P",VLOOKUP(BA16,$CZ$10:$DN$82,9),0)),"") -> 21.8 | DQ16: =IFERROR(IF(AD16="L",VLOOKUP(BA16,$CZ$10:$DN$82,3),IF(AD16="P",VLOOKUP(BA16,$CZ$10:$DN$82,10),0)),"") -> 20 | DR16: =IFERROR(IF(AD16="L",VLOOKUP(BA16,$CZ$10:$DN$82,4),IF(AD16="P",VLOOKUP(BA16,$CZ$10:$DN$82,11),0)),"") -> 18.4 | DS16: =IFERROR(IF(AD16="L",VLOOKUP(BA16,$CZ$10:$DN$82,5),IF(AD16="P",VLOOKUP(BA16,$CZ$10:$DN$82,12),0)),"") -> 16.9 | DT16: =IFERROR(IF(AD16="L",VLOOKUP(BA16,$CZ$10:$DN$82,6),IF(AD16="P",VLOOKUP(BA16,$CZ$10:$DN$82,13),0)),"") -> 15.5 | DU16: =IFERROR(IF(AD16="L",VLOOKUP(BA16,$CZ$10:$DN$82,7),IF(AD16="P",VLOOKUP(BA16,$CZ$10:$DN$82,14),0)),"") -> 14.3 | DV16: =IFERROR(IF(AD16="L",VLOOKUP(BA16,$CZ$10:$DN$82,8),IF(AD16="P",VLOOKUP(BA16,$CZ$10:$DN$82,15),0)),"") -> 13.1 | DZ16: 6 | EA16: 47 | EB16: 45.8 | EC16: 44.6 | ED16: 43.3 | EE16: 42.1 | EF16: 40.9 | EG16: 39.7 | EH16: 46.1 | EI16: 44.8 | EJ16: 43.5 | EK16: 42.2 | EL16: 40.9 | EM16: 39.6 | EN16: 38.3
AA17: 8 | AB17: =PKG!C21 -> 45798 | AC17: =PKG!G21 -> 45691 | AD17: =IFERROR(IF(VALUE(MID(PKG!D21,7,2))>40,"P","L"),"") -> L | AE17: =PKG!H21 -> KARANGSOKO | AF17: =IFERROR(VLOOKUP(AE17,$AW$10:$AX$16,2,0),"") -> 1 | AG17: =IFERROR(IF(AND(AE17<>"",AF17=""),"Luar Wil",AE17)&VLOOKUP(DAY(AB17),$AS$10:$AT$14,2),"") -> KARANGSOKOMg 4 | AH17: =IFERROR(DATEDIF(AC17,AB17,"Y"),"") -> 0 | AI17: =IFERROR(DATEDIF(AC17,AB17,"yM"),"") -> 3 | AJ17: =IFERROR(DATEDIF(AC17,AB17,"M"),"") -> 3 | AK17: =IFERROR(VLOOKUP(VLOOKUP(AJ17,$AM$10:$AN$13,2)&AD17,$AQ$10:$AR$17,2),"") | AQ17: DP | AR17: PKG USIA >60 TH (Perempuan) | AZ17: =IFERROR(DATEDIF(AC17,AB17,"M"),"") -> 3 | BA17: =IF(AZ17>216,"D",AZ17) -> 3 | BB17: =PKG!J21 -> 63 | BC17: =PKG!K21 -> 7.1 | BD17: =IFERROR(IF(AD17="L",VLOOKUP(BA17,$BZ$10:$CF$226,2),IF(AD17="P",VLOOKUP(BA17,$BZ$10:$CF$226,5),"")),"") -> 6 | BE17: =IFERROR((BC17-BD17)/IF(AD17="L",(IF(OR(BC17>BD17,BC17=BD17),VLOOKUP(BA17,$BZ$10:$CF$226,4),VLOOKUP(BA17,$BZ$10:$CF$226,3))),IF(OR(BC17>BD17,BC17=BD17),VLOOKUP(BA17,$BZ$10:$CF$226,7),VLOOKUP(BA17,$BZ$10:$CF$226,6))),"") -> -6.341821 | BG17: =IFERROR(IF(AD17="L",VLOOKUP(BA17,$CH$10:$CN$226,2),IF(AD17="P",VLOOKUP(BA17,$CH$10:$CN$226,5),"")),"") -> 61.1 | BH17: =IFERROR((BB17-BG17)/IF(AD17="L",(IF(OR(BB17>BG17,BB17=BG17),VLOOKUP(BA17,$CH$10:$CN$226,4),VLOOKUP(BA17,$CH$10:$CN$226,3))),IF(OR(BB17>BG17,BB17=BG17),VLOOKUP(BA17,$CH$10:$CN$226,7),VLOOKUP(BA17,$CH$10:$CN$226,6))),"") -> 0.73076923 | BJ17: =IFERROR(IF(AD17="L",VLOOKUP(BB17,$CP$10:$CV$272,2),IF(AD17="P",VLOOKUP(BB17,$CP$10:$CV$272,5),"")),"") -> 6.5 | BK17: =IFERROR((BC17-BJ17)/IF(AD17="L",(IF(OR(BC17>BJ17,BC17=BJ17),VLOOKUP(BB17,$CP$10:$CV$272,4),VLOOKUP(BB17,$CP$10:$CV$272,3))),IF(OR(BC17>BJ17,BC17=BJ17),VLOOKUP(BB17,$CP$10:$CV$272,7),VLOOKUP(BB17,$CP$10:$CV$272,6))),"") -> -7.7595486 | BM17: =IFERROR(BC17/(BB17/100)^2,"") -> 0.73661152 | BN17: =IFERROR(IF(BM17>DP17,3+(BM17-DP17)/(DP17-DQ17),IF(BM17>DQ17,2+(BM17-DQ17)/(DP17-DQ17),IF(BM17>DR17,1+(BM17-DR17)/(DQ17-DR17),IF(BM17>DS17,(BM17-DS17)/(DR17-DS17),IF(BM17>DT17,-1+(BM17-DT17)/(DS17-DT17),IF(BM17>DU17,-2+(BM17-DU17)/(DT17-DU17),IF(BM17>DV17,-3+(BM17-DV17)/(DU17-DV17),-3-(DV17-BM17)/(DU17-DV17)))))))),"") -> -13.302824 | BZ17: 7 | CA17: 8.3 | CB17: 0.9 | CC17: 1 | CD17: 7.7 | CE17: 0.9 | CF17: 1 | CH17: 7 | CI17: 69.5 | CJ17: 2.7 | CK17: 2.7 | CL17: 67.6 | CM17: 2.7 | CN17: 2.7 | CP17: 52.5 | CQ17: 3.8 | CR17: 0.5 | CS17: 0.6 | CT17: 3.8 | CU17: 0.5 | CV17: 0.5 | CZ17: 7 | DA17: 22.3 | DB17: 20.5 | DC17: 18.8 | DD17: 17.3 | DE17: 16 | DF17: 14.8 | DG17: 13.7 | DH17: 22.3 | DI17: 20.3 | DJ17: 18.5 | DK17: 16.9 | DL17: 15.5 | DM17: 14.2 | DN17: 13 | DP17: =IFERROR(IF(AD17="L",VLOOKUP(BA17,$CZ$10:$DN$82,2),IF(AD17="P",VLOOKUP(BA17,$CZ$10:$DN$82,9),0)),"") -> 21.8 | DQ17: =IFERROR(IF(AD17="L",VLOOKUP(BA17,$CZ$10:$DN$82,3),IF(AD17="P",VLOOKUP(BA17,$CZ$10:$DN$82,10),0)),"") -> 20 | DR17: =IFERROR(IF(AD17="L",VLOOKUP(BA17,$CZ$10:$DN$82,4),IF(AD17="P",VLOOKUP(BA17,$CZ$10:$DN$82,11),0)),"") -> 18.4 | DS17: =IFERROR(IF(AD17="L",VLOOKUP(BA17,$CZ$10:$DN$82,5),IF(AD17="P",VLOOKUP(BA17,$CZ$10:$DN$82,12),0)),"") -> 16.9 | DT17: =IFERROR(IF(AD17="L",VLOOKUP(BA17,$CZ$10:$DN$82,6),IF(AD17="P",VLOOKUP(BA17,$CZ$10:$DN$82,13),0)),"") -> 15.5 | DU17: =IFERROR(IF(AD17="L",VLOOKUP(BA17,$CZ$10:$DN$82,7),IF(AD17="P",VLOOKUP(BA17,$CZ$10:$DN$82,14),0)),"") -> 14.3 | DV17: =IFERROR(IF(AD17="L",VLOOKUP(BA17,$CZ$10:$DN$82,8),IF(AD17="P",VLOOKUP(BA17,$CZ$10:$DN$82,15),0)),"") -> 13.1 | DZ17: 7 | EA17: 47.7 | EB17: 46.4 | EC17: 45.2 | ED17: 44 | EE17: 42.7 | EF17: 41.5 | EG17: 40.3 | EH17: 46.8 | EI17: 45.5 | EJ17: 44.1 | EK17: 42.8 | EL17: 41.5 | EM17: 40.2 | EN17: 38.9
AA18: 9 | AB18: =PKG!C22 -> 45801 | AC18: =PKG!G22 -> 45788 | AD18: =IFERROR(IF(VALUE(MID(PKG!D22,7,2))>40,"P","L"),"") -> P | AE18: =PKG!H22 -> KARANGSOKO | AF18: =IFERROR(VLOOKUP(AE18,$AW$10:$AX$16,2,0),"") -> 1 | AG18: =IFERROR(IF(AND(AE18<>"",AF18=""),"Luar Wil",AE18)&VLOOKUP(DAY(AB18),$AS$10:$AT$14,2),"") -> KARANGSOKOMg 4 | AH18: =IFERROR(DATEDIF(AC18,AB18,"Y"),"") -> 0 | AI18: =IFERROR(DATEDIF(AC18,AB18,"yM"),"") -> 0 | AJ18: =IFERROR(DATEDIF(AC18,AB18,"M"),"") -> 0 | AK18: =IFERROR(VLOOKUP(VLOOKUP(AJ18,$AM$10:$AN$13,2)&AD18,$AQ$10:$AR$17,2),"") | AZ18: =IFERROR(DATEDIF(AC18,AB18,"M"),"") -> 0 | BA18: =IF(AZ18>216,"D",AZ18) -> 0 | BB18: =PKG!J22 -> 51 | BC18: =PKG!K22 -> 3.1 | BD18: =IFERROR(IF(AD18="L",VLOOKUP(BA18,$BZ$10:$CF$226,2),IF(AD18="P",VLOOKUP(BA18,$BZ$10:$CF$226,5),"")),"") -> 3.2 | BE18: =IFERROR((BC18-BD18)/IF(AD18="L",(IF(OR(BC18>BD18,BC18=BD18),VLOOKUP(BA18,$BZ$10:$CF$226,4),VLOOKUP(BA18,$BZ$10:$CF$226,3))),IF(OR(BC18>BD18,BC18=BD18),VLOOKUP(BA18,$BZ$10:$CF$226,7),VLOOKUP(BA18,$BZ$10:$CF$226,6))),"") -> -7.6857639 | BG18: =IFERROR(IF(AD18="L",VLOOKUP(BA18,$CH$10:$CN$226,2),IF(AD18="P",VLOOKUP(BA18,$CH$10:$CN$226,5),"")),"") -> 49.9 | BH18: =IFERROR((BB18-BG18)/IF(AD18="L",(IF(OR(BB18>BG18,BB18=BG18),VLOOKUP(BA18,$CH$10:$CN$226,4),VLOOKUP(BA18,$CH$10:$CN$226,3))),IF(OR(BB18>BG18,BB18=BG18),VLOOKUP(BA18,$CH$10:$CN$226,7),VLOOKUP(BA18,$CH$10:$CN$226,6))),"") -> 0.52380952 | BJ18: =IFERROR(IF(AD18="L",VLOOKUP(BB18,$CP$10:$CV$272,2),IF(AD18="P",VLOOKUP(BB18,$CP$10:$CV$272,5),"")),"") -> 3.5 | BK18: =IFERROR((BC18-BJ18)/IF(AD18="L",(IF(OR(BC18>BJ18,BC18=BJ18),VLOOKUP(BB18,$CP$10:$CV$272,4),VLOOKUP(BB18,$CP$10:$CV$272,3))),IF(OR(BC18>BJ18,BC18=BJ18),VLOOKUP(BB18,$CP$10:$CV$272,7),VLOOKUP(BB18,$CP$10:$CV$272,6))),"") -> -6.7486111 | BM18: =IFERROR(BC18/(BB18/100)^2,"") -> 0.4832543 | BN18: =IFERROR(IF(BM18>DP18,3+(BM18-DP18)/(DP18-DQ18),IF(BM18>DQ18,2+(BM18-DQ18)/(DP18-DQ18),IF(BM18>DR18,1+(BM18-DR18)/(DQ18-DR18),IF(BM18>DS18,(BM18-DS18)/(DR18-DS18),IF(BM18>DT18,-1+(BM18-DT18)/(DS18-DT18),IF(BM18>DU18,-2+(BM18-DU18)/(DT18-DU18),IF(BM18>DV18,-3+(BM18-DV18)/(DU18-DV18),-3-(DV18-BM18)/(DU18-DV18)))))))),"") -> -12.616746 | BZ18: 8 | CA18: 8.8 | CB18: 1 | CC18: 1 | CD18: 8.2 | CE18: 1 | CF18: 0.9 | CH18: 8 | CI18: 71 | CJ18: 2.7 | CK18: 2.7 | CL18: 69.1 | CM18: 2.7 | CN18: 2.7 | CP18: 53 | CQ18: 3.9 | CR18: 0.5 | CS18: 0.6 | CT18: 3.9 | CU18: 0.5 | CV18: 0.5 | CZ18: 8 | DA18: 22.2 | DB18: 20.4 | DC18: 18.7 | DD18: 17.3 | DE18: 15.9 | DF18: 14.7 | DG18: 13.6 | DH18: 22.2 | DI18: 20.2 | DJ18: 18.4 | DK18: 16.8 | DL18: 15.4 | DM18: 14.1 | DN18: 13 | DP18: =IFERROR(IF(AD18="L",VLOOKUP(BA18,$CZ$10:$DN$82,2),IF(AD18="P",VLOOKUP(BA18,$CZ$10:$DN$82,9),0)),"") -> 17.7 | DQ18: =IFERROR(IF(AD18="L",VLOOKUP(BA18,$CZ$10:$DN$82,3),IF(AD18="P",VLOOKUP(BA18,$CZ$10:$DN$82,10),0)),"") -> 16.1 | DR18: =IFERROR(IF(AD18="L",VLOOKUP(BA18,$CZ$10:$DN$82,4),IF(AD18="P",VLOOKUP(BA18,$CZ$10:$DN$82,11),0)),"") -> 14.6 | DS18: =IFERROR(IF(AD18="L",VLOOKUP(BA18,$CZ$10:$DN$82,5),IF(AD18="P",VLOOKUP(BA18,$CZ$10:$DN$82,12),0)),"") -> 13.3 | DT18: =IFERROR(IF(AD18="L",VLOOKUP(BA18,$CZ$10:$DN$82,6),IF(AD18="P",VLOOKUP(BA18,$CZ$10:$DN$82,13),0)),"") -> 12.2 | DU18: =IFERROR(IF(AD18="L",VLOOKUP(BA18,$CZ$10:$DN$82,7),IF(AD18="P",VLOOKUP(BA18,$CZ$10:$DN$82,14),0)),"") -> 11.1 | DV18: =IFERROR(IF(AD18="L",VLOOKUP(BA18,$CZ$10:$DN$82,8),IF(AD18="P",VLOOKUP(BA18,$CZ$10:$DN$82,15),0)),"") -> 10.1 | DZ18: 8 | EA18: 48.3 | EB18: 47 | EC18: 45.8 | ED18: 44.5 | EE18: 43.3 | EF18: 42 | EG18: 40.8 | EH18: 47.4 | EI18: 46 | EJ18: 44.7 | EK18: 43.4 | EL18: 42 | EM18: 40.7 | EN18: 39.4
AA19: 10 | AB19: =PKG!C23 -> 45801 | AC19: =PKG!G23 -> 43927 | AD19: =IFERROR(IF(VALUE(MID(PKG!D23,7,2))>40,"P","L"),"") -> P | AE19: =PKG!H23 -> KARANGSOKO | AF19: =IFERROR(VLOOKUP(AE19,$AW$10:$AX$16,2,0),"") -> 1 | AG19: =IFERROR(IF(AND(AE19<>"",AF19=""),"Luar Wil",AE19)&VLOOKUP(DAY(AB19),$AS$10:$AT$14,2),"") -> KARANGSOKOMg 4 | AH19: =IFERROR(DATEDIF(AC19,AB19,"Y"),"") -> 5 | AI19: =IFERROR(DATEDIF(AC19,AB19,"yM"),"") -> 1 | AJ19: =IFERROR(DATEDIF(AC19,AB19,"M"),"") -> 61 | AK19: =IFERROR(VLOOKUP(VLOOKUP(AJ19,$AM$10:$AN$13,2)&AD19,$AQ$10:$AR$17,2),"") | AZ19: =IFERROR(DATEDIF(AC19,AB19,"M"),"") -> 61 | BA19: =IF(AZ19>216,"D",AZ19) -> 61 | BB19: =PKG!J23 -> 109 | BC19: =PKG!K23 -> 18 | BD19: =IFERROR(IF(AD19="L",VLOOKUP(BA19,$BZ$10:$CF$226,2),IF(AD19="P",VLOOKUP(BA19,$BZ$10:$CF$226,5),"")),"") -> 17.8 | BE19: =IFERROR((BC19-BD19)/IF(AD19="L",(IF(OR(BC19>BD19,BC19=BD19),VLOOKUP(BA19,$BZ$10:$CF$226,4),VLOOKUP(BA19,$BZ$10:$CF$226,3))),IF(OR(BC19>BD19,BC19=BD19),VLOOKUP(BA19,$BZ$10:$CF$226,7),VLOOKUP(BA19,$BZ$10:$CF$226,6))),"") -> 0.071428571 | BG19: =IFERROR(IF(AD19="L",VLOOKUP(BA19,$CH$10:$CN$226,2),IF(AD19="P",VLOOKUP(BA19,$CH$10:$CN$226,5),"")),"") -> 108.9 | BH19: =IFERROR((BB19-BG19)/IF(AD19="L",(IF(OR(BB19>BG19,BB19=BG19),VLOOKUP(BA19,$CH$10:$CN$226,4),VLOOKUP(BA19,$CH$10:$CN$226,3))),IF(OR(BB19>BG19,BB19=BG19),VLOOKUP(BA19,$CH$10:$CN$226,7),VLOOKUP(BA19,$CH$10:$CN$226,6))),"") -> 0.022727273 | BJ19: =IFERROR(IF(AD19="L",VLOOKUP(BB19,$CP$10:$CV$272,2),IF(AD19="P",VLOOKUP(BB19,$CP$10:$CV$272,5),"")),"") -> 17.9 | BK19: =IFERROR((BC19-BJ19)/IF(AD19="L",(IF(OR(BC19>BJ19,BC19=BJ19),VLOOKUP(BB19,$CP$10:$CV$272,4),VLOOKUP(BB19,$CP$10:$CV$272,3))),IF(OR(BC19>BJ19,BC19=BJ19),VLOOKUP(BB19,$CP$10:$CV$272,7),VLOOKUP(BB19,$CP$10:$CV$272,6))),"") -> 0.052631579 | BM19: =IFERROR(BC19/(BB19/100)^2,"") -> 15.15024 | BN19: =IFERROR(IF(BM19>DP19,3+(BM19-DP19)/(DP19-DQ19),IF(BM19>DQ19,2+(BM19-DQ19)/(DP19-DQ19),IF(BM19>DR19,1+(BM19-DR19)/(DQ19-DR19),IF(BM19>DS19,(BM19-DS19)/(DR19-DS19),IF(BM19>DT19,-1+(BM19-DT19)/(DS19-DT19),IF(BM19>DU19,-2+(BM19-DU19)/(DT19-DU19),IF(BM19>DV19,-3+(BM19-DV19)/(DU19-DV19),-3-(DV19-BM19)/(DU19-DV19)))))))),"") -> -0.038277016 | BZ19: 9 | CA19: 9.2 | CB19: 1 | CC19: 1 | CD19: 8.6 | CE19: 1 | CF19: 1 | CH19: 9 | CI19: 72.3 | CJ19: 2.6 | CK19: 2.6 | CL19: 70.4 | CM19: 2.7 | CN19: 2.7 | CP19: 53.5 | CQ19: 4 | CR19: 0.5 | CS19: 0.6 | CT19: 4 | CU19: 0.5 | CV19: 0.5 | CZ19: 9 | DA19: 22.1 | DB19: 20.3 | DC19: 18.6 | DD19: 17.2 | DE19: 15.8 | DF19: 14.7 | DG19: 13.6 | DH19: 22.1 | DI19: 20.1 | DJ19: 18.3 | DK19: 16.7 | DL19: 15.3 | DM19: 14.1 | DN19: 12.9 | DP19: =IFERROR(IF(AD19="L",VLOOKUP(BA19,$CZ$10:$DN$82,2),IF(AD19="P",VLOOKUP(BA19,$CZ$10:$DN$82,9),0)),"") -> 21.3 | DQ19: =IFERROR(IF(AD19="L",VLOOKUP(BA19,$CZ$10:$DN$82,3),IF(AD19="P",VLOOKUP(BA19,$CZ$10:$DN$82,10),0)),"") -> 18.9 | DR19: =IFERROR(IF(AD19="L",VLOOKUP(BA19,$CZ$10:$DN$82,4),IF(AD19="P",VLOOKUP(BA19,$CZ$10:$DN$82,11),0)),"") -> 16.9 | DS19: =IFERROR(IF(AD19="L",VLOOKUP(BA19,$CZ$10:$DN$82,5),IF(AD19="P",VLOOKUP(BA19,$CZ$10:$DN$82,12),0)),"") -> 15.2 | DT19: =IFERROR(IF(AD19="L",VLOOKUP(BA19,$CZ$10:$DN$82,6),IF(AD19="P",VLOOKUP(BA19,$CZ$10:$DN$82,13),0)),"") -> 13.9 | DU19: =IFERROR(IF(AD19="L",VLOOKUP(BA19,$CZ$10:$DN$82,7),IF(AD19="P",VLOOKUP(BA19,$CZ$10:$DN$82,14),0)),"") -> 12.7 | DV19: =IFERROR(IF(AD19="L",VLOOKUP(BA19,$CZ$10:$DN$82,8),IF(AD19="P",VLOOKUP(BA19,$CZ$10:$DN$82,15),0)),"") -> 11.8 | DZ19: 9 | EA19: 48.8 | EB19: 47.5 | EC19: 46.3 | ED19: 45 | EE19: 43.7 | EF19: 42.5 | EG19: 41.2 | EH19: 47.8 | EI19: 46.5 | EJ19: 45.2 | EK19: 43.8 | EL19: 42.5 | EM19: 41.2 | EN19: 39.8
AA20: 11 | AB20: =PKG!C24 -> 45801 | AC20: =PKG!G24 -> 44471 | AD20: =IFERROR(IF(VALUE(MID(PKG!D24,7,2))>40,"P","L"),"") -> P | AE20: =PKG!H24 -> KARANGSOKO | AF20: =IFERROR(VLOOKUP(AE20,$AW$10:$AX$16,2,0),"") -> 1 | AG20: =IFERROR(IF(AND(AE20<>"",AF20=""),"Luar Wil",AE20)&VLOOKUP(DAY(AB20),$AS$10:$AT$14,2),"") -> KARANGSOKOMg 4 | AH20: =IFERROR(DATEDIF(AC20,AB20,"Y"),"") -> 3 | AI20: =IFERROR(DATEDIF(AC20,AB20,"yM"),"") -> 7 | AJ20: =IFERROR(DATEDIF(AC20,AB20,"M"),"") -> 43 | AK20: =IFERROR(VLOOKUP(VLOOKUP(AJ20,$AM$10:$AN$13,2)&AD20,$AQ$10:$AR$17,2),"") | AZ20: =IFERROR(DATEDIF(AC20,AB20,"M"),"") -> 43 | BA20: =IF(AZ20>216,"D",AZ20) -> 43 | BB20: =PKG!J24 -> 92 | BC20: =PKG!K24 -> 12.8 | BD20: =IFERROR(IF(AD20="L",VLOOKUP(BA20,$BZ$10:$CF$226,2),IF(AD20="P",VLOOKUP(BA20,$BZ$10:$CF$226,5),"")),"") -> 15.2 | BE20: =IFERROR((BC20-BD20)/IF(AD20="L",(IF(OR(BC20>BD20,BC20=BD20),VLOOKUP(BA20,$BZ$10:$CF$226,4),VLOOKUP(BA20,$BZ$10:$CF$226,3))),IF(OR(BC20>BD20,BC20=BD20),VLOOKUP(BA20,$BZ$10:$CF$226,7),VLOOKUP(BA20,$BZ$10:$CF$226,6))),"") -> -6.6792929 | BG20: =IFERROR(IF(AD20="L",VLOOKUP(BA20,$CH$10:$CN$226,2),IF(AD20="P",VLOOKUP(BA20,$CH$10:$CN$226,5),"")),"") -> 98.6 | BH20: =IFERROR((BB20-BG20)/IF(AD20="L",(IF(OR(BB20>BG20,BB20=BG20),VLOOKUP(BA20,$CH$10:$CN$226,4),VLOOKUP(BA20,$CH$10:$CN$226,3))),IF(OR(BB20>BG20,BB20=BG20),VLOOKUP(BA20,$CH$10:$CN$226,7),VLOOKUP(BA20,$CH$10:$CN$226,6))),"") -> -1.6923077 | BJ20: =IFERROR(IF(AD20="L",VLOOKUP(BB20,$CP$10:$CV$272,2),IF(AD20="P",VLOOKUP(BB20,$CP$10:$CV$272,5),"")),"") -> 13.4 | BK20: =IFERROR((BC20-BJ20)/IF(AD20="L",(IF(OR(BC20>BJ20,BC20=BJ20),VLOOKUP(BB20,$CP$10:$CV$272,4),VLOOKUP(BB20,$CP$10:$CV$272,3))),IF(OR(BC20>BJ20,BC20=BJ20),VLOOKUP(BB20,$CP$10:$CV$272,7),VLOOKUP(BB20,$CP$10:$CV$272,6))),"") -> -8.5962963 | BM20: =IFERROR(BC20/(BB20/100)^2,"") -> 0.59730099 | BN20: =IFERROR(IF(BM20>DP20,3+(BM20-DP20)/(DP20-DQ20),IF(BM20>DQ20,2+(BM20-DQ20)/(DP20-DQ20),IF(BM20>DR20,1+(BM20-DR20)/(DQ20-DR20),IF(BM20>DS20,(BM20-DS20)/(DR20-DS20),IF(BM20>DT20,-1+(BM20-DT20)/(DS20-DT20),IF(BM20>DU20,-2+(BM20-DU20)/(DT20-DU20),IF(BM20>DV20,-3+(BM20-DV20)/(DU20-DV20),-3-(DV20-BM20)/(DU20-DV20)))))))),"") -> -14.302699 | BZ20: 10 | CA20: 9.5 | CB20: 0.9 | CC20: 1.1 | CD20: 8.9 | CE20: 1 | CF20: 1 | CH20: 10 | CI20: 73.6 | CJ20: 2.6 | CK20: 2.6 | CL20: 71.8 | CM20: 2.8 | CN20: 2.8 | CP20: 54 | CQ20: 4.1 | CR20: 0.5 | CS20: 0.6 | CT20: 4.1 | CU20: 0.5 | CV20: 0.5 | CZ20: 10 | DA20: 22 | DB20: 20.1 | DC20: 18.5 | DD20: 17 | DE20: 15.7 | DF20: 14.6 | DG20: 13.5 | DH20: 21.9 | DI20: 19.9 | DJ20: 18.2 | DK20: 16.6 | DL20: 15.2 | DM20: 14 | DN20: 12.9 | DP20: =IFERROR(IF(AD20="L",VLOOKUP(BA20,$CZ$10:$DN$82,2),IF(AD20="P",VLOOKUP(BA20,$CZ$10:$DN$82,9),0)),"") -> 20.4 | DQ20: =IFERROR(IF(AD20="L",VLOOKUP(BA20,$CZ$10:$DN$82,3),IF(AD20="P",VLOOKUP(BA20,$CZ$10:$DN$82,10),0)),"") -> 18.4 | DR20: =IFERROR(IF(AD20="L",VLOOKUP(BA20,$CZ$10:$DN$82,4),IF(AD20="P",VLOOKUP(BA20,$CZ$10:$DN$82,11),0)),"") -> 16.8 | DS20: =IFERROR(IF(AD20="L",VLOOKUP(BA20,$CZ$10:$DN$82,5),IF(AD20="P",VLOOKUP(BA20,$CZ$10:$DN$82,12),0)),"") -> 15.3 | DT20: =IFERROR(IF(AD20="L",VLOOKUP(BA20,$CZ$10:$DN$82,6),IF(AD20="P",VLOOKUP(BA20,$CZ$10:$DN$82,13),0)),"") -> 14 | DU20: =IFERROR(IF(AD20="L",VLOOKUP(BA20,$CZ$10:$DN$82,7),IF(AD20="P",VLOOKUP(BA20,$CZ$10:$DN$82,14),0)),"") -> 12.9 | DV20: =IFERROR(IF(AD20="L",VLOOKUP(BA20,$CZ$10:$DN$82,8),IF(AD20="P",VLOOKUP(BA20,$CZ$10:$DN$82,15),0)),"") -> 11.9 | DZ20: 10 | EA20: 49.2 | EB20: 47.9 | EC20: 46.7 | ED20: 45.4 | EE20: 44.1 | EF20: 42.9 | EG20: 41.6 | EH20: 48.3 | EI20: 46.9 | EJ20: 45.6 | EK20: 44.2 | EL20: 42.9 | EM20: 41.5 | EN20: 40.2
AA21: 12 | AB21: =PKG!C25 -> 45801 | AC21: =PKG!G25 -> 44708 | AD21: =IFERROR(IF(VALUE(MID(PKG!D25,7,2))>40,"P","L"),"") -> P | AE21: =PKG!H25 -> KARANGSOKO | AF21: =IFERROR(VLOOKUP(AE21,$AW$10:$AX$16,2,0),"") -> 1 | AG21: =IFERROR(IF(AND(AE21<>"",AF21=""),"Luar Wil",AE21)&VLOOKUP(DAY(AB21),$AS$10:$AT$14,2),"") -> KARANGSOKOMg 4 | AH21: =IFERROR(DATEDIF(AC21,AB21,"Y"),"") -> 2 | AI21: =IFERROR(DATEDIF(AC21,AB21,"yM"),"") -> 11 | AJ21: =IFERROR(DATEDIF(AC21,AB21,"M"),"") -> 35 | AK21: =IFERROR(VLOOKUP(VLOOKUP(AJ21,$AM$10:$AN$13,2)&AD21,$AQ$10:$AR$17,2),"") | AZ21: =IFERROR(DATEDIF(AC21,AB21,"M"),"") -> 35 | BA21: =IF(AZ21>216,"D",AZ21) -> 35 | BB21: =PKG!J25 -> 91 | BC21: =PKG!K25 -> 12.1 | BD21: =IFERROR(IF(AD21="L",VLOOKUP(BA21,$BZ$10:$CF$226,2),IF(AD21="P",VLOOKUP(BA21,$BZ$10:$CF$226,5),"")),"") -> 13.8 | BE21: =IFERROR((BC21-BD21)/IF(AD21="L",(IF(OR(BC21>BD21,BC21=BD21),VLOOKUP(BA21,$BZ$10:$CF$226,4),VLOOKUP(BA21,$BZ$10:$CF$226,3))),IF(OR(BC21>BD21,BC21=BD21),VLOOKUP(BA21,$BZ$10:$CF$226,7),VLOOKUP(BA21,$BZ$10:$CF$226,6))),"") -> -8.312066 | BG21: =IFERROR(IF(AD21="L",VLOOKUP(BA21,$CH$10:$CN$226,2),IF(AD21="P",VLOOKUP(BA21,$CH$10:$CN$226,5),"")),"") -> 94.9 | BH21: =IFERROR((BB21-BG21)/IF(AD21="L",(IF(OR(BB21>BG21,BB21=BG21),VLOOKUP(BA21,$CH$10:$CN$226,4),VLOOKUP(BA21,$CH$10:$CN$226,3))),IF(OR(BB21>BG21,BB21=BG21),VLOOKUP(BA21,$CH$10:$CN$226,7),VLOOKUP(BA21,$CH$10:$CN$226,6))),"") -> -1.1142857 | BJ21: =IFERROR(IF(AD21="L",VLOOKUP(BB21,$CP$10:$CV$272,2),IF(AD21="P",VLOOKUP(BB21,$CP$10:$CV$272,5),"")),"") -> 13.2 | BK21: =IFERROR((BC21-BJ21)/IF(AD21="L",(IF(OR(BC21>BJ21,BC21=BJ21),VLOOKUP(BB21,$CP$10:$CV$272,4),VLOOKUP(BB21,$CP$10:$CV$272,3))),IF(OR(BC21>BJ21,BC21=BJ21),VLOOKUP(BB21,$CP$10:$CV$272,7),VLOOKUP(BB21,$CP$10:$CV$272,6))),"") -> -9.0709325 | BM21: =IFERROR(BC21/(BB21/100)^2,"") -> 0.60463041 | BN21: =IFERROR(IF(BM21>DP21,3+(BM21-DP21)/(DP21-DQ21),IF(BM21>DQ21,2+(BM21-DQ21)/(DP21-DQ21),IF(BM21>DR21,1+(BM21-DR21)/(DQ21-DR21),IF(BM21>DS21,(BM21-DS21)/(DR21-DS21),IF(BM21>DT21,-1+(BM21-DT21)/(DS21-DT21),IF(BM21>DU21,-2+(BM21-DU21)/(DT21-DU21),IF(BM21>DV21,-3+(BM21-DV21)/(DU21-DV21),-3-(DV21-BM21)/(DU21-DV21)))))))),"") -> -14.49537 | BZ21: 11 | CA21: 9.9 | CB21: 1 | CC21: 1 | CD21: 9.2 | CE21: 1 | CF21: 1.1 | CH21: 11 | CI21: 74.9 | CJ21: 2.7 | CK21: 2.7 | CL21: 73.1 | CM21: 2.8 | CN21: 2.8 | CP21: 54.5 | CQ21: 4.2 | CR21: 0.5 | CS21: 0.6 | CT21: 4.2 | CU21: 0.5 | CV21: 0.5 | CZ21: 11 | DA21: 21.8 | DB21: 20 | DC21: 18.4 | DD21: 16.9 | DE21: 15.6 | DF21: 14.5 | DG21: 13.4 | DH21: 21.8 | DI21: 19.8 | DJ21: 18 | DK21: 16.5 | DL21: 15.1 | DM21: 13.9 | DN21: 12.8 | DP21: =IFERROR(IF(AD21="L",VLOOKUP(BA21,$CZ$10:$DN$82,2),IF(AD21="P",VLOOKUP(BA21,$CZ$10:$DN$82,9),0)),"") -> 20.3 | DQ21: =IFERROR(IF(AD21="L",VLOOKUP(BA21,$CZ$10:$DN$82,3),IF(AD21="P",VLOOKUP(BA21,$CZ$10:$DN$82,10),0)),"") -> 18.4 | DR21: =IFERROR(IF(AD21="L",VLOOKUP(BA21,$CZ$10:$DN$82,4),IF(AD21="P",VLOOKUP(BA21,$CZ$10:$DN$82,11),0)),"") -> 16.8 | DS21: =IFERROR(IF(AD21="L",VLOOKUP(BA21,$CZ$10:$DN$82,5),IF(AD21="P",VLOOKUP(BA21,$CZ$10:$DN$82,12),0)),"") -> 15.4 | DT21: =IFERROR(IF(AD21="L",VLOOKUP(BA21,$CZ$10:$DN$82,6),IF(AD21="P",VLOOKUP(BA21,$CZ$10:$DN$82,13),0)),"") -> 14.2 | DU21: =IFERROR(IF(AD21="L",VLOOKUP(BA21,$CZ$10:$DN$82,7),IF(AD21="P",VLOOKUP(BA21,$CZ$10:$DN$82,14),0)),"") -> 13.1 | DV21: =IFERROR(IF(AD21="L",VLOOKUP(BA21,$CZ$10:$DN$82,8),IF(AD21="P",VLOOKUP(BA21,$CZ$10:$DN$82,15),0)),"") -> 12.1 | DZ21: 11 | EA21: 49.6 | EB21: 48.3 | EC21: 47 | ED21: 45.8 | EE21: 44.5 | EF21: 43.2 | EG21: 41.9 | EH21: 48.6 | EI21: 47.3 | EJ21: 45.9 | EK21: 44.6 | EL21: 43.2 | EM21: 41.9 | EN21: 40.5
AA22: 13 | AB22: =PKG!C26 -> 45801 | AC22: =PKG!G26 -> 44889 | AD22: =IFERROR(IF(VALUE(MID(PKG!D26,7,2))>40,"P","L"),"") -> P | AE22: =PKG!H26 -> KARANGSOKO | AF22: =IFERROR(VLOOKUP(AE22,$AW$10:$AX$16,2,0),"") -> 1 | AG22: =IFERROR(IF(AND(AE22<>"",AF22=""),"Luar Wil",AE22)&VLOOKUP(DAY(AB22),$AS$10:$AT$14,2),"") -> KARANGSOKOMg 4 | AH22: =IFERROR(DATEDIF(AC22,AB22,"Y"),"") -> 2 | AI22: =IFERROR(DATEDIF(AC22,AB22,"yM"),"") -> 6 | AJ22: =IFERROR(DATEDIF(AC22,AB22,"M"),"") -> 30 | AK22: =IFERROR(VLOOKUP(VLOOKUP(AJ22,$AM$10:$AN$13,2)&AD22,$AQ$10:$AR$17,2),"") | AZ22: =IFERROR(DATEDIF(AC22,AB22,"M"),"") -> 30 | BA22: =IF(AZ22>216,"D",AZ22) -> 30 | BB22: =PKG!J26 -> 94 | BC22: =PKG!K26 -> 14.5 | BD22: =IFERROR(IF(AD22="L",VLOOKUP(BA22,$BZ$10:$CF$226,2),IF(AD22="P",VLOOKUP(BA22,$BZ$10:$CF$226,5),"")),"") -> 12.9 | BE22: =IFERROR((BC22-BD22)/IF(AD22="L",(IF(OR(BC22>BD22,BC22=BD22),VLOOKUP(BA22,$BZ$10:$CF$226,4),VLOOKUP(BA22,$BZ$10:$CF$226,3))),IF(OR(BC22>BD22,BC22=BD22),VLOOKUP(BA22,$BZ$10:$CF$226,7),VLOOKUP(BA22,$BZ$10:$CF$226,6))),"") -> -8.2087963 | BG22: =IFERROR(IF(AD22="L",VLOOKUP(BA22,$CH$10:$CN$226,2),IF(AD22="P",VLOOKUP(BA22,$CH$10:$CN$226,5),"")),"") -> 91.3 | BH22: =IFERROR((BB22-BG22)/IF(AD22="L",(IF(OR(BB22>BG22,BB22=BG22),VLOOKUP(BA22,$CH$10:$CN$226,4),VLOOKUP(BA22,$CH$10:$CN$226,3))),IF(OR(BB22>BG22,BB22=BG22),VLOOKUP(BA22,$CH$10:$CN$226,7),VLOOKUP(BA22,$CH$10:$CN$226,6))),"") -> 0.79411765 | BJ22: =IFERROR(IF(AD22="L",VLOOKUP(BB22,$CP$10:$CV$272,2),IF(AD22="P",VLOOKUP(BB22,$CP$10:$CV$272,5),"")),"") -> 13.9 | BK22: =IFERROR((BC22-BJ22)/IF(AD22="L",(IF(OR(BC22>BJ22,BC22=BJ22),VLOOKUP(BB22,$CP$10:$CV$272,4),VLOOKUP(BB22,$CP$10:$CV$272,3))),IF(OR(BC22>BJ22,BC22=BJ22),VLOOKUP(BB22,$CP$10:$CV$272,7),VLOOKUP(BB22,$CP$10:$CV$272,6))),"") -> -8.875463 | BM22: =IFERROR(BC22/(BB22/100)^2,"") -> 0.66410769 | BN22: =IFERROR(IF(BM22>DP22,3+(BM22-DP22)/(DP22-DQ22),IF(BM22>DQ22,2+(BM22-DQ22)/(DP22-DQ22),IF(BM22>DR22,1+(BM22-DR22)/(DQ22-DR22),IF(BM22>DS22,(BM22-DS22)/(DR22-DS22),IF(BM22>DT22,-1+(BM22-DT22)/(DS22-DT22),IF(BM22>DU22,-2+(BM22-DU22)/(DT22-DU22),IF(BM22>DV22,-3+(BM22-DV22)/(DU22-DV22),-3-(DV22-BM22)/(DU22-DV22)))))))),"") -> -15.928769 | BZ22: 12 | CA22: 10.2 | CB22: 1.1 | CC22: 1.1 | CD22: 9.5 | CE22: 1 | CF22: 1.1 | CH22: 12 | CI22: 76.1 | CJ22: 2.7 | CK22: 2.7 | CL22: 74.3 | CM22: 2.8 | CN22: 2.8 | CP22: 55 | CQ22: 4.3 | CR22: 0.5 | CS22: 0.7 | CT22: 4.3 | CU22: 0.5 | CV22: 0.5 | CZ22: 12 | DA22: 21.6 | DB22: 19.8 | DC22: 18.2 | DD22: 16.8 | DE22: 15.5 | DF22: 14.4 | DG22: 13.4 | DH22: 21.6 | DI22: 19.6 | DJ22: 17.9 | DK22: 16.4 | DL22: 15 | DM22: 13.8 | DN22: 12.7 | DP22: =IFERROR(IF(AD22="L",VLOOKUP(BA22,$CZ$10:$DN$82,2),IF(AD22="P",VLOOKUP(BA22,$CZ$10:$DN$82,9),0)),"") -> 20.4 | DQ22: =IFERROR(IF(AD22="L",VLOOKUP(BA22,$CZ$10:$DN$82,3),IF(AD22="P",VLOOKUP(BA22,$CZ$10:$DN$82,10),0)),"") -> 18.5 | DR22: =IFERROR(IF(AD22="L",VLOOKUP(BA22,$CZ$10:$DN$82,4),IF(AD22="P",VLOOKUP(BA22,$CZ$10:$DN$82,11),0)),"") -> 16.9 | DS22: =IFERROR(IF(AD22="L",VLOOKUP(BA22,$CZ$10:$DN$82,5),IF(AD22="P",VLOOKUP(BA22,$CZ$10:$DN$82,12),0)),"") -> 15.5 | DT22: =IFERROR(IF(AD22="L",VLOOKUP(BA22,$CZ$10:$DN$82,6),IF(AD22="P",VLOOKUP(BA22,$CZ$10:$DN$82,13),0)),"") -> 14.3 | DU22: =IFERROR(IF(AD22="L",VLOOKUP(BA22,$CZ$10:$DN$82,7),IF(AD22="P",VLOOKUP(BA22,$CZ$10:$DN$82,14),0)),"") -> 13.2 | DV22: =IFERROR(IF(AD22="L",VLOOKUP(BA22,$CZ$10:$DN$82,8),IF(AD22="P",VLOOKUP(BA22,$CZ$10:$DN$82,15),0)),"") -> 12.3 | DZ22: 12 | EA22: 49.9 | EB22: 48.6 | EC22: 47.4 | ED22: 46.1 | EE22: 44.8 | EF22: 43.5 | EG22: 42.2 | EH22: 49 | EI22: 47.6 | EJ22: 46.3 | EK22: 44.9 | EL22: 43.5 | EM22: 42.2 | EN22: 40.8
AA23: 14 | AB23: =PKG!C27 -> 45801 | AC23: =PKG!G27 -> 45370 | AD23: =IFERROR(IF(VALUE(MID(PKG!D27,7,2))>40,"P","L"),"") -> P | AE23: =PKG!H27 -> KARANGSOKO | AF23: =IFERROR(VLOOKUP(AE23,$AW$10:$AX$16,2,0),"") -> 1 | AG23: =IFERROR(IF(AND(AE23<>"",AF23=""),"Luar Wil",AE23)&VLOOKUP(DAY(AB23),$AS$10:$AT$14,2),"") -> KARANGSOKOMg 4 | AH23: =IFERROR(DATEDIF(AC23,AB23,"Y"),"") -> 1 | AI23: =IFERROR(DATEDIF(AC23,AB23,"yM"),"") -> 2 | AJ23: =IFERROR(DATEDIF(AC23,AB23,"M"),"") -> 14 | AK23: =IFERROR(VLOOKUP(VLOOKUP(AJ23,$AM$10:$AN$13,2)&AD23,$AQ$10:$AR$17,2),"") | AZ23: =IFERROR(DATEDIF(AC23,AB23,"M"),"") -> 14 | BA23: =IF(AZ23>216,"D",AZ23) -> 14 | BB23: =PKG!J27 -> 72 | BC23: =PKG!K27 -> 9.2 | BD23: =IFERROR(IF(AD23="L",VLOOKUP(BA23,$BZ$10:$CF$226,2),IF(AD23="P",VLOOKUP(BA23,$BZ$10:$CF$226,5),"")),"") -> 10 | BE23: =IFERROR((BC23-BD23)/IF(AD23="L",(IF(OR(BC23>BD23,BC23=BD23),VLOOKUP(BA23,$BZ$10:$CF$226,4),VLOOKUP(BA23,$BZ$10:$CF$226,3))),IF(OR(BC23>BD23,BC23=BD23),VLOOKUP(BA23,$BZ$10:$CF$226,7),VLOOKUP(BA23,$BZ$10:$CF$226,6))),"") -> -8.7487374 | BG23: =IFERROR(IF(AD23="L",VLOOKUP(BA23,$CH$10:$CN$226,2),IF(AD23="P",VLOOKUP(BA23,$CH$10:$CN$226,5),"")),"") -> 76.7 | BH23: =IFERROR((BB23-BG23)/IF(AD23="L",(IF(OR(BB23>BG23,BB23=BG23),VLOOKUP(BA23,$CH$10:$CN$226,4),VLOOKUP(BA23,$CH$10:$CN$226,3))),IF(OR(BB23>BG23,BB23=BG23),VLOOKUP(BA23,$CH$10:$CN$226,7),VLOOKUP(BA23,$CH$10:$CN$226,6))),"") -> -1.5666667 | BJ23: =IFERROR(IF(AD23="L",VLOOKUP(BB23,$CP$10:$CV$272,2),IF(AD23="P",VLOOKUP(BB23,$CP$10:$CV$272,5),"")),"") -> 8.9 | BK23: =IFERROR((BC23-BJ23)/IF(AD23="L",(IF(OR(BC23>BJ23,BC23=BJ23),VLOOKUP(BB23,$CP$10:$CV$272,4),VLOOKUP(BB23,$CP$10:$CV$272,3))),IF(OR(BC23>BJ23,BC23=BJ23),VLOOKUP(BB23,$CP$10:$CV$272,7),VLOOKUP(BB23,$CP$10:$CV$272,6))),"") -> -9.470679 | BM23: =IFERROR(BC23/(BB23/100)^2,"") -> 0.72605881 | BN23: =IFERROR(IF(BM23>DP23,3+(BM23-DP23)/(DP23-DQ23),IF(BM23>DQ23,2+(BM23-DQ23)/(DP23-DQ23),IF(BM23>DR23,1+(BM23-DR23)/(DQ23-DR23),IF(BM23>DS23,(BM23-DS23)/(DR23-DS23),IF(BM23>DT23,-1+(BM23-DT23)/(DS23-DT23),IF(BM23>DU23,-2+(BM23-DU23)/(DT23-DU23),IF(BM23>DV23,-3+(BM23-DV23)/(DU23-DV23),-3-(DV23-BM23)/(DU23-DV23)))))))),"") -> -14.873941 | BZ23: 13 | CA23: 10.4 | CB23: 1 | CC23: 1.1 | CD23: 9.8 | CE23: 1.1 | CF23: 1 | CH23: 13 | CI23: 77.2 | CJ23: 2.7 | CK23: 2.7 | CL23: 75.5 | CM23: 2.9 | CN23: 2.9 | CP23: 55.5 | CQ23: 4.5 | CR23: 0.6 | CS23: 0.7 | CT23: 4.4 | CU23: 0.5 | CV23: 0.5 | CZ23: 13 | DA23: 21.5 | DB23: 19.7 | DC23: 18.1 | DD23: 16.7 | DE23: 15.4 | DF23: 14.3 | DG23: 13.3 | DH23: 21.4 | DI23: 19.5 | DJ23: 17.7 | DK23: 16.2 | DL23: 14.9 | DM23: 13.7 | DN23: 12.6 | DP23: =IFERROR(IF(AD23="L",VLOOKUP(BA23,$CZ$10:$DN$82,2),IF(AD23="P",VLOOKUP(BA23,$CZ$10:$DN$82,9),0)),"") -> 21.3 | DQ23: =IFERROR(IF(AD23="L",VLOOKUP(BA23,$CZ$10:$DN$82,3),IF(AD23="P",VLOOKUP(BA23,$CZ$10:$DN$82,10),0)),"") -> 19.3 | DR23: =IFERROR(IF(AD23="L",VLOOKUP(BA23,$CZ$10:$DN$82,4),IF(AD23="P",VLOOKUP(BA23,$CZ$10:$DN$82,11),0)),"") -> 17.6 | DS23: =IFERROR(IF(AD23="L",VLOOKUP(BA23,$CZ$10:$DN$82,5),IF(AD23="P",VLOOKUP(BA23,$CZ$10:$DN$82,12),0)),"") -> 16.1 | DT23: =IFERROR(IF(AD23="L",VLOOKUP(BA23,$CZ$10:$DN$82,6),IF(AD23="P",VLOOKUP(BA23,$CZ$10:$DN$82,13),0)),"") -> 14.8 | DU23: =IFERROR(IF(AD23="L",VLOOKUP(BA23,$CZ$10:$DN$82,7),IF(AD23="P",VLOOKUP(BA23,$CZ$10:$DN$82,14),0)),"") -> 13.6 | DV23: =IFERROR(IF(AD23="L",VLOOKUP(BA23,$CZ$10:$DN$82,8),IF(AD23="P",VLOOKUP(BA23,$CZ$10:$DN$82,15),0)),"") -> 12.6 | DZ23: 13 | EA23: 50.2 | EB23: 48.9 | EC23: 47.6 | ED23: 46.3 | EE23: 45 | EF23: 43.8 | EG23: 42.5 | EH23: 49.3 | EI23: 47.9 | EJ23: 46.5 | EK23: 45.2 | EL23: 43.8 | EM23: 42.4 | EN23: 41.1
AA24: 15 | AB24: =PKG!C28 -> 45803 | AC24: =PKG!G28 -> 45788 | AD24: =IFERROR(IF(VALUE(MID(PKG!D28,7,2))>40,"P","L"),"") -> P | AE24: =PKG!H28 -> KARANGSOKO | AF24: =IFERROR(VLOOKUP(AE24,$AW$10:$AX$16,2,0),"") -> 1 | AG24: =IFERROR(IF(AND(AE24<>"",AF24=""),"Luar Wil",AE24)&VLOOKUP(DAY(AB24),$AS$10:$AT$14,2),"") -> KARANGSOKOMg 4 | AH24: =IFERROR(DATEDIF(AC24,AB24,"Y"),"") -> 0 | AI24: =IFERROR(DATEDIF(AC24,AB24,"yM"),"") -> 0 | AJ24: =IFERROR(DATEDIF(AC24,AB24,"M"),"") -> 0 | AK24: =IFERROR(VLOOKUP(VLOOKUP(AJ24,$AM$10:$AN$13,2)&AD24,$AQ$10:$AR$17,2),"") | AZ24: =IFERROR(DATEDIF(AC24,AB24,"M"),"") -> 0 | BA24: =IF(AZ24>216,"D",AZ24) -> 0 | BB24: =PKG!J28 -> 92 | BC24: =PKG!K28 -> 12.8 | BD24: =IFERROR(IF(AD24="L",VLOOKUP(BA24,$BZ$10:$CF$226,2),IF(AD24="P",VLOOKUP(BA24,$BZ$10:$CF$226,5),"")),"") -> 3.2 | BE24: =IFERROR((BC24-BD24)/IF(AD24="L",(IF(OR(BC24>BD24,BC24=BD24),VLOOKUP(BA24,$BZ$10:$CF$226,4),VLOOKUP(BA24,$BZ$10:$CF$226,3))),IF(OR(BC24>BD24,BC24=BD24),VLOOKUP(BA24,$BZ$10:$CF$226,7),VLOOKUP(BA24,$BZ$10:$CF$226,6))),"") -> -6.7361111 | BG24: =IFERROR(IF(AD24="L",VLOOKUP(BA24,$CH$10:$CN$226,2),IF(AD24="P",VLOOKUP(BA24,$CH$10:$CN$226,5),"")),"") -> 49.9 | BH24: =IFERROR((BB24-BG24)/IF(AD24="L",(IF(OR(BB24>BG24,BB24=BG24),VLOOKUP(BA24,$CH$10:$CN$226,4),VLOOKUP(BA24,$CH$10:$CN$226,3))),IF(OR(BB24>BG24,BB24=BG24),VLOOKUP(BA24,$CH$10:$CN$226,7),VLOOKUP(BA24,$CH$10:$CN$226,6))),"") -> 20.047619 | BJ24: =IFERROR(IF(AD24="L",VLOOKUP(BB24,$CP$10:$CV$272,2),IF(AD24="P",VLOOKUP(BB24,$CP$10:$CV$272,5),"")),"") -> 13.4 | BK24: =IFERROR((BC24-BJ24)/IF(AD24="L",(IF(OR(BC24>BJ24,BC24=BJ24),VLOOKUP(BB24,$CP$10:$CV$272,4),VLOOKUP(BB24,$CP$10:$CV$272,3))),IF(OR(BC24>BJ24,BC24=BJ24),VLOOKUP(BB24,$CP$10:$CV$272,7),VLOOKUP(BB24,$CP$10:$CV$272,6))),"") -> -8.5962963 | BM24: =IFERROR(BC24/(BB24/100)^2,"") -> 0.59730099 | BN24: =IFERROR(IF(BM24>DP24,3+(BM24-DP24)/(DP24-DQ24),IF(BM24>DQ24,2+(BM24-DQ24)/(DP24-DQ24),IF(BM24>DR24,1+(BM24-DR24)/(DQ24-DR24),IF(BM24>DS24,(BM24-DS24)/(DR24-DS24),IF(BM24>DT24,-1+(BM24-DT24)/(DS24-DT24),IF(BM24>DU24,-2+(BM24-DU24)/(DT24-DU24),IF(BM24>DV24,-3+(BM24-DV24)/(DU24-DV24),-3-(DV24-BM24)/(DU24-DV24)))))))),"") -> -12.502699 | BZ24: 14 | CA24: 10.7 | CB24: 1.1 | CC24: 1.1 | CD24: 10 | CE24: 1.1 | CF24: 1.1 | CH24: 14 | CI24: 78.3 | CJ24: 2.7 | CK24: 2.7 | CL24: 76.7 | CM24: 3 | CN24: 3 | CP24: 56 | CQ24: 4.6 | CR24: 0.6 | CS24: 0.7 | CT24: 4.5 | CU24: 0.5 | CV24: 0.5 | CZ24: 14 | DA24: 21.3 | DB24: 19.5 | DC24: 18 | DD24: 16.6 | DE24: 15.3 | DF24: 14.2 | DG24: 13.2 | DH24: 21.3 | DI24: 19.3 | DJ24: 17.6 | DK24: 16.1 | DL24: 14.8 | DM24: 13.6 | DN24: 12.6 | DP24: =IFERROR(IF(AD24="L",VLOOKUP(BA24,$CZ$10:$DN$82,2),IF(AD24="P",VLOOKUP(BA24,$CZ$10:$DN$82,9),0)),"") -> 17.7 | DQ24: =IFERROR(IF(AD24="L",VLOOKUP(BA24,$CZ$10:$DN$82,3),IF(AD24="P",VLOOKUP(BA24,$CZ$10:$DN$82,10),0)),"") -> 16.1 | DR24: =IFERROR(IF(AD24="L",VLOOKUP(BA24,$CZ$10:$DN$82,4),IF(AD24="P",VLOOKUP(BA24,$CZ$10:$DN$82,11),0)),"") -> 14.6 | DS24: =IFERROR(IF(AD24="L",VLOOKUP(BA24,$CZ$10:$DN$82,5),IF(AD24="P",VLOOKUP(BA24,$CZ$10:$DN$82,12),0)),"") -> 13.3 | DT24: =IFERROR(IF(AD24="L",VLOOKUP(BA24,$CZ$10:$DN$82,6),IF(AD24="P",VLOOKUP(BA24,$CZ$10:$DN$82,13),0)),"") -> 12.2 | DU24: =IFERROR(IF(AD24="L",VLOOKUP(BA24,$CZ$10:$DN$82,7),IF(AD24="P",VLOOKUP(BA24,$CZ$10:$DN$82,14),0)),"") -> 11.1 | DV24: =IFERROR(IF(AD24="L",VLOOKUP(BA24,$CZ$10:$DN$82,8),IF(AD24="P",VLOOKUP(BA24,$CZ$10:$DN$82,15),0)),"") -> 10.1 | DZ24: 14 | EA24: 50.5 | EB24: 49.2 | EC24: 47.9 | ED24: 46.6 | EE24: 45.3 | EF24: 44 | EG24: 42.7 | EH24: 49.5 | EI24: 48.2 | EJ24: 46.8 | EK24: 45.4 | EL24: 44.1 | EM24: 42.7 | EN24: 41.3
AA25: 16 | AB25: =PKG!C29 -> 45803 | AC25: =PKG!G29 -> 44656 | AD25: =IFERROR(IF(VALUE(MID(PKG!D29,7,2))>40,"P","L"),"") -> L | AE25: =PKG!H29 -> KARANGSOKO | AF25: =IFERROR(VLOOKUP(AE25,$AW$10:$AX$16,2,0),"") -> 1 | AG25: =IFERROR(IF(AND(AE25<>"",AF25=""),"Luar Wil",AE25)&VLOOKUP(DAY(AB25),$AS$10:$AT$14,2),"") -> KARANGSOKOMg 4 | AH25: =IFERROR(DATEDIF(AC25,AB25,"Y"),"") -> 3 | AI25: =IFERROR(DATEDIF(AC25,AB25,"yM"),"") -> 1 | AJ25: =IFERROR(DATEDIF(AC25,AB25,"M"),"") -> 37 | AK25: =IFERROR(VLOOKUP(VLOOKUP(AJ25,$AM$10:$AN$13,2)&AD25,$AQ$10:$AR$17,2),"") | AZ25: =IFERROR(DATEDIF(AC25,AB25,"M"),"") -> 37 | BA25: =IF(AZ25>216,"D",AZ25) -> 37 | BB25: =PKG!J29 -> 87 | BC25: =PKG!K29 -> 10.7 | BD25: =IFERROR(IF(AD25="L",VLOOKUP(BA25,$BZ$10:$CF$226,2),IF(AD25="P",VLOOKUP(BA25,$BZ$10:$CF$226,5),"")),"") -> 14.8 | BE25: =IFERROR((BC25-BD25)/IF(AD25="L",(IF(OR(BC25>BD25,BC25=BD25),VLOOKUP(BA25,$BZ$10:$CF$226,4),VLOOKUP(BA25,$BZ$10:$CF$226,3))),IF(OR(BC25>BD25,BC25=BD25),VLOOKUP(BA25,$BZ$10:$CF$226,7),VLOOKUP(BA25,$BZ$10:$CF$226,6))),"") -> -7.9880401 | BG25: =IFERROR(IF(AD25="L",VLOOKUP(BA25,$CH$10:$CN$226,2),IF(AD25="P",VLOOKUP(BA25,$CH$10:$CN$226,5),"")),"") -> 95.6 | BH25: =IFERROR((BB25-BG25)/IF(AD25="L",(IF(OR(BB25>BG25,BB25=BG25),VLOOKUP(BA25,$CH$10:$CN$226,4),VLOOKUP(BA25,$CH$10:$CN$226,3))),IF(OR(BB25>BG25,BB25=BG25),VLOOKUP(BA25,$CH$10:$CN$226,7),VLOOKUP(BA25,$CH$10:$CN$226,6))),"") -> -2.2631579 | BJ25: =IFERROR(IF(AD25="L",VLOOKUP(BB25,$CP$10:$CV$272,2),IF(AD25="P",VLOOKUP(BB25,$CP$10:$CV$272,5),"")),"") -> 12.6 | BK25: =IFERROR((BC25-BJ25)/IF(AD25="L",(IF(OR(BC25>BJ25,BC25=BJ25),VLOOKUP(BB25,$CP$10:$CV$272,4),VLOOKUP(BB25,$CP$10:$CV$272,3))),IF(OR(BC25>BJ25,BC25=BJ25),VLOOKUP(BB25,$CP$10:$CV$272,7),VLOOKUP(BB25,$CP$10:$CV$272,6))),"") -> -8.1189815 | BM25: =IFERROR(BC25/(BB25/100)^2,"") -> 0.55691343 | BN25: =IFERROR(IF(BM25>DP25,3+(BM25-DP25)/(DP25-DQ25),IF(BM25>DQ25,2+(BM25-DQ25)/(DP25-DQ25),IF(BM25>DR25,1+(BM25-DR25)/(DQ25-DR25),IF(BM25>DS25,(BM25-DS25)/(DR25-DS25),IF(BM25>DT25,-1+(BM25-DT25)/(DS25-DT25),IF(BM25>DU25,-2+(BM25-DU25)/(DT25-DU25),IF(BM25>DV25,-3+(BM25-DV25)/(DU25-DV25),-3-(DV25-BM25)/(DU25-DV25)))))))),"") -> -16.158985 | BZ25: 15 | CA25: 10.9 | CB25: 1.1 | CC25: 1.1 | CD25: 10.2 | CE25: 1.1 | CF25: 1.1 | CH25: 15 | CI25: 79.4 | CJ25: 2.8 | CK25: 2.8 | CL25: 77.8 | CM25: 3 | CN25: 3 | CP25: 56.5 | CQ25: 4.7 | CR25: 0.6 | CS25: 0.7 | CT25: 4.6 | CU25: 0.5 | CV25: 0.5 | CZ25: 15 | DA25: 21.2 | DB25: 19.4 | DC25: 17.8 | DD25: 16.4 | DE25: 15.2 | DF25: 14.1 | DG25: 13.1 | DH25: 21.1 | DI25: 19.2 | DJ25: 17.5 | DK25: 16 | DL25: 14.7 | DM25: 13.5 | DN25: 12.5 | DP25: =IFERROR(IF(AD25="L",VLOOKUP(BA25,$CZ$10:$DN$82,2),IF(AD25="P",VLOOKUP(BA25,$CZ$10:$DN$82,9),0)),"") -> 19.9 | DQ25: =IFERROR(IF(AD25="L",VLOOKUP(BA25,$CZ$10:$DN$82,3),IF(AD25="P",VLOOKUP(BA25,$CZ$10:$DN$82,10),0)),"") -> 18.3 | DR25: =IFERROR(IF(AD25="L",VLOOKUP(BA25,$CZ$10:$DN$82,4),IF(AD25="P",VLOOKUP(BA25,$CZ$10:$DN$82,11),0)),"") -> 16.9 | DS25: =IFERROR(IF(AD25="L",VLOOKUP(BA25,$CZ$10:$DN$82,5),IF(AD25="P",VLOOKUP(BA25,$CZ$10:$DN$82,12),0)),"") -> 15.6 | DT25: =IFERROR(IF(AD25="L",VLOOKUP(BA25,$CZ$10:$DN$82,6),IF(AD25="P",VLOOKUP(BA25,$CZ$10:$DN$82,13),0)),"") -> 14.4 | DU25: =IFERROR(IF(AD25="L",VLOOKUP(BA25,$CZ$10:$DN$82,7),IF(AD25="P",VLOOKUP(BA25,$CZ$10:$DN$82,14),0)),"") -> 13.3 | DV25: =IFERROR(IF(AD25="L",VLOOKUP(BA25,$CZ$10:$DN$82,8),IF(AD25="P",VLOOKUP(BA25,$CZ$10:$DN$82,15),0)),"") -> 12.4 | DZ25: 15 | EA25: 50.7 | EB25: 49.4 | EC25: 48.1 | ED25: 46.8 | EE25: 45.5 | EF25: 44.2 | EG25: 42.9 | EH25: 49.8 | EI25: 48.4 | EJ25: 47 | EK25: 45.7 | EL25: 44.3 | EM25: 42.9 | EN25: 41.5
AA26: 17 | AB26: =PKG!C30 -> 45803 | AC26: =PKG!G30 -> 45663 | AD26: =IFERROR(IF(VALUE(MID(PKG!D30,7,2))>40,"P","L"),"") -> L | AE26: =PKG!H30 -> KARANGSOKO | AF26: =IFERROR(VLOOKUP(AE26,$AW$10:$AX$16,2,0),"") -> 1 | AG26: =IFERROR(IF(AND(AE26<>"",AF26=""),"Luar Wil",AE26)&VLOOKUP(DAY(AB26),$AS$10:$AT$14,2),"") -> KARANGSOKOMg 4 | AH26: =IFERROR(DATEDIF(AC26,AB26,"Y"),"") -> 0 | AI26: =IFERROR(DATEDIF(AC26,AB26,"yM"),"") -> 4 | AJ26: =IFERROR(DATEDIF(AC26,AB26,"M"),"") -> 4 | AK26: =IFERROR(VLOOKUP(VLOOKUP(AJ26,$AM$10:$AN$13,2)&AD26,$AQ$10:$AR$17,2),"") | AZ26: =IFERROR(DATEDIF(AC26,AB26,"M"),"") -> 4 | BA26: =IF(AZ26>216,"D",AZ26) -> 4 | BB26: =PKG!J30 -> 96 | BC26: =PKG!K30 -> 14.6 | BD26: =IFERROR(IF(AD26="L",VLOOKUP(BA26,$BZ$10:$CF$226,2),IF(AD26="P",VLOOKUP(BA26,$BZ$10:$CF$226,5),"")),"") -> 6.7 | BE26: =IFERROR((BC26-BD26)/IF(AD26="L",(IF(OR(BC26>BD26,BC26=BD26),VLOOKUP(BA26,$BZ$10:$CF$226,4),VLOOKUP(BA26,$BZ$10:$CF$226,3))),IF(OR(BC26>BD26,BC26=BD26),VLOOKUP(BA26,$BZ$10:$CF$226,7),VLOOKUP(BA26,$BZ$10:$CF$226,6))),"") -> -6.7916667 | BG26: =IFERROR(IF(AD26="L",VLOOKUP(BA26,$CH$10:$CN$226,2),IF(AD26="P",VLOOKUP(BA26,$CH$10:$CN$226,5),"")),"") -> 63.7 | BH26: =IFERROR((BB26-BG26)/IF(AD26="L",(IF(OR(BB26>BG26,BB26=BG26),VLOOKUP(BA26,$CH$10:$CN$226,4),VLOOKUP(BA26,$CH$10:$CN$226,3))),IF(OR(BB26>BG26,BB26=BG26),VLOOKUP(BA26,$CH$10:$CN$226,7),VLOOKUP(BA26,$CH$10:$CN$226,6))),"") -> 11.962963 | BJ26: =IFERROR(IF(AD26="L",VLOOKUP(BB26,$CP$10:$CV$272,2),IF(AD26="P",VLOOKUP(BB26,$CP$10:$CV$272,5),"")),"") -> 14.7 | BK26: =IFERROR((BC26-BJ26)/IF(AD26="L",(IF(OR(BC26>BJ26,BC26=BJ26),VLOOKUP(BB26,$CP$10:$CV$272,4),VLOOKUP(BB26,$CP$10:$CV$272,3))),IF(OR(BC26>BJ26,BC26=BJ26),VLOOKUP(BB26,$CP$10:$CV$272,7),VLOOKUP(BB26,$CP$10:$CV$272,6))),"") -> -8.8203125 | BM26: =IFERROR(BC26/(BB26/100)^2,"") -> 0.6374783 | BN26: =IFERROR(IF(BM26>DP26,3+(BM26-DP26)/(DP26-DQ26),IF(BM26>DQ26,2+(BM26-DQ26)/(DP26-DQ26),IF(BM26>DR26,1+(BM26-DR26)/(DQ26-DR26),IF(BM26>DS26,(BM26-DS26)/(DR26-DS26),IF(BM26>DT26,-1+(BM26-DT26)/(DS26-DT26),IF(BM26>DU26,-2+(BM26-DU26)/(DT26-DU26),IF(BM26>DV26,-3+(BM26-DV26)/(DU26-DV26),-3-(DV26-BM26)/(DU26-DV26)))))))),"") -> -14.602292 | BZ26: 16 | CA26: 11.1 | CB26: 1.1 | CC26: 1.2 | CD26: 10.4 | CE26: 1.1 | CF26: 1.1 | CH26: 16 | CI26: 80.4 | CJ26: 2.9 | CK26: 2.9 | CL26: 78.9 | CM26: 3 | CN26: 3 | CP26: 57 | CQ26: 4.8 | CR26: 0.6 | CS26: 0.7 | CT26: 4.8 | CU26: 0.6 | CV26: 0.6 | CZ26: 16 | DA26: 21 | DB26: 19.3 | DC26: 17.7 | DD26: 16.3 | DE26: 15.1 | DF26: 14 | DG26: 13.1 | DH26: 21 | DI26: 19.1 | DJ26: 17.4 | DK26: 15.9 | DL26: 14.6 | DM26: 13.5 | DN26: 12.4 | DP26: =IFERROR(IF(AD26="L",VLOOKUP(BA26,$CZ$10:$DN$82,2),IF(AD26="P",VLOOKUP(BA26,$CZ$10:$DN$82,9),0)),"") -> 22.1 | DQ26: =IFERROR(IF(AD26="L",VLOOKUP(BA26,$CZ$10:$DN$82,3),IF(AD26="P",VLOOKUP(BA26,$CZ$10:$DN$82,10),0)),"") -> 20.3 | DR26: =IFERROR(IF(AD26="L",VLOOKUP(BA26,$CZ$10:$DN$82,4),IF(AD26="P",VLOOKUP(BA26,$CZ$10:$DN$82,11),0)),"") -> 18.7 | DS26: =IFERROR(IF(AD26="L",VLOOKUP(BA26,$CZ$10:$DN$82,5),IF(AD26="P",VLOOKUP(BA26,$CZ$10:$DN$82,12),0)),"") -> 17.2 | DT26: =IFERROR(IF(AD26="L",VLOOKUP(BA26,$CZ$10:$DN$82,6),IF(AD26="P",VLOOKUP(BA26,$CZ$10:$DN$82,13),0)),"") -> 15.8 | DU26: =IFERROR(IF(AD26="L",VLOOKUP(BA26,$CZ$10:$DN$82,7),IF(AD26="P",VLOOKUP(BA26,$CZ$10:$DN$82,14),0)),"") -> 14.5 | DV26: =IFERROR(IF(AD26="L",VLOOKUP(BA26,$CZ$10:$DN$82,8),IF(AD26="P",VLOOKUP(BA26,$CZ$10:$DN$82,15),0)),"") -> 13.4 | DZ26: 16 | EA26: 51 | EB26: 49.6 | EC26: 48.3 | ED26: 47 | EE26: 45.7 | EF26: 44.4 | EG26: 43.1 | EH26: 50 | EI26: 48.6 | EJ26: 47.2 | EK26: 45.9 | EL26: 44.5 | EM26: 43.1 | EN26: 41.7
AA27: 18 | AB27: =PKG!C31 -> 45803 | AC27: =PKG!G31 -> 44176 | AD27: =IFERROR(IF(VALUE(MID(PKG!D31,7,2))>40,"P","L"),"") -> L | AE27: =PKG!H31 -> KARANGSOKO | AF27: =IFERROR(VLOOKUP(AE27,$AW$10:$AX$16,2,0),"") -> 1 | AG27: =IFERROR(IF(AND(AE27<>"",AF27=""),"Luar Wil",AE27)&VLOOKUP(DAY(AB27),$AS$10:$AT$14,2),"") -> KARANGSOKOMg 4 | AH27: =IFERROR(DATEDIF(AC27,AB27,"Y"),"") -> 4 | AI27: =IFERROR(DATEDIF(AC27,AB27,"yM"),"") -> 5 | AJ27: =IFERROR(DATEDIF(AC27,AB27,"M"),"") -> 53 | AK27: =IFERROR(VLOOKUP(VLOOKUP(AJ27,$AM$10:$AN$13,2)&AD27,$AQ$10:$AR$17,2),"") | AZ27: =IFERROR(DATEDIF(AC27,AB27,"M"),"") -> 53 | BA27: =IF(AZ27>216,"D",AZ27) -> 53 | BB27: =PKG!J31 -> 110 | BC27: =PKG!K31 -> 17.4 | BD27: =IFERROR(IF(AD27="L",VLOOKUP(BA27,$BZ$10:$CF$226,2),IF(AD27="P",VLOOKUP(BA27,$BZ$10:$CF$226,5),"")),"") -> 17.5 | BE27: =IFERROR((BC27-BD27)/IF(AD27="L",(IF(OR(BC27>BD27,BC27=BD27),VLOOKUP(BA27,$BZ$10:$CF$226,4),VLOOKUP(BA27,$BZ$10:$CF$226,3))),IF(OR(BC27>BD27,BC27=BD27),VLOOKUP(BA27,$BZ$10:$CF$226,7),VLOOKUP(BA27,$BZ$10:$CF$226,6))),"") -> -7.6313131 | BG27: =IFERROR(IF(AD27="L",VLOOKUP(BA27,$CH$10:$CN$226,2),IF(AD27="P",VLOOKUP(BA27,$CH$10:$CN$226,5),"")),"") -> 106 | BH27: =IFERROR((BB27-BG27)/IF(AD27="L",(IF(OR(BB27>BG27,BB27=BG27),VLOOKUP(BA27,$CH$10:$CN$226,4),VLOOKUP(BA27,$CH$10:$CN$226,3))),IF(OR(BB27>BG27,BB27=BG27),VLOOKUP(BA27,$CH$10:$CN$226,7),VLOOKUP(BA27,$CH$10:$CN$226,6))),"") -> 0.90909091 | BJ27: =IFERROR(IF(AD27="L",VLOOKUP(BB27,$CP$10:$CV$272,2),IF(AD27="P",VLOOKUP(BB27,$CP$10:$CV$272,5),"")),"") -> 18.7 | BK27: =IFERROR((BC27-BJ27)/IF(AD27="L",(IF(OR(BC27>BJ27,BC27=BJ27),VLOOKUP(BB27,$CP$10:$CV$272,4),VLOOKUP(BB27,$CP$10:$CV$272,3))),IF(OR(BC27>BJ27,BC27=BJ27),VLOOKUP(BB27,$CP$10:$CV$272,7),VLOOKUP(BB27,$CP$10:$CV$272,6))),"") -> -8.9944444 | BM27: =IFERROR(BC27/(BB27/100)^2,"") -> 0.58769513 | BN27: =IFERROR(IF(BM27>DP27,3+(BM27-DP27)/(DP27-DQ27),IF(BM27>DQ27,2+(BM27-DQ27)/(DP27-DQ27),IF(BM27>DR27,1+(BM27-DR27)/(DQ27-DR27),IF(BM27>DS27,(BM27-DS27)/(DR27-DS27),IF(BM27>DT27,-1+(BM27-DT27)/(DS27-DT27),IF(BM27>DU27,-2+(BM27-DU27)/(DT27-DU27),IF(BM27>DV27,-3+(BM27-DV27)/(DU27-DV27),-3-(DV27-BM27)/(DU27-DV27)))))))),"") -> -14.412305 | BZ27: 17 | CA27: 11.3 | CB27: 1.2 | CC27: 1.2 | CD27: 10.6 | CE27: 1.1 | CF27: 1.2 | CH27: 17 | CI27: 81.4 | CJ27: 2.9 | CK27: 2.9 | CL27: 79.9 | CM27: 3 | CN27: 3 | CP27: 57.5 | CQ27: 5 | CR27: 0.6 | CS27: 0.7 | CT27: 4.9 | CU27: 0.6 | CV27: 0.6 | CZ27: 17 | DA27: 20.9 | DB27: 19.1 | DC27: 17.6 | DD27: 16.2 | DE27: 15 | DF27: 13.9 | DG27: 13 | DH27: 20.9 | DI27: 18.9 | DJ27: 17.3 | DK27: 15.8 | DL27: 14.5 | DM27: 13.4 | DN27: 12.4 | DP27: =IFERROR(IF(AD27="L",VLOOKUP(BA27,$CZ$10:$DN$82,2),IF(AD27="P",VLOOKUP(BA27,$CZ$10:$DN$82,9),0)),"") -> 20 | DQ27: =IFERROR(IF(AD27="L",VLOOKUP(BA27,$CZ$10:$DN$82,3),IF(AD27="P",VLOOKUP(BA27,$CZ$10:$DN$82,10),0)),"") -> 18.2 | DR27: =IFERROR(IF(AD27="L",VLOOKUP(BA27,$CZ$10:$DN$82,4),IF(AD27="P",VLOOKUP(BA27,$CZ$10:$DN$82,11),0)),"") -> 16.6 | DS27: =IFERROR(IF(AD27="L",VLOOKUP(BA27,$CZ$10:$DN$82,5),IF(AD27="P",VLOOKUP(BA27,$CZ$10:$DN$82,12),0)),"") -> 15.3 | DT27: =IFERROR(IF(AD27="L",VLOOKUP(BA27,$CZ$10:$DN$82,6),IF(AD27="P",VLOOKUP(BA27,$CZ$10:$DN$82,13),0)),"") -> 14.1 | DU27: =IFERROR(IF(AD27="L",VLOOKUP(BA27,$CZ$10:$DN$82,7),IF(AD27="P",VLOOKUP(BA27,$CZ$10:$DN$82,14),0)),"") -> 13 | DV27: =IFERROR(IF(AD27="L",VLOOKUP(BA27,$CZ$10:$DN$82,8),IF(AD27="P",VLOOKUP(BA27,$CZ$10:$DN$82,15),0)),"") -> 12 | DZ27: 17 | EA27: 51.2 | EB27: 49.8 | EC27: 48.5 | ED27: 47.2 | EE27: 45.9 | EF27: 44.6 | EG27: 43.2 | EH27: 50.2 | EI27: 48.8 | EJ27: 47.4 | EK27: 46.1 | EL27: 44.7 | EM27: 43.3 | EN27: 41.9
AA28: 19 | AB28: =PKG!C32 -> 45803 | AC28: =PKG!G32 -> 44250 | AD28: =IFERROR(IF(VALUE(MID(PKG!D32,7,2))>40,"P","L"),"") -> L | AE28: =PKG!H32 -> JATIPRAHU | AF28: =IFERROR(VLOOKUP(AE28,$AW$10:$AX$16,2,0),"") | AG28: =IFERROR(IF(AND(AE28<>"",AF28=""),"Luar Wil",AE28)&VLOOKUP(DAY(AB28),$AS$10:$AT$14,2),"") -> Luar WilMg 4 | AH28: =IFERROR(DATEDIF(AC28,AB28,"Y"),"") -> 4 | AI28: =IFERROR(DATEDIF(AC28,AB28,"yM"),"") -> 3 | AJ28: =IFERROR(DATEDIF(AC28,AB28,"M"),"") -> 51 | AK28: =IFERROR(VLOOKUP(VLOOKUP(AJ28,$AM$10:$AN$13,2)&AD28,$AQ$10:$AR$17,2),"") | AZ28: =IFERROR(DATEDIF(AC28,AB28,"M"),"") -> 51 | BA28: =IF(AZ28>216,"D",AZ28) -> 51 | BB28: =PKG!J32 -> 104 | BC28: =PKG!K32 -> 19 | BD28: =IFERROR(IF(AD28="L",VLOOKUP(BA28,$BZ$10:$CF$226,2),IF(AD28="P",VLOOKUP(BA28,$BZ$10:$CF$226,5),"")),"") -> 17.2 | BE28: =IFERROR((BC28-BD28)/IF(AD28="L",(IF(OR(BC28>BD28,BC28=BD28),VLOOKUP(BA28,$BZ$10:$CF$226,4),VLOOKUP(BA28,$BZ$10:$CF$226,3))),IF(OR(BC28>BD28,BC28=BD28),VLOOKUP(BA28,$BZ$10:$CF$226,7),VLOOKUP(BA28,$BZ$10:$CF$226,6))),"") -> 0.85714286 | BG28: =IFERROR(IF(AD28="L",VLOOKUP(BA28,$CH$10:$CN$226,2),IF(AD28="P",VLOOKUP(BA28,$CH$10:$CN$226,5),"")),"") -> 104.8 | BH28: =IFERROR((BB28-BG28)/IF(AD28="L",(IF(OR(BB28>BG28,BB28=BG28),VLOOKUP(BA28,$CH$10:$CN$226,4),VLOOKUP(BA28,$CH$10:$CN$226,3))),IF(OR(BB28>BG28,BB28=BG28),VLOOKUP(BA28,$CH$10:$CN$226,7),VLOOKUP(BA28,$CH$10:$CN$226,6))),"") -> -0.18181818 | BJ28: =IFERROR(IF(AD28="L",VLOOKUP(BB28,$CP$10:$CV$272,2),IF(AD28="P",VLOOKUP(BB28,$CP$10:$CV$272,5),"")),"") -> 16.9 | BK28: =IFERROR((BC28-BJ28)/IF(AD28="L",(IF(OR(BC28>BJ28,BC28=BJ28),VLOOKUP(BB28,$CP$10:$CV$272,4),VLOOKUP(BB28,$CP$10:$CV$272,3))),IF(OR(BC28>BJ28,BC28=BJ28),VLOOKUP(BB28,$CP$10:$CV$272,7),VLOOKUP(BB28,$CP$10:$CV$272,6))),"") -> 1.2352941 | BM28: =IFERROR(BC28/(BB28/100)^2,"") -> 17.566568 | BN28: =IFERROR(IF(BM28>DP28,3+(BM28-DP28)/(DP28-DQ28),IF(BM28>DQ28,2+(BM28-DQ28)/(DP28-DQ28),IF(BM28>DR28,1+(BM28-DR28)/(DQ28-DR28),IF(BM28>DS28,(BM28-DS28)/(DR28-DS28),IF(BM28>DT28,-1+(BM28-DT28)/(DS28-DT28),IF(BM28>DU28,-2+(BM28-DU28)/(DT28-DU28),IF(BM28>DV28,-3+(BM28-DV28)/(DU28-DV28),-3-(DV28-BM28)/(DU28-DV28)))))))),"") -> 1.604105 | BZ28: 18 | CA28: 11.5 | CB28: 1.2 | CC28: 1.2 | CD28: 10.8 | CE28: 1.1 | CF28: 1.2 | CH28: 18 | CI28: 82.4 | CJ28: 3 | CK28: 3 | CL28: 80.9 | CM28: 3 | CN28: 3 | CP28: 58 | CQ28: 5.1 | CR28: 0.6 | CS28: 0.7 | CT28: 5 | CU28: 0.6 | CV28: 0.6 | CZ28: 18 | DA28: 20.8 | DB28: 19 | DC28: 17.5 | DD28: 16.1 | DE28: 14.9 | DF28: 13.9 | DG28: 12.9 | DH28: 20.8 | DI28: 18.8 | DJ28: 17.2 | DK28: 15.7 | DL28: 14.4 | DM28: 13.3 | DN28: 12.3 | DP28: =IFERROR(IF(AD28="L",VLOOKUP(BA28,$CZ$10:$DN$82,2),IF(AD28="P",VLOOKUP(BA28,$CZ$10:$DN$82,9),0)),"") -> 19.9 | DQ28: =IFERROR(IF(AD28="L",VLOOKUP(BA28,$CZ$10:$DN$82,3),IF(AD28="P",VLOOKUP(BA28,$CZ$10:$DN$82,10),0)),"") -> 18.2 | DR28: =IFERROR(IF(AD28="L",VLOOKUP(BA28,$CZ$10:$DN$82,4),IF(AD28="P",VLOOKUP(BA28,$CZ$10:$DN$82,11),0)),"") -> 16.6 | DS28: =IFERROR(IF(AD28="L",VLOOKUP(BA28,$CZ$10:$DN$82,5),IF(AD28="P",VLOOKUP(BA28,$CZ$10:$DN$82,12),0)),"") -> 15.3 | DT28: =IFERROR(IF(AD28="L",VLOOKUP(BA28,$CZ$10:$DN$82,6),IF(AD28="P",VLOOKUP(BA28,$CZ$10:$DN$82,13),0)),"") -> 14.1 | DU28: =IFERROR(IF(AD28="L",VLOOKUP(BA28,$CZ$10:$DN$82,7),IF(AD28="P",VLOOKUP(BA28,$CZ$10:$DN$82,14),0)),"") -> 13 | DV28: =IFERROR(IF(AD28="L",VLOOKUP(BA28,$CZ$10:$DN$82,8),IF(AD28="P",VLOOKUP(BA28,$CZ$10:$DN$82,15),0)),"") -> 12.1 | DZ28: 18 | EA28: 51.4 | EB28: 50 | EC28: 48.7 | ED28: 47.4 | EE28: 46 | EF28: 44.7 | EG28: 43.4 | EH28: 50.4 | EI28: 49 | EJ28: 47.6 | EK28: 46.2 | EL28: 44.9 | EM28: 43.5 | EN28: 42.1
AA29: 20 | AB29: =PKG!C33 -> 45803 | AC29: =PKG!G33 -> 44389 | AD29: =IFERROR(IF(VALUE(MID(PKG!D33,7,2))>40,"P","L"),"") -> L | AE29: =PKG!H33 -> KARANGSOKO | AF29: =IFERROR(VLOOKUP(AE29,$AW$10:$AX$16,2,0),"") -> 1 | AG29: =IFERROR(IF(AND(AE29<>"",AF29=""),"Luar Wil",AE29)&VLOOKUP(DAY(AB29),$AS$10:$AT$14,2),"") -> KARANGSOKOMg 4 | AH29: =IFERROR(DATEDIF(AC29,AB29,"Y"),"") -> 3 | AI29: =IFERROR(DATEDIF(AC29,AB29,"yM"),"") -> 10 | AJ29: =IFERROR(DATEDIF(AC29,AB29,"M"),"") -> 46 | AK29: =IFERROR(VLOOKUP(VLOOKUP(AJ29,$AM$10:$AN$13,2)&AD29,$AQ$10:$AR$17,2),"") | AZ29: =IFERROR(DATEDIF(AC29,AB29,"M"),"") -> 46 | BA29: =IF(AZ29>216,"D",AZ29) -> 46 | BB29: =PKG!J33 -> 0 | BC29: =PKG!K33 -> 102 | BD29: =IFERROR(IF(AD29="L",VLOOKUP(BA29,$BZ$10:$CF$226,2),IF(AD29="P",VLOOKUP(BA29,$BZ$10:$CF$226,5),"")),"") -> 16.4 | BE29: =IFERROR((BC29-BD29)/IF(AD29="L",(IF(OR(BC29>BD29,BC29=BD29),VLOOKUP(BA29,$BZ$10:$CF$226,4),VLOOKUP(BA29,$BZ$10:$CF$226,3))),IF(OR(BC29>BD29,BC29=BD29),VLOOKUP(BA29,$BZ$10:$CF$226,7),VLOOKUP(BA29,$BZ$10:$CF$226,6))),"") -> 42.8 | BG29: =IFERROR(IF(AD29="L",VLOOKUP(BA29,$CH$10:$CN$226,2),IF(AD29="P",VLOOKUP(BA29,$CH$10:$CN$226,5),"")),"") -> 101.7 | BH29: =IFERROR((BB29-BG29)/IF(AD29="L",(IF(OR(BB29>BG29,BB29=BG29),VLOOKUP(BA29,$CH$10:$CN$226,4),VLOOKUP(BA29,$CH$10:$CN$226,3))),IF(OR(BB29>BG29,BB29=BG29),VLOOKUP(BA29,$CH$10:$CN$226,7),VLOOKUP(BA29,$CH$10:$CN$226,6))),"") -> -24.214286 | BJ29: =IFERROR(IF(AD29="L",VLOOKUP(BB29,$CP$10:$CV$272,2),IF(AD29="P",VLOOKUP(BB29,$CP$10:$CV$272,5),"")),"") | BK29: =IFERROR((BC29-BJ29)/IF(AD29="L",(IF(OR(BC29>BJ29,BC29=BJ29),VLOOKUP(BB29,$CP$10:$CV$272,4),VLOOKUP(BB29,$CP$10:$CV$272,3))),IF(OR(BC29>BJ29,BC29=BJ29),VLOOKUP(BB29,$CP$10:$CV$272,7),VLOOKUP(BB29,$CP$10:$CV$272,6))),"") | BM29: =IFERROR(BC29/(BB29/100)^2,"") | BN29: =IFERROR(IF(BM29>DP29,3+(BM29-DP29)/(DP29-DQ29),IF(BM29>DQ29,2+(BM29-DQ29)/(DP29-DQ29),IF(BM29>DR29,1+(BM29-DR29)/(DQ29-DR29),IF(BM29>DS29,(BM29-DS29)/(DR29-DS29),IF(BM29>DT29,-1+(BM29-DT29)/(DS29-DT29),IF(BM29>DU29,-2+(BM29-DU29)/(DT29-DU29),IF(BM29>DV29,-3+(BM29-DV29)/(DU29-DV29),-3-(DV29-BM29)/(DU29-DV29)))))))),"") | BZ29: 19 | CA29: 11.7 | CB29: 1.2 | CC29: 1.2 | CD29: 11 | CE29: 1.2 | CF29: 1.2 | CH29: 19 | CI29: 83.3 | CJ29: 3.1 | CK29: 3.1 | CL29: 81.9 | CM29: 3.1 | CN29: 3.1 | CP29: 58.5 | CQ29: 5.2 | CR29: 0.6 | CS29: 0.7 | CT29: 5.1 | CU29: 0.6 | CV29: 0.6 | CZ29: 19 | DA29: 20.7 | DB29: 18.9 | DC29: 17.4 | DD29: 16.1 | DE29: 14.9 | DF29: 13.8 | DG29: 12.9 | DH29: 20.7 | DI29: 18.8 | DJ29: 17.1 | DK29: 15.7 | DL29: 14.4 | DM29: 13.3 | DN29: 12.3 | DP29: =IFERROR(IF(AD29="L",VLOOKUP(BA29,$CZ$10:$DN$82,2),IF(AD29="P",VLOOKUP(BA29,$CZ$10:$DN$82,9),0)),"") -> 19.8 | DQ29: =IFERROR(IF(AD29="L",VLOOKUP(BA29,$CZ$10:$DN$82,3),IF(AD29="P",VLOOKUP(BA29,$CZ$10:$DN$82,10),0)),"") -> 18.2 | DR29: =IFERROR(IF(AD29="L",VLOOKUP(BA29,$CZ$10:$DN$82,4),IF(AD29="P",VLOOKUP(BA29,$CZ$10:$DN$82,11),0)),"") -> 16.7 | DS29: =IFERROR(IF(AD29="L",VLOOKUP(BA29,$CZ$10:$DN$82,5),IF(AD29="P",VLOOKUP(BA29,$CZ$10:$DN$82,12),0)),"") -> 15.4 | DT29: =IFERROR(IF(AD29="L",VLOOKUP(BA29,$CZ$10:$DN$82,6),IF(AD29="P",VLOOKUP(BA29,$CZ$10:$DN$82,13),0)),"") -> 14.2 | DU29: =IFERROR(IF(AD29="L",VLOOKUP(BA29,$CZ$10:$DN$82,7),IF(AD29="P",VLOOKUP(BA29,$CZ$10:$DN$82,14),0)),"") -> 13.1 | DV29: =IFERROR(IF(AD29="L",VLOOKUP(BA29,$CZ$10:$DN$82,8),IF(AD29="P",VLOOKUP(BA29,$CZ$10:$DN$82,15),0)),"") -> 12.1 | DZ29: 19 | EA29: 51.5 | EB29: 50.2 | EC29: 48.9 | ED29: 47.5 | EE29: 46.2 | EF29: 44.9 | EG29: 43.5 | EH29: 50.6 | EI29: 49.2 | EJ29: 47.8 | EK29: 46.4 | EL29: 45 | EM29: 43.6 | EN29: 42.3
... AA70: 61 | AB70: =PKG!C74 -> 0 | AC70: =PKG!G74 | AD70: =IFERROR(IF(VALUE(MID(PKG!D74,7,2))>40,"P","L"),"") | AE70: =PKG!H74 -> 0 | AF70: =IFERROR(VLOOKUP(AE70,$AW$10:$AX$16,2,0),"") | AG70: =IFERROR(IF(AND(AE70<>"",AF70=""),"Luar Wil",AE70)&VLOOKUP(DAY(AB70),$AS$10:$AT$14,2),"") | AH70: =IFERROR(DATEDIF(AC70,AB70,"Y"),"") | AI70: =IFERROR(DATEDIF(AC70,AB70,"yM"),"") | AJ70: =IFERROR(DATEDIF(AC70,AB70,"M"),"") | AK70: =IFERROR(VLOOKUP(VLOOKUP(AJ70,$AM$10:$AN$13,2)&AD70,$AQ$10:$AR$17,2),"") | AZ70: =IFERROR(DATEDIF(AC70,AB70,"M"),"") | BA70: =IF(AZ70>216,"D",AZ70) -> D | BB70: =PKG!J74 | BC70: =PKG!K74 | BD70: =IFERROR(IF(AD70="L",VLOOKUP(BA70,$BZ$10:$CF$226,2),IF(AD70="P",VLOOKUP(BA70,$BZ$10:$CF$226,5),"")),"") | BE70: =IFERROR((BC70-BD70)/IF(AD70="L",(IF(OR(BC70>BD70,BC70=BD70),VLOOKUP(BA70,$BZ$10:$CF$226,4),VLOOKUP(BA70,$BZ$10:$CF$226,3))),IF(OR(BC70>BD70,BC70=BD70),VLOOKUP(BA70,$BZ$10:$CF$226,7),VLOOKUP(BA70,$BZ$10:$CF$226,6))),"") | BG70: =IFERROR(IF(AD70="L",VLOOKUP(BA70,$CH$10:$CN$226,2),IF(AD70="P",VLOOKUP(BA70,$CH$10:$CN$226,5),"")),"") | BH70: =IFERROR((BB70-BG70)/IF(AD70="L",(IF(OR(BB70>BG70,BB70=BG70),VLOOKUP(BA70,$CH$10:$CN$226,4),VLOOKUP(BA70,$CH$10:$CN$226,3))),IF(OR(BB70>BG70,BB70=BG70),VLOOKUP(BA70,$CH$10:$CN$226,7),VLOOKUP(BA70,$CH$10:$CN$226,6))),"") | BJ70: =IFERROR(IF(AD70="L",VLOOKUP(BB70,$CP$10:$CV$272,2),IF(AD70="P",VLOOKUP(BB70,$CP$10:$CV$272,5),"")),"") | BK70: =IFERROR((BC70-BJ70)/IF(AD70="L",(IF(OR(BC70>BJ70,BC70=BJ70),VLOOKUP(BB70,$CP$10:$CV$272,4),VLOOKUP(BB70,$CP$10:$CV$272,3))),IF(OR(BC70>BJ70,BC70=BJ70),VLOOKUP(BB70,$CP$10:$CV$272,7),VLOOKUP(BB70,$CP$10:$CV$272,6))),"") | BM70: =IFERROR(BC70/(BB70/100)^2,"") | BN70: =IFERROR(IF(BM70>DP70,3+(BM70-DP70)/(DP70-DQ70),IF(BM70>DQ70,2+(BM70-DQ70)/(DP70-DQ70),IF(BM70>DR70,1+(BM70-DR70)/(DQ70-DR70),IF(BM70>DS70,(BM70-DS70)/(DR70-DS70),IF(BM70>DT70,-1+(BM70-DT70)/(DS70-DT70),IF(BM70>DU70,-2+(BM70-DU70)/(DT70-DU70),IF(BM70>DV70,-3+(BM70-DV70)/(DU70-DV70),-3-(DV70-BM70)/(DU70-DV70)))))))),"") | BZ70: 60 | CA70: 18.7 | CB70: 2.1 | CC70: 2.4 | CD70: 17.7 | CE70: 2 | CF70: 2.7 | CH70: 60 | CI70: 109.9 | CJ70: 4.6 | CK70: 4.6 | CL70: 108.4 | CM70: 4.4 | CN70: 4.4 | CP70: 79 | CQ70: 10.7 | CR70: 0.9 | CS70: 0.9 | CT70: 10.4 | CU70: 0.9 | CV70: 0.9 | CZ70: 60 | DA70: 20.3 | DB70: 18.3 | DC70: 16.6 | DD70: 15.2 | DE70: 14 | DF70: 12.9 | DG70: 12 | DH70: 21.1 | DI70: 18.8 | DJ70: 16.9 | DK70: 15.3 | DL70: 13.9 | DM70: 12.7 | DN70: 11.6 | DP70: =IFERROR(IF(AD70="L",VLOOKUP(BA70,$CZ$10:$DN$82,2),IF(AD70="P",VLOOKUP(BA70,$CZ$10:$DN$82,9),0)),"") -> 0 | DQ70: =IFERROR(IF(AD70="L",VLOOKUP(BA70,$CZ$10:$DN$82,3),IF(AD70="P",VLOOKUP(BA70,$CZ$10:$DN$82,10),0)),"") -> 0 | DR70: =IFERROR(IF(AD70="L",VLOOKUP(BA70,$CZ$10:$DN$82,4),IF(AD70="P",VLOOKUP(BA70,$CZ$10:$DN$82,11),0)),"") -> 0 | DS70: =IFERROR(IF(AD70="L",VLOOKUP(BA70,$CZ$10:$DN$82,5),IF(AD70="P",VLOOKUP(BA70,$CZ$10:$DN$82,12),0)),"") -> 0 | DT70: =IFERROR(IF(AD70="L",VLOOKUP(BA70,$CZ$10:$DN$82,6),IF(AD70="P",VLOOKUP(BA70,$CZ$10:$DN$82,13),0)),"") -> 0 | DU70: =IFERROR(IF(AD70="L",VLOOKUP(BA70,$CZ$10:$DN$82,7),IF(AD70="P",VLOOKUP(BA70,$CZ$10:$DN$82,14),0)),"") -> 0 | DV70: =IFERROR(IF(AD70="L",VLOOKUP(BA70,$CZ$10:$DN$82,8),IF(AD70="P",VLOOKUP(BA70,$CZ$10:$DN$82,15),0)),"") -> 0 | DZ70: 60 | EA70: 55.2 | EB70: 53.7 | EC70: 52.2 | ED70: 50.7 | EE70: 49.2 | EF70: 47.7 | EG70: 46.3 | EH70: 54.2 | EI70: 52.8 | EJ70: 51.3 | EK70: 49.9 | EL70: 48.5 | EM70: 47.1 | EN70: 45.7
AA71: 62 | AB71: =PKG!C75 -> 0 | AC71: =PKG!G75 | AD71: =IFERROR(IF(VALUE(MID(PKG!D75,7,2))>40,"P","L"),"") | AE71: =PKG!H75 -> 0 | AF71: =IFERROR(VLOOKUP(AE71,$AW$10:$AX$16,2,0),"") | AG71: =IFERROR(IF(AND(AE71<>"",AF71=""),"Luar Wil",AE71)&VLOOKUP(DAY(AB71),$AS$10:$AT$14,2),"") | AH71: =IFERROR(DATEDIF(AC71,AB71,"Y"),"") | AI71: =IFERROR(DATEDIF(AC71,AB71,"yM"),"") | AJ71: =IFERROR(DATEDIF(AC71,AB71,"M"),"") | AK71: =IFERROR(VLOOKUP(VLOOKUP(AJ71,$AM$10:$AN$13,2)&AD71,$AQ$10:$AR$17,2),"") | AZ71: =IFERROR(DATEDIF(AC71,AB71,"M"),"") | BA71: =IF(AZ71>216,"D",AZ71) -> D | BB71: =PKG!J75 | BC71: =PKG!K75 | BD71: =IFERROR(IF(AD71="L",VLOOKUP(BA71,$BZ$10:$CF$226,2),IF(AD71="P",VLOOKUP(BA71,$BZ$10:$CF$226,5),"")),"") | BE71: =IFERROR((BC71-BD71)/IF(AD71="L",(IF(OR(BC71>BD71,BC71=BD71),VLOOKUP(BA71,$BZ$10:$CF$226,4),VLOOKUP(BA71,$BZ$10:$CF$226,3))),IF(OR(BC71>BD71,BC71=BD71),VLOOKUP(BA71,$BZ$10:$CF$226,7),VLOOKUP(BA71,$BZ$10:$CF$226,6))),"") | BG71: =IFERROR(IF(AD71="L",VLOOKUP(BA71,$CH$10:$CN$226,2),IF(AD71="P",VLOOKUP(BA71,$CH$10:$CN$226,5),"")),"") | BH71: =IFERROR((BB71-BG71)/IF(AD71="L",(IF(OR(BB71>BG71,BB71=BG71),VLOOKUP(BA71,$CH$10:$CN$226,4),VLOOKUP(BA71,$CH$10:$CN$226,3))),IF(OR(BB71>BG71,BB71=BG71),VLOOKUP(BA71,$CH$10:$CN$226,7),VLOOKUP(BA71,$CH$10:$CN$226,6))),"") | BJ71: =IFERROR(IF(AD71="L",VLOOKUP(BB71,$CP$10:$CV$272,2),IF(AD71="P",VLOOKUP(BB71,$CP$10:$CV$272,5),"")),"") | BK71: =IFERROR((BC71-BJ71)/IF(AD71="L",(IF(OR(BC71>BJ71,BC71=BJ71),VLOOKUP(BB71,$CP$10:$CV$272,4),VLOOKUP(BB71,$CP$10:$CV$272,3))),IF(OR(BC71>BJ71,BC71=BJ71),VLOOKUP(BB71,$CP$10:$CV$272,7),VLOOKUP(BB71,$CP$10:$CV$272,6))),"") | BM71: =IFERROR(BC71/(BB71/100)^2,"") | BN71: =IFERROR(IF(BM71>DP71,3+(BM71-DP71)/(DP71-DQ71),IF(BM71>DQ71,2+(BM71-DQ71)/(DP71-DQ71),IF(BM71>DR71,1+(BM71-DR71)/(DQ71-DR71),IF(BM71>DS71,(BM71-DS71)/(DR71-DS71),IF(BM71>DT71,-1+(BM71-DT71)/(DS71-DT71),IF(BM71>DU71,-2+(BM71-DU71)/(DT71-DU71),IF(BM71>DV71,-3+(BM71-DV71)/(DU71-DV71),-3-(DV71-BM71)/(DU71-DV71)))))))),"") | BZ71: 61 | CA71: 18.8 | CB71: 2.1 | CC71: 2.5 | CD71: 17.8 | CE71: 1.9 | CF71: 2.8 | CH71: 61 | CI71: 110.5 | CJ71: 4.7 | CK71: 4.7 | CL71: 108.9 | CM71: 4.4 | CN71: 4.4 | CP71: 79.5 | CQ71: 10.8 | CR71: 0.9 | CS71: 0.9 | CT71: 10.5 | CU71: 0.9 | CV71: 0.9 | CZ71: 61 | DA71: 20.2 | DB71: 18.3 | DC71: 16.6 | DD71: 15.3 | DE71: 14.1 | DF71: 13 | DG71: 12.1 | DH71: 21.3 | DI71: 18.9 | DJ71: 16.9 | DK71: 15.2 | DL71: 13.9 | DM71: 12.7 | DN71: 11.8 | DP71: =IFERROR(IF(AD71="L",VLOOKUP(BA71,$CZ$10:$DN$82,2),IF(AD71="P",VLOOKUP(BA71,$CZ$10:$DN$82,9),0)),"") -> 0 | DQ71: =IFERROR(IF(AD71="L",VLOOKUP(BA71,$CZ$10:$DN$82,3),IF(AD71="P",VLOOKUP(BA71,$CZ$10:$DN$82,10),0)),"") -> 0 | DR71: =IFERROR(IF(AD71="L",VLOOKUP(BA71,$CZ$10:$DN$82,4),IF(AD71="P",VLOOKUP(BA71,$CZ$10:$DN$82,11),0)),"") -> 0 | DS71: =IFERROR(IF(AD71="L",VLOOKUP(BA71,$CZ$10:$DN$82,5),IF(AD71="P",VLOOKUP(BA71,$CZ$10:$DN$82,12),0)),"") -> 0 | DT71: =IFERROR(IF(AD71="L",VLOOKUP(BA71,$CZ$10:$DN$82,6),IF(AD71="P",VLOOKUP(BA71,$CZ$10:$DN$82,13),0)),"") -> 0 | DU71: =IFERROR(IF(AD71="L",VLOOKUP(BA71,$CZ$10:$DN$82,7),IF(AD71="P",VLOOKUP(BA71,$CZ$10:$DN$82,14),0)),"") -> 0 | DV71: =IFERROR(IF(AD71="L",VLOOKUP(BA71,$CZ$10:$DN$82,8),IF(AD71="P",VLOOKUP(BA71,$CZ$10:$DN$82,15),0)),"") -> 0
AA72: 63 | AB72: =PKG!C76 -> 0 | AC72: =PKG!G76 | AD72: =IFERROR(IF(VALUE(MID(PKG!D76,7,2))>40,"P","L"),"") | AE72: =PKG!H76 -> 0 | AF72: =IFERROR(VLOOKUP(AE72,$AW$10:$AX$16,2,0),"") | AG72: =IFERROR(IF(AND(AE72<>"",AF72=""),"Luar Wil",AE72)&VLOOKUP(DAY(AB72),$AS$10:$AT$14,2),"") | AH72: =IFERROR(DATEDIF(AC72,AB72,"Y"),"") | AI72: =IFERROR(DATEDIF(AC72,AB72,"yM"),"") | AJ72: =IFERROR(DATEDIF(AC72,AB72,"M"),"") | AK72: =IFERROR(VLOOKUP(VLOOKUP(AJ72,$AM$10:$AN$13,2)&AD72,$AQ$10:$AR$17,2),"") | AZ72: =IFERROR(DATEDIF(AC72,AB72,"M"),"") | BA72: =IF(AZ72>216,"D",AZ72) -> D | BB72: =PKG!J76 | BC72: =PKG!K76 | BD72: =IFERROR(IF(AD72="L",VLOOKUP(BA72,$BZ$10:$CF$226,2),IF(AD72="P",VLOOKUP(BA72,$BZ$10:$CF$226,5),"")),"") | BE72: =IFERROR((BC72-BD72)/IF(AD72="L",(IF(OR(BC72>BD72,BC72=BD72),VLOOKUP(BA72,$BZ$10:$CF$226,4),VLOOKUP(BA72,$BZ$10:$CF$226,3))),IF(OR(BC72>BD72,BC72=BD72),VLOOKUP(BA72,$BZ$10:$CF$226,7),VLOOKUP(BA72,$BZ$10:$CF$226,6))),"") | BG72: =IFERROR(IF(AD72="L",VLOOKUP(BA72,$CH$10:$CN$226,2),IF(AD72="P",VLOOKUP(BA72,$CH$10:$CN$226,5),"")),"") | BH72: =IFERROR((BB72-BG72)/IF(AD72="L",(IF(OR(BB72>BG72,BB72=BG72),VLOOKUP(BA72,$CH$10:$CN$226,4),VLOOKUP(BA72,$CH$10:$CN$226,3))),IF(OR(BB72>BG72,BB72=BG72),VLOOKUP(BA72,$CH$10:$CN$226,7),VLOOKUP(BA72,$CH$10:$CN$226,6))),"") | BJ72: =IFERROR(IF(AD72="L",VLOOKUP(BB72,$CP$10:$CV$272,2),IF(AD72="P",VLOOKUP(BB72,$CP$10:$CV$272,5),"")),"") | BK72: =IFERROR((BC72-BJ72)/IF(AD72="L",(IF(OR(BC72>BJ72,BC72=BJ72),VLOOKUP(BB72,$CP$10:$CV$272,4),VLOOKUP(BB72,$CP$10:$CV$272,3))),IF(OR(BC72>BJ72,BC72=BJ72),VLOOKUP(BB72,$CP$10:$CV$272,7),VLOOKUP(BB72,$CP$10:$CV$272,6))),"") | BM72: =IFERROR(BC72/(BB72/100)^2,"") | BN72: =IFERROR(IF(BM72>DP72,3+(BM72-DP72)/(DP72-DQ72),IF(BM72>DQ72,2+(BM72-DQ72)/(DP72-DQ72),IF(BM72>DR72,1+(BM72-DR72)/(DQ72-DR72),IF(BM72>DS72,(BM72-DS72)/(DR72-DS72),IF(BM72>DT72,-1+(BM72-DT72)/(DS72-DT72),IF(BM72>DU72,-2+(BM72-DU72)/(DT72-DU72),IF(BM72>DV72,-3+(BM72-DV72)/(DU72-DV72),-3-(DV72-BM72)/(DU72-DV72)))))))),"") | BZ72: 62 | CA72: 19 | CB72: 2.1 | CC72: 2.5 | CD72: 18 | CE72: 2 | CF72: 2.8 | CH72: 62 | CI72: 111 | CJ72: 4.6 | CK72: 4.6 | CL72: 109.5 | CM72: 4.5 | CN72: 4.5 | CP72: 80 | CQ72: 10.9 | CR72: 0.9 | CS72: 0.9 | CT72: 10.6 | CU72: 0.9 | CV72: 0.9 | CZ72: 62 | DA72: 20.2 | DB72: 18.3 | DC72: 16.6 | DD72: 15.3 | DE72: 14.1 | DF72: 13 | DG72: 12.1 | DH72: 21.4 | DI72: 18.9 | DJ72: 16.9 | DK72: 15.2 | DL72: 13.9 | DM72: 12.7 | DN72: 11.8 | DP72: =IFERROR(IF(AD72="L",VLOOKUP(BA72,$CZ$10:$DN$82,2),IF(AD72="P",VLOOKUP(BA72,$CZ$10:$DN$82,9),0)),"") -> 0 | DQ72: =IFERROR(IF(AD72="L",VLOOKUP(BA72,$CZ$10:$DN$82,3),IF(AD72="P",VLOOKUP(BA72,$CZ$10:$DN$82,10),0)),"") -> 0 | DR72: =IFERROR(IF(AD72="L",VLOOKUP(BA72,$CZ$10:$DN$82,4),IF(AD72="P",VLOOKUP(BA72,$CZ$10:$DN$82,11),0)),"") -> 0 | DS72: =IFERROR(IF(AD72="L",VLOOKUP(BA72,$CZ$10:$DN$82,5),IF(AD72="P",VLOOKUP(BA72,$CZ$10:$DN$82,12),0)),"") -> 0 | DT72: =IFERROR(IF(AD72="L",VLOOKUP(BA72,$CZ$10:$DN$82,6),IF(AD72="P",VLOOKUP(BA72,$CZ$10:$DN$82,13),0)),"") -> 0 | DU72: =IFERROR(IF(AD72="L",VLOOKUP(BA72,$CZ$10:$DN$82,7),IF(AD72="P",VLOOKUP(BA72,$CZ$10:$DN$82,14),0)),"") -> 0 | DV72: =IFERROR(IF(AD72="L",VLOOKUP(BA72,$CZ$10:$DN$82,8),IF(AD72="P",VLOOKUP(BA72,$CZ$10:$DN$82,15),0)),"") -> 0
AA73: 64 | AB73: =PKG!C77 -> 0 | AC73: =PKG!G77 | AD73: =IFERROR(IF(VALUE(MID(PKG!D77,7,2))>40,"P","L"),"") | AE73: =PKG!H77 -> 0 | AF73: =IFERROR(VLOOKUP(AE73,$AW$10:$AX$16,2,0),"") | AG73: =IFERROR(IF(AND(AE73<>"",AF73=""),"Luar Wil",AE73)&VLOOKUP(DAY(AB73),$AS$10:$AT$14,2),"") | AH73: =IFERROR(DATEDIF(AC73,AB73,"Y"),"") | AI73: =IFERROR(DATEDIF(AC73,AB73,"yM"),"") | AJ73: =IFERROR(DATEDIF(AC73,AB73,"M"),"") | AK73: =IFERROR(VLOOKUP(VLOOKUP(AJ73,$AM$10:$AN$13,2)&AD73,$AQ$10:$AR$17,2),"") | AZ73: =IFERROR(DATEDIF(AC73,AB73,"M"),"") | BA73: =IF(AZ73>216,"D",AZ73) -> D | BB73: =PKG!J77 | BC73: =PKG!K77 | BD73: =IFERROR(IF(AD73="L",VLOOKUP(BA73,$BZ$10:$CF$226,2),IF(AD73="P",VLOOKUP(BA73,$BZ$10:$CF$226,5),"")),"") | BE73: =IFERROR((BC73-BD73)/IF(AD73="L",(IF(OR(BC73>BD73,BC73=BD73),VLOOKUP(BA73,$BZ$10:$CF$226,4),VLOOKUP(BA73,$BZ$10:$CF$226,3))),IF(OR(BC73>BD73,BC73=BD73),VLOOKUP(BA73,$BZ$10:$CF$226,7),VLOOKUP(BA73,$BZ$10:$CF$226,6))),"") | BG73: =IFERROR(IF(AD73="L",VLOOKUP(BA73,$CH$10:$CN$226,2),IF(AD73="P",VLOOKUP(BA73,$CH$10:$CN$226,5),"")),"") | BH73: =IFERROR((BB73-BG73)/IF(AD73="L",(IF(OR(BB73>BG73,BB73=BG73),VLOOKUP(BA73,$CH$10:$CN$226,4),VLOOKUP(BA73,$CH$10:$CN$226,3))),IF(OR(BB73>BG73,BB73=BG73),VLOOKUP(BA73,$CH$10:$CN$226,7),VLOOKUP(BA73,$CH$10:$CN$226,6))),"") | BJ73: =IFERROR(IF(AD73="L",VLOOKUP(BB73,$CP$10:$CV$272,2),IF(AD73="P",VLOOKUP(BB73,$CP$10:$CV$272,5),"")),"") | BK73: =IFERROR((BC73-BJ73)/IF(AD73="L",(IF(OR(BC73>BJ73,BC73=BJ73),VLOOKUP(BB73,$CP$10:$CV$272,4),VLOOKUP(BB73,$CP$10:$CV$272,3))),IF(OR(BC73>BJ73,BC73=BJ73),VLOOKUP(BB73,$CP$10:$CV$272,7),VLOOKUP(BB73,$CP$10:$CV$272,6))),"") | BM73: =IFERROR(BC73/(BB73/100)^2,"") | BN73: =IFERROR(IF(BM73>DP73,3+(BM73-DP73)/(DP73-DQ73),IF(BM73>DQ73,2+(BM73-DQ73)/(DP73-DQ73),IF(BM73>DR73,1+(BM73-DR73)/(DQ73-DR73),IF(BM73>DS73,(BM73-DS73)/(DR73-DS73),IF(BM73>DT73,-1+(BM73-DT73)/(DS73-DT73),IF(BM73>DU73,-2+(BM73-DU73)/(DT73-DU73),IF(BM73>DV73,-3+(BM73-DV73)/(DU73-DV73),-3-(DV73-BM73)/(DU73-DV73)))))))),"") | BZ73: 63 | CA73: 19.2 | CB73: 2.2 | CC73: 2.5 | CD73: 18.1 | CE73: 2 | CF73: 2.9 | CH73: 63 | CI73: 111.5 | CJ73: 4.6 | CK73: 4.6 | CL73: 110 | CM73: 4.6 | CN73: 4.6 | CP73: 80.5 | CQ73: 11 | CR73: 0.9 | CS73: 0.9 | CT73: 10.7 | CU73: 0.9 | CV73: 0.9 | CZ73: 63 | DA73: 20.2 | DB73: 18.3 | DC73: 16.7 | DD73: 15.3 | DE73: 14.1 | DF73: 13 | DG73: 12.1 | DH73: 21.5 | DI73: 18.9 | DJ73: 16.9 | DK73: 15.2 | DL73: 13.9 | DM73: 12.7 | DN73: 11.8 | DP73: =IFERROR(IF(AD73="L",VLOOKUP(BA73,$CZ$10:$DN$82,2),IF(AD73="P",VLOOKUP(BA73,$CZ$10:$DN$82,9),0)),"") -> 0 | DQ73: =IFERROR(IF(AD73="L",VLOOKUP(BA73,$CZ$10:$DN$82,3),IF(AD73="P",VLOOKUP(BA73,$CZ$10:$DN$82,10),0)),"") -> 0 | DR73: =IFERROR(IF(AD73="L",VLOOKUP(BA73,$CZ$10:$DN$82,4),IF(AD73="P",VLOOKUP(BA73,$CZ$10:$DN$82,11),0)),"") -> 0 | DS73: =IFERROR(IF(AD73="L",VLOOKUP(BA73,$CZ$10:$DN$82,5),IF(AD73="P",VLOOKUP(BA73,$CZ$10:$DN$82,12),0)),"") -> 0 | DT73: =IFERROR(IF(AD73="L",VLOOKUP(BA73,$CZ$10:$DN$82,6),IF(AD73="P",VLOOKUP(BA73,$CZ$10:$DN$82,13),0)),"") -> 0 | DU73: =IFERROR(IF(AD73="L",VLOOKUP(BA73,$CZ$10:$DN$82,7),IF(AD73="P",VLOOKUP(BA73,$CZ$10:$DN$82,14),0)),"") -> 0 | DV73: =IFERROR(IF(AD73="L",VLOOKUP(BA73,$CZ$10:$DN$82,8),IF(AD73="P",VLOOKUP(BA73,$CZ$10:$DN$82,15),0)),"") -> 0
AA74: 65 | AB74: =PKG!C78 -> 0 | AC74: =PKG!G78 | AD74: =IFERROR(IF(VALUE(MID(PKG!D78,7,2))>40,"P","L"),"") | AE74: =PKG!H78 -> 0 | AF74: =IFERROR(VLOOKUP(AE74,$AW$10:$AX$16,2,0),"") | AG74: =IFERROR(IF(AND(AE74<>"",AF74=""),"Luar Wil",AE74)&VLOOKUP(DAY(AB74),$AS$10:$AT$14,2),"") | AH74: =IFERROR(DATEDIF(AC74,AB74,"Y"),"") | AI74: =IFERROR(DATEDIF(AC74,AB74,"yM"),"") | AJ74: =IFERROR(DATEDIF(AC74,AB74,"M"),"") | AK74: =IFERROR(VLOOKUP(VLOOKUP(AJ74,$AM$10:$AN$13,2)&AD74,$AQ$10:$AR$17,2),"") | AZ74: =IFERROR(DATEDIF(AC74,AB74,"M"),"") | BA74: =IF(AZ74>216,"D",AZ74) -> D | BB74: =PKG!J78 | BC74: =PKG!K78 | BD74: =IFERROR(IF(AD74="L",VLOOKUP(BA74,$BZ$10:$CF$226,2),IF(AD74="P",VLOOKUP(BA74,$BZ$10:$CF$226,5),"")),"") | BE74: =IFERROR((BC74-BD74)/IF(AD74="L",(IF(OR(BC74>BD74,BC74=BD74),VLOOKUP(BA74,$BZ$10:$CF$226,4),VLOOKUP(BA74,$BZ$10:$CF$226,3))),IF(OR(BC74>BD74,BC74=BD74),VLOOKUP(BA74,$BZ$10:$CF$226,7),VLOOKUP(BA74,$BZ$10:$CF$226,6))),"") | BG74: =IFERROR(IF(AD74="L",VLOOKUP(BA74,$CH$10:$CN$226,2),IF(AD74="P",VLOOKUP(BA74,$CH$10:$CN$226,5),"")),"") | BH74: =IFERROR((BB74-BG74)/IF(AD74="L",(IF(OR(BB74>BG74,BB74=BG74),VLOOKUP(BA74,$CH$10:$CN$226,4),VLOOKUP(BA74,$CH$10:$CN$226,3))),IF(OR(BB74>BG74,BB74=BG74),VLOOKUP(BA74,$CH$10:$CN$226,7),VLOOKUP(BA74,$CH$10:$CN$226,6))),"") | BJ74: =IFERROR(IF(AD74="L",VLOOKUP(BB74,$CP$10:$CV$272,2),IF(AD74="P",VLOOKUP(BB74,$CP$10:$CV$272,5),"")),"") | BK74: =IFERROR((BC74-BJ74)/IF(AD74="L",(IF(OR(BC74>BJ74,BC74=BJ74),VLOOKUP(BB74,$CP$10:$CV$272,4),VLOOKUP(BB74,$CP$10:$CV$272,3))),IF(OR(BC74>BJ74,BC74=BJ74),VLOOKUP(BB74,$CP$10:$CV$272,7),VLOOKUP(BB74,$CP$10:$CV$272,6))),"") | BM74: =IFERROR(BC74/(BB74/100)^2,"") | BN74: =IFERROR(IF(BM74>DP74,3+(BM74-DP74)/(DP74-DQ74),IF(BM74>DQ74,2+(BM74-DQ74)/(DP74-DQ74),IF(BM74>DR74,1+(BM74-DR74)/(DQ74-DR74),IF(BM74>DS74,(BM74-DS74)/(DR74-DS74),IF(BM74>DT74,-1+(BM74-DT74)/(DS74-DT74),IF(BM74>DU74,-2+(BM74-DU74)/(DT74-DU74),IF(BM74>DV74,-3+(BM74-DV74)/(DU74-DV74),-3-(DV74-BM74)/(DU74-DV74)))))))),"") | BZ74: 64 | CA74: 19.3 | CB74: 2.2 | CC74: 2.6 | CD74: 18.3 | CE74: 2.1 | CF74: 2.9 | CH74: 64 | CI74: 112.1 | CJ74: 4.7 | CK74: 4.7 | CL74: 110.5 | CM74: 4.6 | CN74: 4.6 | CP74: 81 | CQ74: 11.1 | CR74: 0.9 | CS74: 1.5 | CT74: 10.8 | CU74: 0.9 | CV74: 0.9 | CZ74: 64 | DA74: 20.3 | DB74: 18.3 | DC74: 16.7 | DD74: 15.3 | DE74: 14.1 | DF74: 13 | DG74: 12.1 | DH74: 21.5 | DI74: 18.9 | DJ74: 16.9 | DK74: 15.2 | DL74: 13.9 | DM74: 12.7 | DN74: 11.8 | DP74: =IFERROR(IF(AD74="L",VLOOKUP(BA74,$CZ$10:$DN$82,2),IF(AD74="P",VLOOKUP(BA74,$CZ$10:$DN$82,9),0)),"") -> 0 | DQ74: =IFERROR(IF(AD74="L",VLOOKUP(BA74,$CZ$10:$DN$82,3),IF(AD74="P",VLOOKUP(BA74,$CZ$10:$DN$82,10),0)),"") -> 0 | DR74: =IFERROR(IF(AD74="L",VLOOKUP(BA74,$CZ$10:$DN$82,4),IF(AD74="P",VLOOKUP(BA74,$CZ$10:$DN$82,11),0)),"") -> 0 | DS74: =IFERROR(IF(AD74="L",VLOOKUP(BA74,$CZ$10:$DN$82,5),IF(AD74="P",VLOOKUP(BA74,$CZ$10:$DN$82,12),0)),"") -> 0 | DT74: =IFERROR(IF(AD74="L",VLOOKUP(BA74,$CZ$10:$DN$82,6),IF(AD74="P",VLOOKUP(BA74,$CZ$10:$DN$82,13),0)),"") -> 0 | DU74: =IFERROR(IF(AD74="L",VLOOKUP(BA74,$CZ$10:$DN$82,7),IF(AD74="P",VLOOKUP(BA74,$CZ$10:$DN$82,14),0)),"") -> 0 | DV74: =IFERROR(IF(AD74="L",VLOOKUP(BA74,$CZ$10:$DN$82,8),IF(AD74="P",VLOOKUP(BA74,$CZ$10:$DN$82,15),0)),"") -> 0
AA75: 66 | AB75: =PKG!C79 -> 0 | AC75: =PKG!G79 | AD75: =IFERROR(IF(VALUE(MID(PKG!D79,7,2))>40,"P","L"),"") | AE75: =PKG!H79 -> 0 | AF75: =IFERROR(VLOOKUP(AE75,$AW$10:$AX$16,2,0),"") | AG75: =IFERROR(IF(AND(AE75<>"",AF75=""),"Luar Wil",AE75)&VLOOKUP(DAY(AB75),$AS$10:$AT$14,2),"") | AH75: =IFERROR(DATEDIF(AC75,AB75,"Y"),"") | AI75: =IFERROR(DATEDIF(AC75,AB75,"yM"),"") | AJ75: =IFERROR(DATEDIF(AC75,AB75,"M"),"") | AK75: =IFERROR(VLOOKUP(VLOOKUP(AJ75,$AM$10:$AN$13,2)&AD75,$AQ$10:$AR$17,2),"") | AZ75: =IFERROR(DATEDIF(AC75,AB75,"M"),"") | BA75: =IF(AZ75>216,"D",AZ75) -> D | BB75: =PKG!J79 | BC75: =PKG!K79 | BD75: =IFERROR(IF(AD75="L",VLOOKUP(BA75,$BZ$10:$CF$226,2),IF(AD75="P",VLOOKUP(BA75,$BZ$10:$CF$226,5),"")),"") | BE75: =IFERROR((BC75-BD75)/IF(AD75="L",(IF(OR(BC75>BD75,BC75=BD75),VLOOKUP(BA75,$BZ$10:$CF$226,4),VLOOKUP(BA75,$BZ$10:$CF$226,3))),IF(OR(BC75>BD75,BC75=BD75),VLOOKUP(BA75,$BZ$10:$CF$226,7),VLOOKUP(BA75,$BZ$10:$CF$226,6))),"") | BG75: =IFERROR(IF(AD75="L",VLOOKUP(BA75,$CH$10:$CN$226,2),IF(AD75="P",VLOOKUP(BA75,$CH$10:$CN$226,5),"")),"") | BH75: =IFERROR((BB75-BG75)/IF(AD75="L",(IF(OR(BB75>BG75,BB75=BG75),VLOOKUP(BA75,$CH$10:$CN$226,4),VLOOKUP(BA75,$CH$10:$CN$226,3))),IF(OR(BB75>BG75,BB75=BG75),VLOOKUP(BA75,$CH$10:$CN$226,7),VLOOKUP(BA75,$CH$10:$CN$226,6))),"") | BJ75: =IFERROR(IF(AD75="L",VLOOKUP(BB75,$CP$10:$CV$272,2),IF(AD75="P",VLOOKUP(BB75,$CP$10:$CV$272,5),"")),"") | BK75: =IFERROR((BC75-BJ75)/IF(AD75="L",(IF(OR(BC75>BJ75,BC75=BJ75),VLOOKUP(BB75,$CP$10:$CV$272,4),VLOOKUP(BB75,$CP$10:$CV$272,3))),IF(OR(BC75>BJ75,BC75=BJ75),VLOOKUP(BB75,$CP$10:$CV$272,7),VLOOKUP(BB75,$CP$10:$CV$272,6))),"") | BM75: =IFERROR(BC75/(BB75/100)^2,"") | BN75: =IFERROR(IF(BM75>DP75,3+(BM75-DP75)/(DP75-DQ75),IF(BM75>DQ75,2+(BM75-DQ75)/(DP75-DQ75),IF(BM75>DR75,1+(BM75-DR75)/(DQ75-DR75),IF(BM75>DS75,(BM75-DS75)/(DR75-DS75),IF(BM75>DT75,-1+(BM75-DT75)/(DS75-DT75),IF(BM75>DU75,-2+(BM75-DU75)/(DT75-DU75),IF(BM75>DV75,-3+(BM75-DV75)/(DU75-DV75),-3-(DV75-BM75)/(DU75-DV75)))))))),"") | BZ75: 65 | CA75: 19.5 | CB75: 2.2 | CC75: 2.6 | CD75: 18.4 | CE75: 2 | CF75: 3 | CH75: 65 | CI75: 112.6 | CJ75: 4.7 | CK75: 4.7 | CL75: 111 | CM75: 4.6 | CN75: 4.6 | CP75: 81.5 | CQ75: 11.2 | CR75: 0.9 | CS75: 1.5 | CT75: 10.9 | CU75: 0.9 | CV75: 0.9 | CZ75: 65 | DA75: 20.3 | DB75: 18.3 | DC75: 16.7 | DD75: 15.3 | DE75: 14.1 | DF75: 13 | DG75: 12.1 | DH75: 21.6 | DI75: 19 | DJ75: 16.9 | DK75: 15.2 | DL75: 13.9 | DM75: 12.7 | DN75: 11.7 | DP75: =IFERROR(IF(AD75="L",VLOOKUP(BA75,$CZ$10:$DN$82,2),IF(AD75="P",VLOOKUP(BA75,$CZ$10:$DN$82,9),0)),"") -> 0 | DQ75: =IFERROR(IF(AD75="L",VLOOKUP(BA75,$CZ$10:$DN$82,3),IF(AD75="P",VLOOKUP(BA75,$CZ$10:$DN$82,10),0)),"") -> 0 | DR75: =IFERROR(IF(AD75="L",VLOOKUP(BA75,$CZ$10:$DN$82,4),IF(AD75="P",VLOOKUP(BA75,$CZ$10:$DN$82,11),0)),"") -> 0 | DS75: =IFERROR(IF(AD75="L",VLOOKUP(BA75,$CZ$10:$DN$82,5),IF(AD75="P",VLOOKUP(BA75,$CZ$10:$DN$82,12),0)),"") -> 0 | DT75: =IFERROR(IF(AD75="L",VLOOKUP(BA75,$CZ$10:$DN$82,6),IF(AD75="P",VLOOKUP(BA75,$CZ$10:$DN$82,13),0)),"") -> 0 | DU75: =IFERROR(IF(AD75="L",VLOOKUP(BA75,$CZ$10:$DN$82,7),IF(AD75="P",VLOOKUP(BA75,$CZ$10:$DN$82,14),0)),"") -> 0 | DV75: =IFERROR(IF(AD75="L",VLOOKUP(BA75,$CZ$10:$DN$82,8),IF(AD75="P",VLOOKUP(BA75,$CZ$10:$DN$82,15),0)),"") -> 0
AA76: 67 | AB76: =PKG!C80 -> 0 | AC76: =PKG!G80 | AD76: =IFERROR(IF(VALUE(MID(PKG!D80,7,2))>40,"P","L"),"") | AE76: =PKG!H80 -> 0 | AF76: =IFERROR(VLOOKUP(AE76,$AW$10:$AX$16,2,0),"") | AG76: =IFERROR(IF(AND(AE76<>"",AF76=""),"Luar Wil",AE76)&VLOOKUP(DAY(AB76),$AS$10:$AT$14,2),"") | AH76: =IFERROR(DATEDIF(AC76,AB76,"Y"),"") | AI76: =IFERROR(DATEDIF(AC76,AB76,"yM"),"") | AJ76: =IFERROR(DATEDIF(AC76,AB76,"M"),"") | AK76: =IFERROR(VLOOKUP(VLOOKUP(AJ76,$AM$10:$AN$13,2)&AD76,$AQ$10:$AR$17,2),"") | AZ76: =IFERROR(DATEDIF(AC76,AB76,"M"),"") | BA76: =IF(AZ76>216,"D",AZ76) -> D | BB76: =PKG!J80 | BC76: =PKG!K80 | BD76: =IFERROR(IF(AD76="L",VLOOKUP(BA76,$BZ$10:$CF$226,2),IF(AD76="P",VLOOKUP(BA76,$BZ$10:$CF$226,5),"")),"") | BE76: =IFERROR((BC76-BD76)/IF(AD76="L",(IF(OR(BC76>BD76,BC76=BD76),VLOOKUP(BA76,$BZ$10:$CF$226,4),VLOOKUP(BA76,$BZ$10:$CF$226,3))),IF(OR(BC76>BD76,BC76=BD76),VLOOKUP(BA76,$BZ$10:$CF$226,7),VLOOKUP(BA76,$BZ$10:$CF$226,6))),"") | BG76: =IFERROR(IF(AD76="L",VLOOKUP(BA76,$CH$10:$CN$226,2),IF(AD76="P",VLOOKUP(BA76,$CH$10:$CN$226,5),"")),"") | BH76: =IFERROR((BB76-BG76)/IF(AD76="L",(IF(OR(BB76>BG76,BB76=BG76),VLOOKUP(BA76,$CH$10:$CN$226,4),VLOOKUP(BA76,$CH$10:$CN$226,3))),IF(OR(BB76>BG76,BB76=BG76),VLOOKUP(BA76,$CH$10:$CN$226,7),VLOOKUP(BA76,$CH$10:$CN$226,6))),"") | BJ76: =IFERROR(IF(AD76="L",VLOOKUP(BB76,$CP$10:$CV$272,2),IF(AD76="P",VLOOKUP(BB76,$CP$10:$CV$272,5),"")),"") | BK76: =IFERROR((BC76-BJ76)/IF(AD76="L",(IF(OR(BC76>BJ76,BC76=BJ76),VLOOKUP(BB76,$CP$10:$CV$272,4),VLOOKUP(BB76,$CP$10:$CV$272,3))),IF(OR(BC76>BJ76,BC76=BJ76),VLOOKUP(BB76,$CP$10:$CV$272,7),VLOOKUP(BB76,$CP$10:$CV$272,6))),"") | BM76: =IFERROR(BC76/(BB76/100)^2,"") | BN76: =IFERROR(IF(BM76>DP76,3+(BM76-DP76)/(DP76-DQ76),IF(BM76>DQ76,2+(BM76-DQ76)/(DP76-DQ76),IF(BM76>DR76,1+(BM76-DR76)/(DQ76-DR76),IF(BM76>DS76,(BM76-DS76)/(DR76-DS76),IF(BM76>DT76,-1+(BM76-DT76)/(DS76-DT76),IF(BM76>DU76,-2+(BM76-DU76)/(DT76-DU76),IF(BM76>DV76,-3+(BM76-DV76)/(DU76-DV76),-3-(DV76-BM76)/(DU76-DV76)))))))),"") | BZ76: 66 | CA76: 19.7 | CB76: 2.3 | CC76: 2.6 | CD76: 18.6 | CE76: 2.1 | CF76: 3 | CH76: 66 | CI76: 113.1 | CJ76: 4.7 | CK76: 4.7 | CL76: 111.6 | CM76: 4.7 | CN76: 4.7 | CP76: 82 | CQ76: 11.3 | CR76: 0.9 | CS76: 1.5 | CT76: 11 | CU76: 0.9 | CV76: 0.9 | CZ76: 66 | DA76: 20.4 | DB76: 18.4 | DC76: 16.7 | DD76: 15.3 | DE76: 14.1 | DF76: 13 | DG76: 12.1 | DH76: 21.7 | DI76: 19 | DJ76: 16.9 | DK76: 15.2 | DL76: 13.9 | DM76: 12.7 | DN76: 11.7 | DP76: =IFERROR(IF(AD76="L",VLOOKUP(BA76,$CZ$10:$DN$82,2),IF(AD76="P",VLOOKUP(BA76,$CZ$10:$DN$82,9),0)),"") -> 0 | DQ76: =IFERROR(IF(AD76="L",VLOOKUP(BA76,$CZ$10:$DN$82,3),IF(AD76="P",VLOOKUP(BA76,$CZ$10:$DN$82,10),0)),"") -> 0 | DR76: =IFERROR(IF(AD76="L",VLOOKUP(BA76,$CZ$10:$DN$82,4),IF(AD76="P",VLOOKUP(BA76,$CZ$10:$DN$82,11),0)),"") -> 0 | DS76: =IFERROR(IF(AD76="L",VLOOKUP(BA76,$CZ$10:$DN$82,5),IF(AD76="P",VLOOKUP(BA76,$CZ$10:$DN$82,12),0)),"") -> 0 | DT76: =IFERROR(IF(AD76="L",VLOOKUP(BA76,$CZ$10:$DN$82,6),IF(AD76="P",VLOOKUP(BA76,$CZ$10:$DN$82,13),0)),"") -> 0 | DU76: =IFERROR(IF(AD76="L",VLOOKUP(BA76,$CZ$10:$DN$82,7),IF(AD76="P",VLOOKUP(BA76,$CZ$10:$DN$82,14),0)),"") -> 0 | DV76: =IFERROR(IF(AD76="L",VLOOKUP(BA76,$CZ$10:$DN$82,8),IF(AD76="P",VLOOKUP(BA76,$CZ$10:$DN$82,15),0)),"") -> 0
AA77: 68 | AB77: =PKG!C81 -> 0 | AC77: =PKG!G81 | AD77: =IFERROR(IF(VALUE(MID(PKG!D81,7,2))>40,"P","L"),"") | AE77: =PKG!H81 -> 0 | AF77: =IFERROR(VLOOKUP(AE77,$AW$10:$AX$16,2,0),"") | AG77: =IFERROR(IF(AND(AE77<>"",AF77=""),"Luar Wil",AE77)&VLOOKUP(DAY(AB77),$AS$10:$AT$14,2),"") | AH77: =IFERROR(DATEDIF(AC77,AB77,"Y"),"") | AI77: =IFERROR(DATEDIF(AC77,AB77,"yM"),"") | AJ77: =IFERROR(DATEDIF(AC77,AB77,"M"),"") | AK77: =IFERROR(VLOOKUP(VLOOKUP(AJ77,$AM$10:$AN$13,2)&AD77,$AQ$10:$AR$17,2),"") | AZ77: =IFERROR(DATEDIF(AC77,AB77,"M"),"") | BA77: =IF(AZ77>216,"D",AZ77) -> D | BB77: =PKG!J81 | BC77: =PKG!K81 | BD77: =IFERROR(IF(AD77="L",VLOOKUP(BA77,$BZ$10:$CF$226,2),IF(AD77="P",VLOOKUP(BA77,$BZ$10:$CF$226,5),"")),"") | BE77: =IFERROR((BC77-BD77)/IF(AD77="L",(IF(OR(BC77>BD77,BC77=BD77),VLOOKUP(BA77,$BZ$10:$CF$226,4),VLOOKUP(BA77,$BZ$10:$CF$226,3))),IF(OR(BC77>BD77,BC77=BD77),VLOOKUP(BA77,$BZ$10:$CF$226,7),VLOOKUP(BA77,$BZ$10:$CF$226,6))),"") | BG77: =IFERROR(IF(AD77="L",VLOOKUP(BA77,$CH$10:$CN$226,2),IF(AD77="P",VLOOKUP(BA77,$CH$10:$CN$226,5),"")),"") | BH77: =IFERROR((BB77-BG77)/IF(AD77="L",(IF(OR(BB77>BG77,BB77=BG77),VLOOKUP(BA77,$CH$10:$CN$226,4),VLOOKUP(BA77,$CH$10:$CN$226,3))),IF(OR(BB77>BG77,BB77=BG77),VLOOKUP(BA77,$CH$10:$CN$226,7),VLOOKUP(BA77,$CH$10:$CN$226,6))),"") | BJ77: =IFERROR(IF(AD77="L",VLOOKUP(BB77,$CP$10:$CV$272,2),IF(AD77="P",VLOOKUP(BB77,$CP$10:$CV$272,5),"")),"") | BK77: =IFERROR((BC77-BJ77)/IF(AD77="L",(IF(OR(BC77>BJ77,BC77=BJ77),VLOOKUP(BB77,$CP$10:$CV$272,4),VLOOKUP(BB77,$CP$10:$CV$272,3))),IF(OR(BC77>BJ77,BC77=BJ77),VLOOKUP(BB77,$CP$10:$CV$272,7),VLOOKUP(BB77,$CP$10:$CV$272,6))),"") | BM77: =IFERROR(BC77/(BB77/100)^2,"") | BN77: =IFERROR(IF(BM77>DP77,3+(BM77-DP77)/(DP77-DQ77),IF(BM77>DQ77,2+(BM77-DQ77)/(DP77-DQ77),IF(BM77>DR77,1+(BM77-DR77)/(DQ77-DR77),IF(BM77>DS77,(BM77-DS77)/(DR77-DS77),IF(BM77>DT77,-1+(BM77-DT77)/(DS77-DT77),IF(BM77>DU77,-2+(BM77-DU77)/(DT77-DU77),IF(BM77>DV77,-3+(BM77-DV77)/(DU77-DV77),-3-(DV77-BM77)/(DU77-DV77)))))))),"") | BZ77: 67 | CA77: 19.8 | CB77: 2.2 | CC77: 2.7 | CD77: 18.7 | CE77: 2.1 | CF77: 3.1 | CH77: 67 | CI77: 113.6 | CJ77: 4.7 | CK77: 4.7 | CL77: 112.1 | CM77: 4.7 | CN77: 4.7 | CP77: 82.5 | CQ77: 11.4 | CR77: 0.9 | CS77: 1.4 | CT77: 11.1 | CU77: 0.9 | CV77: 0.9 | CZ77: 67 | DA77: 20.4 | DB77: 18.4 | DC77: 16.7 | DD77: 15.3 | DE77: 14.1 | DF77: 13 | DG77: 12.1 | DH77: 21.7 | DI77: 19 | DJ77: 16.9 | DK77: 15.2 | DL77: 13.9 | DM77: 12.7 | DN77: 11.7 | DP77: =IFERROR(IF(AD77="L",VLOOKUP(BA77,$CZ$10:$DN$82,2),IF(AD77="P",VLOOKUP(BA77,$CZ$10:$DN$82,9),0)),"") -> 0 | DQ77: =IFERROR(IF(AD77="L",VLOOKUP(BA77,$CZ$10:$DN$82,3),IF(AD77="P",VLOOKUP(BA77,$CZ$10:$DN$82,10),0)),"") -> 0 | DR77: =IFERROR(IF(AD77="L",VLOOKUP(BA77,$CZ$10:$DN$82,4),IF(AD77="P",VLOOKUP(BA77,$CZ$10:$DN$82,11),0)),"") -> 0 | DS77: =IFERROR(IF(AD77="L",VLOOKUP(BA77,$CZ$10:$DN$82,5),IF(AD77="P",VLOOKUP(BA77,$CZ$10:$DN$82,12),0)),"") -> 0 | DT77: =IFERROR(IF(AD77="L",VLOOKUP(BA77,$CZ$10:$DN$82,6),IF(AD77="P",VLOOKUP(BA77,$CZ$10:$DN$82,13),0)),"") -> 0 | DU77: =IFERROR(IF(AD77="L",VLOOKUP(BA77,$CZ$10:$DN$82,7),IF(AD77="P",VLOOKUP(BA77,$CZ$10:$DN$82,14),0)),"") -> 0 | DV77: =IFERROR(IF(AD77="L",VLOOKUP(BA77,$CZ$10:$DN$82,8),IF(AD77="P",VLOOKUP(BA77,$CZ$10:$DN$82,15),0)),"") -> 0
AA78: 69 | AB78: =PKG!C82 -> 0 | AC78: =PKG!G82 | AD78: =IFERROR(IF(VALUE(MID(PKG!D82,7,2))>40,"P","L"),"") | AE78: =PKG!H82 -> 0 | AF78: =IFERROR(VLOOKUP(AE78,$AW$10:$AX$16,2,0),"") | AG78: =IFERROR(IF(AND(AE78<>"",AF78=""),"Luar Wil",AE78)&VLOOKUP(DAY(AB78),$AS$10:$AT$14,2),"") | AH78: =IFERROR(DATEDIF(AC78,AB78,"Y"),"") | AI78: =IFERROR(DATEDIF(AC78,AB78,"yM"),"") | AJ78: =IFERROR(DATEDIF(AC78,AB78,"M"),"") | AK78: =IFERROR(VLOOKUP(VLOOKUP(AJ78,$AM$10:$AN$13,2)&AD78,$AQ$10:$AR$17,2),"") | AZ78: =IFERROR(DATEDIF(AC78,AB78,"M"),"") | BA78: =IF(AZ78>216,"D",AZ78) -> D | BB78: =PKG!J82 | BC78: =PKG!K82 | BD78: =IFERROR(IF(AD78="L",VLOOKUP(BA78,$BZ$10:$CF$226,2),IF(AD78="P",VLOOKUP(BA78,$BZ$10:$CF$226,5),"")),"") | BE78: =IFERROR((BC78-BD78)/IF(AD78="L",(IF(OR(BC78>BD78,BC78=BD78),VLOOKUP(BA78,$BZ$10:$CF$226,4),VLOOKUP(BA78,$BZ$10:$CF$226,3))),IF(OR(BC78>BD78,BC78=BD78),VLOOKUP(BA78,$BZ$10:$CF$226,7),VLOOKUP(BA78,$BZ$10:$CF$226,6))),"") | BG78: =IFERROR(IF(AD78="L",VLOOKUP(BA78,$CH$10:$CN$226,2),IF(AD78="P",VLOOKUP(BA78,$CH$10:$CN$226,5),"")),"") | BH78: =IFERROR((BB78-BG78)/IF(AD78="L",(IF(OR(BB78>BG78,BB78=BG78),VLOOKUP(BA78,$CH$10:$CN$226,4),VLOOKUP(BA78,$CH$10:$CN$226,3))),IF(OR(BB78>BG78,BB78=BG78),VLOOKUP(BA78,$CH$10:$CN$226,7),VLOOKUP(BA78,$CH$10:$CN$226,6))),"") | BJ78: =IFERROR(IF(AD78="L",VLOOKUP(BB78,$CP$10:$CV$272,2),IF(AD78="P",VLOOKUP(BB78,$CP$10:$CV$272,5),"")),"") | BK78: =IFERROR((BC78-BJ78)/IF(AD78="L",(IF(OR(BC78>BJ78,BC78=BJ78),VLOOKUP(BB78,$CP$10:$CV$272,4),VLOOKUP(BB78,$CP$10:$CV$272,3))),IF(OR(BC78>BJ78,BC78=BJ78),VLOOKUP(BB78,$CP$10:$CV$272,7),VLOOKUP(BB78,$CP$10:$CV$272,6))),"") | BM78: =IFERROR(BC78/(BB78/100)^2,"") | BN78: =IFERROR(IF(BM78>DP78,3+(BM78-DP78)/(DP78-DQ78),IF(BM78>DQ78,2+(BM78-DQ78)/(DP78-DQ78),IF(BM78>DR78,1+(BM78-DR78)/(DQ78-DR78),IF(BM78>DS78,(BM78-DS78)/(DR78-DS78),IF(BM78>DT78,-1+(BM78-DT78)/(DS78-DT78),IF(BM78>DU78,-2+(BM78-DU78)/(DT78-DU78),IF(BM78>DV78,-3+(BM78-DV78)/(DU78-DV78),-3-(DV78-BM78)/(DU78-DV78)))))))),"") | BZ78: 68 | CA78: 20 | CB78: 2.3 | CC78: 2.7 | CD78: 18.9 | CE78: 2.2 | CF78: 3.1 | CH78: 68 | CI78: 114.1 | CJ78: 4.8 | CK78: 4.8 | CL78: 112.6 | CM78: 4.7 | CN78: 4.7 | CP78: 83 | CQ78: 11.5 | CR78: 0.9 | CS78: 1.4 | CT78: 11.2 | CU78: 0.9 | CV78: 0.9 | CZ78: 68 | DA78: 20.5 | DB78: 18.4 | DC78: 16.7 | DD78: 15.3 | DE78: 14.1 | DF78: 13 | DG78: 12.1 | DH78: 21.8 | DI78: 19.1 | DJ78: 17 | DK78: 15.3 | DL78: 13.9 | DM78: 12.7 | DN78: 11.7 | DP78: =IFERROR(IF(AD78="L",VLOOKUP(BA78,$CZ$10:$DN$82,2),IF(AD78="P",VLOOKUP(BA78,$CZ$10:$DN$82,9),0)),"") -> 0 | DQ78: =IFERROR(IF(AD78="L",VLOOKUP(BA78,$CZ$10:$DN$82,3),IF(AD78="P",VLOOKUP(BA78,$CZ$10:$DN$82,10),0)),"") -> 0 | DR78: =IFERROR(IF(AD78="L",VLOOKUP(BA78,$CZ$10:$DN$82,4),IF(AD78="P",VLOOKUP(BA78,$CZ$10:$DN$82,11),0)),"") -> 0 | DS78: =IFERROR(IF(AD78="L",VLOOKUP(BA78,$CZ$10:$DN$82,5),IF(AD78="P",VLOOKUP(BA78,$CZ$10:$DN$82,12),0)),"") -> 0 | DT78: =IFERROR(IF(AD78="L",VLOOKUP(BA78,$CZ$10:$DN$82,6),IF(AD78="P",VLOOKUP(BA78,$CZ$10:$DN$82,13),0)),"") -> 0 | DU78: =IFERROR(IF(AD78="L",VLOOKUP(BA78,$CZ$10:$DN$82,7),IF(AD78="P",VLOOKUP(BA78,$CZ$10:$DN$82,14),0)),"") -> 0 | DV78: =IFERROR(IF(AD78="L",VLOOKUP(BA78,$CZ$10:$DN$82,8),IF(AD78="P",VLOOKUP(BA78,$CZ$10:$DN$82,15),0)),"") -> 0
AA79: 70 | AB79: =PKG!C83 -> 0 | AC79: =PKG!G83 | AD79: =IFERROR(IF(VALUE(MID(PKG!D83,7,2))>40,"P","L"),"") | AE79: =PKG!H83 -> 0 | AF79: =IFERROR(VLOOKUP(AE79,$AW$10:$AX$16,2,0),"") | AG79: =IFERROR(IF(AND(AE79<>"",AF79=""),"Luar Wil",AE79)&VLOOKUP(DAY(AB79),$AS$10:$AT$14,2),"") | AH79: =IFERROR(DATEDIF(AC79,AB79,"Y"),"") | AI79: =IFERROR(DATEDIF(AC79,AB79,"yM"),"") | AJ79: =IFERROR(DATEDIF(AC79,AB79,"M"),"") | AK79: =IFERROR(VLOOKUP(VLOOKUP(AJ79,$AM$10:$AN$13,2)&AD79,$AQ$10:$AR$17,2),"") | AZ79: =IFERROR(DATEDIF(AC79,AB79,"M"),"") | BA79: =IF(AZ79>216,"D",AZ79) -> D | BB79: =PKG!J83 | BC79: =PKG!K83 | BD79: =IFERROR(IF(AD79="L",VLOOKUP(BA79,$BZ$10:$CF$226,2),IF(AD79="P",VLOOKUP(BA79,$BZ$10:$CF$226,5),"")),"") | BE79: =IFERROR((BC79-BD79)/IF(AD79="L",(IF(OR(BC79>BD79,BC79=BD79),VLOOKUP(BA79,$BZ$10:$CF$226,4),VLOOKUP(BA79,$BZ$10:$CF$226,3))),IF(OR(BC79>BD79,BC79=BD79),VLOOKUP(BA79,$BZ$10:$CF$226,7),VLOOKUP(BA79,$BZ$10:$CF$226,6))),"") | BG79: =IFERROR(IF(AD79="L",VLOOKUP(BA79,$CH$10:$CN$226,2),IF(AD79="P",VLOOKUP(BA79,$CH$10:$CN$226,5),"")),"") | BH79: =IFERROR((BB79-BG79)/IF(AD79="L",(IF(OR(BB79>BG79,BB79=BG79),VLOOKUP(BA79,$CH$10:$CN$226,4),VLOOKUP(BA79,$CH$10:$CN$226,3))),IF(OR(BB79>BG79,BB79=BG79),VLOOKUP(BA79,$CH$10:$CN$226,7),VLOOKUP(BA79,$CH$10:$CN$226,6))),"") | BJ79: =IFERROR(IF(AD79="L",VLOOKUP(BB79,$CP$10:$CV$272,2),IF(AD79="P",VLOOKUP(BB79,$CP$10:$CV$272,5),"")),"") | BK79: =IFERROR((BC79-BJ79)/IF(AD79="L",(IF(OR(BC79>BJ79,BC79=BJ79),VLOOKUP(BB79,$CP$10:$CV$272,4),VLOOKUP(BB79,$CP$10:$CV$272,3))),IF(OR(BC79>BJ79,BC79=BJ79),VLOOKUP(BB79,$CP$10:$CV$272,7),VLOOKUP(BB79,$CP$10:$CV$272,6))),"") | BM79: =IFERROR(BC79/(BB79/100)^2,"") | BN79: =IFERROR(IF(BM79>DP79,3+(BM79-DP79)/(DP79-DQ79),IF(BM79>DQ79,2+(BM79-DQ79)/(DP79-DQ79),IF(BM79>DR79,1+(BM79-DR79)/(DQ79-DR79),IF(BM79>DS79,(BM79-DS79)/(DR79-DS79),IF(BM79>DT79,-1+(BM79-DT79)/(DS79-DT79),IF(BM79>DU79,-2+(BM79-DU79)/(DT79-DU79),IF(BM79>DV79,-3+(BM79-DV79)/(DU79-DV79),-3-(DV79-BM79)/(DU79-DV79)))))))),"") | BZ79: 69 | CA79: 20.2 | CB79: 2.3 | CC79: 2.8 | CD79: 19 | CE79: 2.1 | CF79: 3.2 | CH79: 69 | CI79: 114.6 | CJ79: 4.8 | CK79: 4.8 | CL79: 113.1 | CM79: 4.8 | CN79: 4.8 | CP79: 83.5 | CQ79: 11.6 | CR79: 0.9 | CS79: 1.4 | CT79: 11.3 | CU79: 0.9 | CV79: 0.9 | CZ79: 69 | DA79: 20.5 | DB79: 18.4 | DC79: 16.7 | DD79: 15.3 | DE79: 14.1 | DF79: 13 | DG79: 12.1 | DH79: 21.9 | DI79: 19.1 | DJ79: 17 | DK79: 15.3 | DL79: 13.9 | DM79: 12.7 | DN79: 11.7 | DP79: =IFERROR(IF(AD79="L",VLOOKUP(BA79,$CZ$10:$DN$82,2),IF(AD79="P",VLOOKUP(BA79,$CZ$10:$DN$82,9),0)),"") -> 0 | DQ79: =IFERROR(IF(AD79="L",VLOOKUP(BA79,$CZ$10:$DN$82,3),IF(AD79="P",VLOOKUP(BA79,$CZ$10:$DN$82,10),0)),"") -> 0 | DR79: =IFERROR(IF(AD79="L",VLOOKUP(BA79,$CZ$10:$DN$82,4),IF(AD79="P",VLOOKUP(BA79,$CZ$10:$DN$82,11),0)),"") -> 0 | DS79: =IFERROR(IF(AD79="L",VLOOKUP(BA79,$CZ$10:$DN$82,5),IF(AD79="P",VLOOKUP(BA79,$CZ$10:$DN$82,12),0)),"") -> 0 | DT79: =IFERROR(IF(AD79="L",VLOOKUP(BA79,$CZ$10:$DN$82,6),IF(AD79="P",VLOOKUP(BA79,$CZ$10:$DN$82,13),0)),"") -> 0 | DU79: =IFERROR(IF(AD79="L",VLOOKUP(BA79,$CZ$10:$DN$82,7),IF(AD79="P",VLOOKUP(BA79,$CZ$10:$DN$82,14),0)),"") -> 0 | DV79: =IFERROR(IF(AD79="L",VLOOKUP(BA79,$CZ$10:$DN$82,8),IF(AD79="P",VLOOKUP(BA79,$CZ$10:$DN$82,15),0)),"") -> 0
AA80: 71 | AB80: =PKG!C84 -> 0 | AC80: =PKG!G84 | AD80: =IFERROR(IF(VALUE(MID(PKG!D84,7,2))>40,"P","L"),"") | AE80: =PKG!H84 -> 0 | AF80: =IFERROR(VLOOKUP(AE80,$AW$10:$AX$16,2,0),"") | AG80: =IFERROR(IF(AND(AE80<>"",AF80=""),"Luar Wil",AE80)&VLOOKUP(DAY(AB80),$AS$10:$AT$14,2),"") | AH80: =IFERROR(DATEDIF(AC80,AB80,"Y"),"") | AI80: =IFERROR(DATEDIF(AC80,AB80,"yM"),"") | AJ80: =IFERROR(DATEDIF(AC80,AB80,"M"),"") | AK80: =IFERROR(VLOOKUP(VLOOKUP(AJ80,$AM$10:$AN$13,2)&AD80,$AQ$10:$AR$17,2),"") | AZ80: =IFERROR(DATEDIF(AC80,AB80,"M"),"") | BA80: =IF(AZ80>216,"D",AZ80) -> D | BB80: =PKG!J84 | BC80: =PKG!K84 | BD80: =IFERROR(IF(AD80="L",VLOOKUP(BA80,$BZ$10:$CF$226,2),IF(AD80="P",VLOOKUP(BA80,$BZ$10:$CF$226,5),"")),"") | BE80: =IFERROR((BC80-BD80)/IF(AD80="L",(IF(OR(BC80>BD80,BC80=BD80),VLOOKUP(BA80,$BZ$10:$CF$226,4),VLOOKUP(BA80,$BZ$10:$CF$226,3))),IF(OR(BC80>BD80,BC80=BD80),VLOOKUP(BA80,$BZ$10:$CF$226,7),VLOOKUP(BA80,$BZ$10:$CF$226,6))),"") | BG80: =IFERROR(IF(AD80="L",VLOOKUP(BA80,$CH$10:$CN$226,2),IF(AD80="P",VLOOKUP(BA80,$CH$10:$CN$226,5),"")),"") | BH80: =IFERROR((BB80-BG80)/IF(AD80="L",(IF(OR(BB80>BG80,BB80=BG80),VLOOKUP(BA80,$CH$10:$CN$226,4),VLOOKUP(BA80,$CH$10:$CN$226,3))),IF(OR(BB80>BG80,BB80=BG80),VLOOKUP(BA80,$CH$10:$CN$226,7),VLOOKUP(BA80,$CH$10:$CN$226,6))),"") | BJ80: =IFERROR(IF(AD80="L",VLOOKUP(BB80,$CP$10:$CV$272,2),IF(AD80="P",VLOOKUP(BB80,$CP$10:$CV$272,5),"")),"") | BK80: =IFERROR((BC80-BJ80)/IF(AD80="L",(IF(OR(BC80>BJ80,BC80=BJ80),VLOOKUP(BB80,$CP$10:$CV$272,4),VLOOKUP(BB80,$CP$10:$CV$272,3))),IF(OR(BC80>BJ80,BC80=BJ80),VLOOKUP(BB80,$CP$10:$CV$272,7),VLOOKUP(BB80,$CP$10:$CV$272,6))),"") | BM80: =IFERROR(BC80/(BB80/100)^2,"") | BN80: =IFERROR(IF(BM80>DP80,3+(BM80-DP80)/(DP80-DQ80),IF(BM80>DQ80,2+(BM80-DQ80)/(DP80-DQ80),IF(BM80>DR80,1+(BM80-DR80)/(DQ80-DR80),IF(BM80>DS80,(BM80-DS80)/(DR80-DS80),IF(BM80>DT80,-1+(BM80-DT80)/(DS80-DT80),IF(BM80>DU80,-2+(BM80-DU80)/(DT80-DU80),IF(BM80>DV80,-3+(BM80-DV80)/(DU80-DV80),-3-(DV80-BM80)/(DU80-DV80)))))))),"") | BZ80: 70 | CA80: 20.3 | CB80: 2.3 | CC80: 2.9 | CD80: 19.2 | CE80: 2.2 | CF80: 3.2 | CH80: 70 | CI80: 115.1 | CJ80: 4.8 | CK80: 4.8 | CL80: 113.6 | CM80: 4.8 | CN80: 4.8 | CP80: 84 | CQ80: 11.7 | CR80: 0.9 | CS80: 1.5 | CT80: 11.4 | CU80: 0.9 | CV80: 0.9 | CZ80: 70 | DA80: 20.6 | DB80: 18.5 | DC80: 16.7 | DD80: 15.3 | DE80: 14.1 | DF80: 13 | DG80: 12.1 | DH80: 22 | DI80: 19.1 | DJ80: 17 | DK80: 15.3 | DL80: 13.9 | DM80: 12.7 | DN80: 11.7 | DP80: =IFERROR(IF(AD80="L",VLOOKUP(BA80,$CZ$10:$DN$82,2),IF(AD80="P",VLOOKUP(BA80,$CZ$10:$DN$82,9),0)),"") -> 0 | DQ80: =IFERROR(IF(AD80="L",VLOOKUP(BA80,$CZ$10:$DN$82,3),IF(AD80="P",VLOOKUP(BA80,$CZ$10:$DN$82,10),0)),"") -> 0 | DR80: =IFERROR(IF(AD80="L",VLOOKUP(BA80,$CZ$10:$DN$82,4),IF(AD80="P",VLOOKUP(BA80,$CZ$10:$DN$82,11),0)),"") -> 0 | DS80: =IFERROR(IF(AD80="L",VLOOKUP(BA80,$CZ$10:$DN$82,5),IF(AD80="P",VLOOKUP(BA80,$CZ$10:$DN$82,12),0)),"") -> 0 | DT80: =IFERROR(IF(AD80="L",VLOOKUP(BA80,$CZ$10:$DN$82,6),IF(AD80="P",VLOOKUP(BA80,$CZ$10:$DN$82,13),0)),"") -> 0 | DU80: =IFERROR(IF(AD80="L",VLOOKUP(BA80,$CZ$10:$DN$82,7),IF(AD80="P",VLOOKUP(BA80,$CZ$10:$DN$82,14),0)),"") -> 0 | DV80: =IFERROR(IF(AD80="L",VLOOKUP(BA80,$CZ$10:$DN$82,8),IF(AD80="P",VLOOKUP(BA80,$CZ$10:$DN$82,15),0)),"") -> 0
AA81: 72 | AB81: =PKG!C85 -> 0 | AC81: =PKG!G85 | AD81: =IFERROR(IF(VALUE(MID(PKG!D85,7,2))>40,"P","L"),"") | AE81: =PKG!H85 -> 0 | AF81: =IFERROR(VLOOKUP(AE81,$AW$10:$AX$16,2,0),"") | AG81: =IFERROR(IF(AND(AE81<>"",AF81=""),"Luar Wil",AE81)&VLOOKUP(DAY(AB81),$AS$10:$AT$14,2),"") | AH81: =IFERROR(DATEDIF(AC81,AB81,"Y"),"") | AI81: =IFERROR(DATEDIF(AC81,AB81,"yM"),"") | AJ81: =IFERROR(DATEDIF(AC81,AB81,"M"),"") | AK81: =IFERROR(VLOOKUP(VLOOKUP(AJ81,$AM$10:$AN$13,2)&AD81,$AQ$10:$AR$17,2),"") | AZ81: =IFERROR(DATEDIF(AC81,AB81,"M"),"") | BA81: =IF(AZ81>216,"D",AZ81) -> D | BB81: =PKG!J85 | BC81: =PKG!K85 | BD81: =IFERROR(IF(AD81="L",VLOOKUP(BA81,$BZ$10:$CF$226,2),IF(AD81="P",VLOOKUP(BA81,$BZ$10:$CF$226,5),"")),"") | BE81: =IFERROR((BC81-BD81)/IF(AD81="L",(IF(OR(BC81>BD81,BC81=BD81),VLOOKUP(BA81,$BZ$10:$CF$226,4),VLOOKUP(BA81,$BZ$10:$CF$226,3))),IF(OR(BC81>BD81,BC81=BD81),VLOOKUP(BA81,$BZ$10:$CF$226,7),VLOOKUP(BA81,$BZ$10:$CF$226,6))),"") | BG81: =IFERROR(IF(AD81="L",VLOOKUP(BA81,$CH$10:$CN$226,2),IF(AD81="P",VLOOKUP(BA81,$CH$10:$CN$226,5),"")),"") | BH81: =IFERROR((BB81-BG81)/IF(AD81="L",(IF(OR(BB81>BG81,BB81=BG81),VLOOKUP(BA81,$CH$10:$CN$226,4),VLOOKUP(BA81,$CH$10:$CN$226,3))),IF(OR(BB81>BG81,BB81=BG81),VLOOKUP(BA81,$CH$10:$CN$226,7),VLOOKUP(BA81,$CH$10:$CN$226,6))),"") | BJ81: =IFERROR(IF(AD81="L",VLOOKUP(BB81,$CP$10:$CV$272,2),IF(AD81="P",VLOOKUP(BB81,$CP$10:$CV$272,5),"")),"") | BK81: =IFERROR((BC81-BJ81)/IF(AD81="L",(IF(OR(BC81>BJ81,BC81=BJ81),VLOOKUP(BB81,$CP$10:$CV$272,4),VLOOKUP(BB81,$CP$10:$CV$272,3))),IF(OR(BC81>BJ81,BC81=BJ81),VLOOKUP(BB81,$CP$10:$CV$272,7),VLOOKUP(BB81,$CP$10:$CV$272,6))),"") | BM81: =IFERROR(BC81/(BB81/100)^2,"") | BN81: =IFERROR(IF(BM81>DP81,3+(BM81-DP81)/(DP81-DQ81),IF(BM81>DQ81,2+(BM81-DQ81)/(DP81-DQ81),IF(BM81>DR81,1+(BM81-DR81)/(DQ81-DR81),IF(BM81>DS81,(BM81-DS81)/(DR81-DS81),IF(BM81>DT81,-1+(BM81-DT81)/(DS81-DT81),IF(BM81>DU81,-2+(BM81-DU81)/(DT81-DU81),IF(BM81>DV81,-3+(BM81-DV81)/(DU81-DV81),-3-(DV81-BM81)/(DU81-DV81)))))))),"") | BZ81: 71 | CA81: 20.5 | CB81: 2.3 | CC81: 2.9 | CD81: 19.4 | CE81: 2.3 | CF81: 3.2 | CH81: 71 | CI81: 115.6 | CJ81: 4.8 | CK81: 4.8 | CL81: 114.1 | CM81: 4.8 | CN81: 4.8 | CP81: 84.5 | CQ81: 11.8 | CR81: 0.9 | CS81: 1.5 | CT81: 11.5 | CU81: 1 | CV81: 1 | CZ81: 71 | DA81: 20.6 | DB81: 18.5 | DC81: 16.7 | DD81: 15.3 | DE81: 14.1 | DF81: 13 | DG81: 12.1 | DH81: 22.1 | DI81: 19.2 | DJ81: 17 | DK81: 15.3 | DL81: 13.9 | DM81: 12.7 | DN81: 11.7 | DP81: =IFERROR(IF(AD81="L",VLOOKUP(BA81,$CZ$10:$DN$82,2),IF(AD81="P",VLOOKUP(BA81,$CZ$10:$DN$82,9),0)),"") -> 0 | DQ81: =IFERROR(IF(AD81="L",VLOOKUP(BA81,$CZ$10:$DN$82,3),IF(AD81="P",VLOOKUP(BA81,$CZ$10:$DN$82,10),0)),"") -> 0 | DR81: =IFERROR(IF(AD81="L",VLOOKUP(BA81,$CZ$10:$DN$82,4),IF(AD81="P",VLOOKUP(BA81,$CZ$10:$DN$82,11),0)),"") -> 0 | DS81: =IFERROR(IF(AD81="L",VLOOKUP(BA81,$CZ$10:$DN$82,5),IF(AD81="P",VLOOKUP(BA81,$CZ$10:$DN$82,12),0)),"") -> 0 | DT81: =IFERROR(IF(AD81="L",VLOOKUP(BA81,$CZ$10:$DN$82,6),IF(AD81="P",VLOOKUP(BA81,$CZ$10:$DN$82,13),0)),"") -> 0 | DU81: =IFERROR(IF(AD81="L",VLOOKUP(BA81,$CZ$10:$DN$82,7),IF(AD81="P",VLOOKUP(BA81,$CZ$10:$DN$82,14),0)),"") -> 0 | DV81: =IFERROR(IF(AD81="L",VLOOKUP(BA81,$CZ$10:$DN$82,8),IF(AD81="P",VLOOKUP(BA81,$CZ$10:$DN$82,15),0)),"") -> 0
AA82: 73 | AB82: =PKG!C86 -> 0 | AC82: =PKG!G86 | AD82: =IFERROR(IF(VALUE(MID(PKG!D86,7,2))>40,"P","L"),"") | AE82: =PKG!H86 -> 0 | AF82: =IFERROR(VLOOKUP(AE82,$AW$10:$AX$16,2,0),"") | AG82: =IFERROR(IF(AND(AE82<>"",AF82=""),"Luar Wil",AE82)&VLOOKUP(DAY(AB82),$AS$10:$AT$14,2),"") | AH82: =IFERROR(DATEDIF(AC82,AB82,"Y"),"") | AI82: =IFERROR(DATEDIF(AC82,AB82,"yM"),"") | AJ82: =IFERROR(DATEDIF(AC82,AB82,"M"),"") | AK82: =IFERROR(VLOOKUP(VLOOKUP(AJ82,$AM$10:$AN$13,2)&AD82,$AQ$10:$AR$17,2),"") | AZ82: =IFERROR(DATEDIF(AC82,AB82,"M"),"") | BA82: =IF(AZ82>216,"D",AZ82) -> D | BB82: =PKG!J86 | BC82: =PKG!K86 | BD82: =IFERROR(IF(AD82="L",VLOOKUP(BA82,$BZ$10:$CF$226,2),IF(AD82="P",VLOOKUP(BA82,$BZ$10:$CF$226,5),"")),"") | BE82: =IFERROR((BC82-BD82)/IF(AD82="L",(IF(OR(BC82>BD82,BC82=BD82),VLOOKUP(BA82,$BZ$10:$CF$226,4),VLOOKUP(BA82,$BZ$10:$CF$226,3))),IF(OR(BC82>BD82,BC82=BD82),VLOOKUP(BA82,$BZ$10:$CF$226,7),VLOOKUP(BA82,$BZ$10:$CF$226,6))),"") | BG82: =IFERROR(IF(AD82="L",VLOOKUP(BA82,$CH$10:$CN$226,2),IF(AD82="P",VLOOKUP(BA82,$CH$10:$CN$226,5),"")),"") | BH82: =IFERROR((BB82-BG82)/IF(AD82="L",(IF(OR(BB82>BG82,BB82=BG82),VLOOKUP(BA82,$CH$10:$CN$226,4),VLOOKUP(BA82,$CH$10:$CN$226,3))),IF(OR(BB82>BG82,BB82=BG82),VLOOKUP(BA82,$CH$10:$CN$226,7),VLOOKUP(BA82,$CH$10:$CN$226,6))),"") | BJ82: =IFERROR(IF(AD82="L",VLOOKUP(BB82,$CP$10:$CV$272,2),IF(AD82="P",VLOOKUP(BB82,$CP$10:$CV$272,5),"")),"") | BK82: =IFERROR((BC82-BJ82)/IF(AD82="L",(IF(OR(BC82>BJ82,BC82=BJ82),VLOOKUP(BB82,$CP$10:$CV$272,4),VLOOKUP(BB82,$CP$10:$CV$272,3))),IF(OR(BC82>BJ82,BC82=BJ82),VLOOKUP(BB82,$CP$10:$CV$272,7),VLOOKUP(BB82,$CP$10:$CV$272,6))),"") | BM82: =IFERROR(BC82/(BB82/100)^2,"") | BN82: =IFERROR(IF(BM82>DP82,3+(BM82-DP82)/(DP82-DQ82),IF(BM82>DQ82,2+(BM82-DQ82)/(DP82-DQ82),IF(BM82>DR82,1+(BM82-DR82)/(DQ82-DR82),IF(BM82>DS82,(BM82-DS82)/(DR82-DS82),IF(BM82>DT82,-1+(BM82-DT82)/(DS82-DT82),IF(BM82>DU82,-2+(BM82-DU82)/(DT82-DU82),IF(BM82>DV82,-3+(BM82-DV82)/(DU82-DV82),-3-(DV82-BM82)/(DU82-DV82)))))))),"") | BZ82: 72 | CA82: 20.7 | CB82: 2.3 | CC82: 2.9 | CD82: 19.5 | CE82: 2.2 | CF82: 3.4 | CH82: 72 | CI82: 116.1 | CJ82: 4.9 | CK82: 4.9 | CL82: 114.6 | CM82: 4.9 | CN82: 4.9 | CP82: 85 | CQ82: 12.1 | CR82: 1.1 | CS82: 1.5 | CT82: 11.8 | CU82: 1.4 | CV82: 1.4 | CY82: =6*12 -> 72 | CZ82: 72 | DA82: 20.7 | DB82: 18.5 | DC82: 16.8 | DD82: 15.3 | DE82: 14.1 | DF82: 13 | DG82: 12.1 | DH82: 22.1 | DI82: 19.2 | DJ82: 17 | DK82: 15.3 | DL82: 13.9 | DM82: 12.7 | DN82: 11.7 | DP82: =IFERROR(IF(AD82="L",VLOOKUP(BA82,$CZ$10:$DN$82,2),IF(AD82="P",VLOOKUP(BA82,$CZ$10:$DN$82,9),0)),"") -> 0 | DQ82: =IFERROR(IF(AD82="L",VLOOKUP(BA82,$CZ$10:$DN$82,3),IF(AD82="P",VLOOKUP(BA82,$CZ$10:$DN$82,10),0)),"") -> 0 | DR82: =IFERROR(IF(AD82="L",VLOOKUP(BA82,$CZ$10:$DN$82,4),IF(AD82="P",VLOOKUP(BA82,$CZ$10:$DN$82,11),0)),"") -> 0 | DS82: =IFERROR(IF(AD82="L",VLOOKUP(BA82,$CZ$10:$DN$82,5),IF(AD82="P",VLOOKUP(BA82,$CZ$10:$DN$82,12),0)),"") -> 0 | DT82: =IFERROR(IF(AD82="L",VLOOKUP(BA82,$CZ$10:$DN$82,6),IF(AD82="P",VLOOKUP(BA82,$CZ$10:$DN$82,13),0)),"") -> 0 | DU82: =IFERROR(IF(AD82="L",VLOOKUP(BA82,$CZ$10:$DN$82,7),IF(AD82="P",VLOOKUP(BA82,$CZ$10:$DN$82,14),0)),"") -> 0 | DV82: =IFERROR(IF(AD82="L",VLOOKUP(BA82,$CZ$10:$DN$82,8),IF(AD82="P",VLOOKUP(BA82,$CZ$10:$DN$82,15),0)),"") -> 0
AA83: 74 | AB83: =PKG!C87 -> 0 | AC83: =PKG!G87 | AD83: =IFERROR(IF(VALUE(MID(PKG!D87,7,2))>40,"P","L"),"") | AE83: =PKG!H87 -> 0 | AF83: =IFERROR(VLOOKUP(AE83,$AW$10:$AX$16,2,0),"") | AG83: =IFERROR(IF(AND(AE83<>"",AF83=""),"Luar Wil",AE83)&VLOOKUP(DAY(AB83),$AS$10:$AT$14,2),"") | AH83: =IFERROR(DATEDIF(AC83,AB83,"Y"),"") | AI83: =IFERROR(DATEDIF(AC83,AB83,"yM"),"") | AJ83: =IFERROR(DATEDIF(AC83,AB83,"M"),"") | AK83: =IFERROR(VLOOKUP(VLOOKUP(AJ83,$AM$10:$AN$13,2)&AD83,$AQ$10:$AR$17,2),"") | AZ83: =IFERROR(DATEDIF(AC83,AB83,"M"),"") | BA83: =IF(AZ83>216,"D",AZ83) -> D | BB83: =PKG!J87 | BC83: =PKG!K87 | BD83: =IFERROR(IF(AD83="L",VLOOKUP(BA83,$BZ$10:$CF$226,2),IF(AD83="P",VLOOKUP(BA83,$BZ$10:$CF$226,5),"")),"") | BE83: =IFERROR((BC83-BD83)/IF(AD83="L",(IF(OR(BC83>BD83,BC83=BD83),VLOOKUP(BA83,$BZ$10:$CF$226,4),VLOOKUP(BA83,$BZ$10:$CF$226,3))),IF(OR(BC83>BD83,BC83=BD83),VLOOKUP(BA83,$BZ$10:$CF$226,7),VLOOKUP(BA83,$BZ$10:$CF$226,6))),"") | BG83: =IFERROR(IF(AD83="L",VLOOKUP(BA83,$CH$10:$CN$226,2),IF(AD83="P",VLOOKUP(BA83,$CH$10:$CN$226,5),"")),"") | BH83: =IFERROR((BB83-BG83)/IF(AD83="L",(IF(OR(BB83>BG83,BB83=BG83),VLOOKUP(BA83,$CH$10:$CN$226,4),VLOOKUP(BA83,$CH$10:$CN$226,3))),IF(OR(BB83>BG83,BB83=BG83),VLOOKUP(BA83,$CH$10:$CN$226,7),VLOOKUP(BA83,$CH$10:$CN$226,6))),"") | BJ83: =IFERROR(IF(AD83="L",VLOOKUP(BB83,$CP$10:$CV$272,2),IF(AD83="P",VLOOKUP(BB83,$CP$10:$CV$272,5),"")),"") | BK83: =IFERROR((BC83-BJ83)/IF(AD83="L",(IF(OR(BC83>BJ83,BC83=BJ83),VLOOKUP(BB83,$CP$10:$CV$272,4),VLOOKUP(BB83,$CP$10:$CV$272,3))),IF(OR(BC83>BJ83,BC83=BJ83),VLOOKUP(BB83,$CP$10:$CV$272,7),VLOOKUP(BB83,$CP$10:$CV$272,6))),"") | BM83: =IFERROR(BC83/(BB83/100)^2,"") | BN83: =IFERROR(IF(BM83>DP83,3+(BM83-DP83)/(DP83-DQ83),IF(BM83>DQ83,2+(BM83-DQ83)/(DP83-DQ83),IF(BM83>DR83,1+(BM83-DR83)/(DQ83-DR83),IF(BM83>DS83,(BM83-DS83)/(DR83-DS83),IF(BM83>DT83,-1+(BM83-DT83)/(DS83-DT83),IF(BM83>DU83,-2+(BM83-DU83)/(DT83-DU83),IF(BM83>DV83,-3+(BM83-DV83)/(DU83-DV83),-3-(DV83-BM83)/(DU83-DV83)))))))),"") | BZ83: 73 | CA83: 20.9 | CB83: 2.4 | CC83: 2.9 | CD83: 19.7 | CE83: 2.3 | CF83: 3.4 | CH83: 73 | CI83: 116.6 | CJ83: 4.9 | CK83: 4.9 | CL83: 115.1 | CM83: 4.9 | CN83: 4.9 | CP83: 85.5 | CQ83: 12.2 | CR83: 1.1 | CS83: 1.5 | CT83: 11.9 | CU83: 1.4 | CV83: 1.4 | DP83: =IFERROR(IF(AD83="L",VLOOKUP(BA83,$CZ$10:$DN$82,2),IF(AD83="P",VLOOKUP(BA83,$CZ$10:$DN$82,9),0)),"") -> 0 | DQ83: =IFERROR(IF(AD83="L",VLOOKUP(BA83,$CZ$10:$DN$82,3),IF(AD83="P",VLOOKUP(BA83,$CZ$10:$DN$82,10),0)),"") -> 0 | DR83: =IFERROR(IF(AD83="L",VLOOKUP(BA83,$CZ$10:$DN$82,4),IF(AD83="P",VLOOKUP(BA83,$CZ$10:$DN$82,11),0)),"") -> 0 | DS83: =IFERROR(IF(AD83="L",VLOOKUP(BA83,$CZ$10:$DN$82,5),IF(AD83="P",VLOOKUP(BA83,$CZ$10:$DN$82,12),0)),"") -> 0 | DT83: =IFERROR(IF(AD83="L",VLOOKUP(BA83,$CZ$10:$DN$82,6),IF(AD83="P",VLOOKUP(BA83,$CZ$10:$DN$82,13),0)),"") -> 0 | DU83: =IFERROR(IF(AD83="L",VLOOKUP(BA83,$CZ$10:$DN$82,7),IF(AD83="P",VLOOKUP(BA83,$CZ$10:$DN$82,14),0)),"") -> 0 | DV83: =IFERROR(IF(AD83="L",VLOOKUP(BA83,$CZ$10:$DN$82,8),IF(AD83="P",VLOOKUP(BA83,$CZ$10:$DN$82,15),0)),"") -> 0
AA84: 75 | AB84: =PKG!C88 -> 0 | AC84: =PKG!G88 | AD84: =IFERROR(IF(VALUE(MID(PKG!D88,7,2))>40,"P","L"),"") | AE84: =PKG!H88 -> 0 | AF84: =IFERROR(VLOOKUP(AE84,$AW$10:$AX$16,2,0),"") | AG84: =IFERROR(IF(AND(AE84<>"",AF84=""),"Luar Wil",AE84)&VLOOKUP(DAY(AB84),$AS$10:$AT$14,2),"") | AH84: =IFERROR(DATEDIF(AC84,AB84,"Y"),"") | AI84: =IFERROR(DATEDIF(AC84,AB84,"yM"),"") | AJ84: =IFERROR(DATEDIF(AC84,AB84,"M"),"") | AK84: =IFERROR(VLOOKUP(VLOOKUP(AJ84,$AM$10:$AN$13,2)&AD84,$AQ$10:$AR$17,2),"") | AZ84: =IFERROR(DATEDIF(AC84,AB84,"M"),"") | BA84: =IF(AZ84>216,"D",AZ84) -> D | BB84: =PKG!J88 | BC84: =PKG!K88 | BD84: =IFERROR(IF(AD84="L",VLOOKUP(BA84,$BZ$10:$CF$226,2),IF(AD84="P",VLOOKUP(BA84,$BZ$10:$CF$226,5),"")),"") | BE84: =IFERROR((BC84-BD84)/IF(AD84="L",(IF(OR(BC84>BD84,BC84=BD84),VLOOKUP(BA84,$BZ$10:$CF$226,4),VLOOKUP(BA84,$BZ$10:$CF$226,3))),IF(OR(BC84>BD84,BC84=BD84),VLOOKUP(BA84,$BZ$10:$CF$226,7),VLOOKUP(BA84,$BZ$10:$CF$226,6))),"") | BG84: =IFERROR(IF(AD84="L",VLOOKUP(BA84,$CH$10:$CN$226,2),IF(AD84="P",VLOOKUP(BA84,$CH$10:$CN$226,5),"")),"") | BH84: =IFERROR((BB84-BG84)/IF(AD84="L",(IF(OR(BB84>BG84,BB84=BG84),VLOOKUP(BA84,$CH$10:$CN$226,4),VLOOKUP(BA84,$CH$10:$CN$226,3))),IF(OR(BB84>BG84,BB84=BG84),VLOOKUP(BA84,$CH$10:$CN$226,7),VLOOKUP(BA84,$CH$10:$CN$226,6))),"") | BJ84: =IFERROR(IF(AD84="L",VLOOKUP(BB84,$CP$10:$CV$272,2),IF(AD84="P",VLOOKUP(BB84,$CP$10:$CV$272,5),"")),"") | BK84: =IFERROR((BC84-BJ84)/IF(AD84="L",(IF(OR(BC84>BJ84,BC84=BJ84),VLOOKUP(BB84,$CP$10:$CV$272,4),VLOOKUP(BB84,$CP$10:$CV$272,3))),IF(OR(BC84>BJ84,BC84=BJ84),VLOOKUP(BB84,$CP$10:$CV$272,7),VLOOKUP(BB84,$CP$10:$CV$272,6))),"") | BM84: =IFERROR(BC84/(BB84/100)^2,"") | BN84: =IFERROR(IF(BM84>DP84,3+(BM84-DP84)/(DP84-DQ84),IF(BM84>DQ84,2+(BM84-DQ84)/(DP84-DQ84),IF(BM84>DR84,1+(BM84-DR84)/(DQ84-DR84),IF(BM84>DS84,(BM84-DS84)/(DR84-DS84),IF(BM84>DT84,-1+(BM84-DT84)/(DS84-DT84),IF(BM84>DU84,-2+(BM84-DU84)/(DT84-DU84),IF(BM84>DV84,-3+(BM84-DV84)/(DU84-DV84),-3-(DV84-BM84)/(DU84-DV84)))))))),"") | BZ84: 74 | CA84: 21 | CB84: 2.3 | CC84: 3.1 | CD84: 19.9 | CE84: 2.4 | CF84: 3.4 | CH84: 74 | CI84: 117.1 | CJ84: 4.9 | CK84: 4.9 | CL84: 115.6 | CM84: 5 | CN84: 5 | CP84: 86 | CQ84: 12.3 | CR84: 1.1 | CS84: 1.4 | CT84: 12 | CU84: 1.4 | CV84: 1.4 | DP84: =IFERROR(IF(AD84="L",VLOOKUP(BA84,$CZ$10:$DN$82,2),IF(AD84="P",VLOOKUP(BA84,$CZ$10:$DN$82,9),0)),"") -> 0 | DQ84: =IFERROR(IF(AD84="L",VLOOKUP(BA84,$CZ$10:$DN$82,3),IF(AD84="P",VLOOKUP(BA84,$CZ$10:$DN$82,10),0)),"") -> 0 | DR84: =IFERROR(IF(AD84="L",VLOOKUP(BA84,$CZ$10:$DN$82,4),IF(AD84="P",VLOOKUP(BA84,$CZ$10:$DN$82,11),0)),"") -> 0 | DS84: =IFERROR(IF(AD84="L",VLOOKUP(BA84,$CZ$10:$DN$82,5),IF(AD84="P",VLOOKUP(BA84,$CZ$10:$DN$82,12),0)),"") -> 0 | DT84: =IFERROR(IF(AD84="L",VLOOKUP(BA84,$CZ$10:$DN$82,6),IF(AD84="P",VLOOKUP(BA84,$CZ$10:$DN$82,13),0)),"") -> 0 | DU84: =IFERROR(IF(AD84="L",VLOOKUP(BA84,$CZ$10:$DN$82,7),IF(AD84="P",VLOOKUP(BA84,$CZ$10:$DN$82,14),0)),"") -> 0 | DV84: =IFERROR(IF(AD84="L",VLOOKUP(BA84,$CZ$10:$DN$82,8),IF(AD84="P",VLOOKUP(BA84,$CZ$10:$DN$82,15),0)),"") -> 0
AA85: 76 | AB85: =PKG!C89 -> 0 | AC85: =PKG!G89 | AD85: =IFERROR(IF(VALUE(MID(PKG!D89,7,2))>40,"P","L"),"") | AE85: =PKG!H89 -> 0 | AF85: =IFERROR(VLOOKUP(AE85,$AW$10:$AX$16,2,0),"") | AG85: =IFERROR(IF(AND(AE85<>"",AF85=""),"Luar Wil",AE85)&VLOOKUP(DAY(AB85),$AS$10:$AT$14,2),"") | AH85: =IFERROR(DATEDIF(AC85,AB85,"Y"),"") | AI85: =IFERROR(DATEDIF(AC85,AB85,"yM"),"") | AJ85: =IFERROR(DATEDIF(AC85,AB85,"M"),"") | AK85: =IFERROR(VLOOKUP(VLOOKUP(AJ85,$AM$10:$AN$13,2)&AD85,$AQ$10:$AR$17,2),"") | AZ85: =IFERROR(DATEDIF(AC85,AB85,"M"),"") | BA85: =IF(AZ85>216,"D",AZ85) -> D | BB85: =PKG!J89 | BC85: =PKG!K89 | BD85: =IFERROR(IF(AD85="L",VLOOKUP(BA85,$BZ$10:$CF$226,2),IF(AD85="P",VLOOKUP(BA85,$BZ$10:$CF$226,5),"")),"") | BE85: =IFERROR((BC85-BD85)/IF(AD85="L",(IF(OR(BC85>BD85,BC85=BD85),VLOOKUP(BA85,$BZ$10:$CF$226,4),VLOOKUP(BA85,$BZ$10:$CF$226,3))),IF(OR(BC85>BD85,BC85=BD85),VLOOKUP(BA85,$BZ$10:$CF$226,7),VLOOKUP(BA85,$BZ$10:$CF$226,6))),"") | BG85: =IFERROR(IF(AD85="L",VLOOKUP(BA85,$CH$10:$CN$226,2),IF(AD85="P",VLOOKUP(BA85,$CH$10:$CN$226,5),"")),"") | BH85: =IFERROR((BB85-BG85)/IF(AD85="L",(IF(OR(BB85>BG85,BB85=BG85),VLOOKUP(BA85,$CH$10:$CN$226,4),VLOOKUP(BA85,$CH$10:$CN$226,3))),IF(OR(BB85>BG85,BB85=BG85),VLOOKUP(BA85,$CH$10:$CN$226,7),VLOOKUP(BA85,$CH$10:$CN$226,6))),"") | BJ85: =IFERROR(IF(AD85="L",VLOOKUP(BB85,$CP$10:$CV$272,2),IF(AD85="P",VLOOKUP(BB85,$CP$10:$CV$272,5),"")),"") | BK85: =IFERROR((BC85-BJ85)/IF(AD85="L",(IF(OR(BC85>BJ85,BC85=BJ85),VLOOKUP(BB85,$CP$10:$CV$272,4),VLOOKUP(BB85,$CP$10:$CV$272,3))),IF(OR(BC85>BJ85,BC85=BJ85),VLOOKUP(BB85,$CP$10:$CV$272,7),VLOOKUP(BB85,$CP$10:$CV$272,6))),"") | BM85: =IFERROR(BC85/(BB85/100)^2,"") | BN85: =IFERROR(IF(BM85>DP85,3+(BM85-DP85)/(DP85-DQ85),IF(BM85>DQ85,2+(BM85-DQ85)/(DP85-DQ85),IF(BM85>DR85,1+(BM85-DR85)/(DQ85-DR85),IF(BM85>DS85,(BM85-DS85)/(DR85-DS85),IF(BM85>DT85,-1+(BM85-DT85)/(DS85-DT85),IF(BM85>DU85,-2+(BM85-DU85)/(DT85-DU85),IF(BM85>DV85,-3+(BM85-DV85)/(DU85-DV85),-3-(DV85-BM85)/(DU85-DV85)))))))),"") | BZ85: 75 | CA85: 21.2 | CB85: 2.4 | CC85: 3.1 | CD85: 20 | CE85: 2.3 | CF85: 3.6 | CH85: 75 | CI85: 117.5 | CJ85: 4.9 | CK85: 4.9 | CL85: 116.1 | CM85: 5 | CN85: 5 | CP85: 86.5 | CQ85: 12.5 | CR85: 1.2 | CS85: 1.4 | CT85: 12.2 | CU85: 1.3 | CV85: 1.3 | DP85: =IFERROR(IF(AD85="L",VLOOKUP(BA85,$CZ$10:$DN$82,2),IF(AD85="P",VLOOKUP(BA85,$CZ$10:$DN$82,9),0)),"") -> 0 | DQ85: =IFERROR(IF(AD85="L",VLOOKUP(BA85,$CZ$10:$DN$82,3),IF(AD85="P",VLOOKUP(BA85,$CZ$10:$DN$82,10),0)),"") -> 0 | DR85: =IFERROR(IF(AD85="L",VLOOKUP(BA85,$CZ$10:$DN$82,4),IF(AD85="P",VLOOKUP(BA85,$CZ$10:$DN$82,11),0)),"") -> 0 | DS85: =IFERROR(IF(AD85="L",VLOOKUP(BA85,$CZ$10:$DN$82,5),IF(AD85="P",VLOOKUP(BA85,$CZ$10:$DN$82,12),0)),"") -> 0 | DT85: =IFERROR(IF(AD85="L",VLOOKUP(BA85,$CZ$10:$DN$82,6),IF(AD85="P",VLOOKUP(BA85,$CZ$10:$DN$82,13),0)),"") -> 0 | DU85: =IFERROR(IF(AD85="L",VLOOKUP(BA85,$CZ$10:$DN$82,7),IF(AD85="P",VLOOKUP(BA85,$CZ$10:$DN$82,14),0)),"") -> 0 | DV85: =IFERROR(IF(AD85="L",VLOOKUP(BA85,$CZ$10:$DN$82,8),IF(AD85="P",VLOOKUP(BA85,$CZ$10:$DN$82,15),0)),"") -> 0
AA86: 77 | AB86: =PKG!C90 -> 0 | AC86: =PKG!G90 | AD86: =IFERROR(IF(VALUE(MID(PKG!D90,7,2))>40,"P","L"),"") | AE86: =PKG!H90 -> 0 | AF86: =IFERROR(VLOOKUP(AE86,$AW$10:$AX$16,2,0),"") | AG86: =IFERROR(IF(AND(AE86<>"",AF86=""),"Luar Wil",AE86)&VLOOKUP(DAY(AB86),$AS$10:$AT$14,2),"") | AH86: =IFERROR(DATEDIF(AC86,AB86,"Y"),"") | AI86: =IFERROR(DATEDIF(AC86,AB86,"yM"),"") | AJ86: =IFERROR(DATEDIF(AC86,AB86,"M"),"") | AK86: =IFERROR(VLOOKUP(VLOOKUP(AJ86,$AM$10:$AN$13,2)&AD86,$AQ$10:$AR$17,2),"") | AZ86: =IFERROR(DATEDIF(AC86,AB86,"M"),"") | BA86: =IF(AZ86>216,"D",AZ86) -> D | BB86: =PKG!J90 | BC86: =PKG!K90 | BD86: =IFERROR(IF(AD86="L",VLOOKUP(BA86,$BZ$10:$CF$226,2),IF(AD86="P",VLOOKUP(BA86,$BZ$10:$CF$226,5),"")),"") | BE86: =IFERROR((BC86-BD86)/IF(AD86="L",(IF(OR(BC86>BD86,BC86=BD86),VLOOKUP(BA86,$BZ$10:$CF$226,4),VLOOKUP(BA86,$BZ$10:$CF$226,3))),IF(OR(BC86>BD86,BC86=BD86),VLOOKUP(BA86,$BZ$10:$CF$226,7),VLOOKUP(BA86,$BZ$10:$CF$226,6))),"") | BG86: =IFERROR(IF(AD86="L",VLOOKUP(BA86,$CH$10:$CN$226,2),IF(AD86="P",VLOOKUP(BA86,$CH$10:$CN$226,5),"")),"") | BH86: =IFERROR((BB86-BG86)/IF(AD86="L",(IF(OR(BB86>BG86,BB86=BG86),VLOOKUP(BA86,$CH$10:$CN$226,4),VLOOKUP(BA86,$CH$10:$CN$226,3))),IF(OR(BB86>BG86,BB86=BG86),VLOOKUP(BA86,$CH$10:$CN$226,7),VLOOKUP(BA86,$CH$10:$CN$226,6))),"") | BJ86: =IFERROR(IF(AD86="L",VLOOKUP(BB86,$CP$10:$CV$272,2),IF(AD86="P",VLOOKUP(BB86,$CP$10:$CV$272,5),"")),"") | BK86: =IFERROR((BC86-BJ86)/IF(AD86="L",(IF(OR(BC86>BJ86,BC86=BJ86),VLOOKUP(BB86,$CP$10:$CV$272,4),VLOOKUP(BB86,$CP$10:$CV$272,3))),IF(OR(BC86>BJ86,BC86=BJ86),VLOOKUP(BB86,$CP$10:$CV$272,7),VLOOKUP(BB86,$CP$10:$CV$272,6))),"") | BM86: =IFERROR(BC86/(BB86/100)^2,"") | BN86: =IFERROR(IF(BM86>DP86,3+(BM86-DP86)/(DP86-DQ86),IF(BM86>DQ86,2+(BM86-DQ86)/(DP86-DQ86),IF(BM86>DR86,1+(BM86-DR86)/(DQ86-DR86),IF(BM86>DS86,(BM86-DS86)/(DR86-DS86),IF(BM86>DT86,-1+(BM86-DT86)/(DS86-DT86),IF(BM86>DU86,-2+(BM86-DU86)/(DT86-DU86),IF(BM86>DV86,-3+(BM86-DV86)/(DU86-DV86),-3-(DV86-BM86)/(DU86-DV86)))))))),"") | BZ86: 76 | CA86: 21.4 | CB86: 2.4 | CC86: 3.1 | CD86: 20.2 | CE86: 2.4 | CF86: 3.6 | CH86: 76 | CI86: 118 | CJ86: 4.9 | CK86: 4.9 | CL86: 116.6 | CM86: 5.1 | CN86: 5.1 | CP86: 87 | CQ86: 12.6 | CR86: 1.1 | CS86: 1.5 | CT86: 12.3 | CU86: 1.4 | CV86: 1.4 | DP86: =IFERROR(IF(AD86="L",VLOOKUP(BA86,$CZ$10:$DN$82,2),IF(AD86="P",VLOOKUP(BA86,$CZ$10:$DN$82,9),0)),"") -> 0 | DQ86: =IFERROR(IF(AD86="L",VLOOKUP(BA86,$CZ$10:$DN$82,3),IF(AD86="P",VLOOKUP(BA86,$CZ$10:$DN$82,10),0)),"") -> 0 | DR86: =IFERROR(IF(AD86="L",VLOOKUP(BA86,$CZ$10:$DN$82,4),IF(AD86="P",VLOOKUP(BA86,$CZ$10:$DN$82,11),0)),"") -> 0 | DS86: =IFERROR(IF(AD86="L",VLOOKUP(BA86,$CZ$10:$DN$82,5),IF(AD86="P",VLOOKUP(BA86,$CZ$10:$DN$82,12),0)),"") -> 0 | DT86: =IFERROR(IF(AD86="L",VLOOKUP(BA86,$CZ$10:$DN$82,6),IF(AD86="P",VLOOKUP(BA86,$CZ$10:$DN$82,13),0)),"") -> 0 | DU86: =IFERROR(IF(AD86="L",VLOOKUP(BA86,$CZ$10:$DN$82,7),IF(AD86="P",VLOOKUP(BA86,$CZ$10:$DN$82,14),0)),"") -> 0 | DV86: =IFERROR(IF(AD86="L",VLOOKUP(BA86,$CZ$10:$DN$82,8),IF(AD86="P",VLOOKUP(BA86,$CZ$10:$DN$82,15),0)),"") -> 0
