Workbook
Name b: '[1]ICD-X'!$C$3:$D$639
Name CONVERSI: #REF!
Name CONVERSIFULL: #REF!
Name DX_LAMA: #REF!
Name ICDX: #REF!
Name ICDXFULL: #REF!
Name NO_CODEOBAT: #REF!

Sheet PKG
B2: < 1th
B3: 1 Tahun | D3: REG. PKG DESA KARANGSOKO TAHUN 2026
B4: 1-2 Tahun | D4: UNIT LAYANAMNAN KLASTER 2
B5: 1-6 Tahun | D5: PUSKESMAS TRENGGALEK
B6: 2 Tahun | D6: https://puskesmastrenggalek.id/CKG-BIDAN/bidan.html
B7: 3-6 Tahun
B8: 2-6 Tahun
M9: PEMERIKSAAN MANDIRI | W9: PELAYANAN OLEH NAKES
B10: No. | C10: TANGGAL | D10: NIK | E10: N A M A | F10: UMUR | G10: TANGGAL LAHIR | H10: ALAMAT | M10: Hasil Skrinning DM Anak | O10: Demografi Anak | P10: Perkembangan | S10: Talasemia | U10: Tuberkulosis Bayi dan Anak Pra Sekolah | W10: Skrining Pertumbuhan - Bayi Baru Lahir | Y10: Skrining Penyakit Jantung Bawaan - Bayi Baru Lahir | AA10: Hasil Pemeriksaan SHK, G6PD, HAK | AB10: Pengambilan Darah Tumit | AC10: Tes Konfirmasi Pemeriksaan SHK, G6PD, HAK | AD10: Skrining Kelainan Saluran Empedu - Bayi Baru Lahir (0-2 hari) | AE10: Skrining Kelainan Saluran Empedu (14- 28 hari) | AF10: Skrining Kelainan Saluran Empedu (2-4 bulan) | AG10: Skrining Pertumbuhan - Balita dan Anak Prasekolah | AL10: Skrining Perkembangan Balita 1 Tahun | AM10: M-CHAT-REVISED - Jika terindikasi terlambat bicara, ada gangguan komunikasi atau interaksi sosial dan perilaku yang berulang-ulang | AN10: Kuesioner Gangguan Pemusatan Perhatian dan Hiperaktivitas (GPPH) - bila ada indikasi | AO10: Kuesioner Masalah Perilaku dan Emosional (KMPE) - Jika terindikasi memiliki masalah perilaku dan emosi | AP10: Kuesioner Pra Skrining Perkembangan (KPSP) | AQ10: Skrining Telinga dan Mata | AS10: Skrining Gigi - Balita dan Anak Prasekolah | AT10: Skrining Tuberkulosis - Balita dan Anak Prasekolah | AU10: Skoring TB - Hanya Apabila Tes Mantoux | AV10: Skrining Gula Darah Sewaktu - Bila ada Faktor Resiko | AW10: Rapid Test Hemoglobin - Balita | AX10: Skrining Lanjutan Talasemia - Balita dan Anak Prasekolah
J11: Tinggi | K11: Berat | L11: Lingkar | P11: 2 Tahun | Q11: (3-6 Tahun) | AG11: Status Gizi BB/U | AH11: Status gizi PB/U atau TB/U | AI11: Status Gizi BB/PB atau BB/TB | AJ11: Hasil IMT/U * | AK11: Status Lingkar Kepala *
H12: Desa/Kel. | I12: RT/RW | L12: Kepala | M12: Hasil | N12: Keterangan | Q12: Emosional | R12: Hiperaktif | S12: Hasil | T12: Keterangan | U12: Hasil | V12: Keterangan | W12: BBLahir | X12: PB Lahir | Y12: PJB - Tangan kanan (Oksimeter) | Z12: PJB - Kaki * | AQ12: 1-2 tahun | AR12: Balita dan Anak Prasekolah
B13: 1 | C13: 3 | D13: 5 | E13: 4 | F13: 7 | G13: 6 | I13: 8 | J13: 13 | K13: 14 | L13: 15 | M13: 16 | N13: 17 | O13: 18 | P13: 19 | Q13: 20 | R13: 21 | S13: 22 | T13: 23 | U13: 24 | V13: 25 | W13: 26 | Y13: 27 | AA13: 28 | AB13: 29 | AC13: 30 | AD13: 31 | AE13: 32 | AG13: 33 | AH13: 34 | AI13: 35 | AJ13: 36 | AK13: 37 | AL13: 38 | AM13: 39 | AN13: 40 | AO13: 41 | AP13: 42 | AQ13: 43 | AR13: 44 | AS13: 45 | AT13: 46 | AU13: 47 | AV13: 48 | AW13: 49 | AX13: 50
B14: 1 | C14: 45779 | D14: 3503110101250002 | E14: DEVARO GIVAREL AXCELLO | F14: =IFERROR(DATEDIF(G14,C14,"Y") & " thn. " &IF(DATEDIF(G14,C14,"YM")<10,"0"&DATEDIF(G14,C14,"YM"),DATEDIF(G14,C14,"YM")) & " bln.","") -> 0 thn. 04 bln. | G14: =IFERROR(ABS(IF(VALUE(MID(D14,7,2))>40,VALUE(MID(D14,7,2))-40,VALUE(MID(D14,7,2)))&"-"&IF(VALUE(MID(D14,9,2))<10,"0"&VALUE(MID(D14,9,2)),VALUE(MID(D14,9,2)))&"-"&VALUE(MID(D14,11,2))),"") -> 45658 | H14: KARANGSOKO | I14: RT 16 RW 4 | J14: 62 | K14: 6.2 | L14: 38 | W14: 2900 | X14: 50 | AA14: Negatif | AB14: Ya | AC14: Ya | AG14: =IF(D!BE10="","",IF(D!BE10<-3,"Gizi Buruk",IF(AND(D!BE10>=-3,D!BE10<-2),"Gizi Kurang",IF(AND(D!BE10>=-2,D!BE10<2),"Gizi Normal","Gizi Lebih")))) -> Gizi Buruk | AH14: =IF(D!BH10="","",IF(D!BH10<-3,"Sangat Pendek",IF(AND(D!BH10>=-3,D!BH10<-2),"Pendek",IF(AND(D!CB172>=-2,D!BH10<2),"Normal","Jangkung")))) -> Normal | AI14: =IF(D!BK10="","",(IF(D!BK10<-3,"Sangat Kurus",IF(AND(D!BK10>=-3,D!BK10<-2),"Kurus",IF(AND(D!BK10>=-2,D!BK10<2),"Normal","Gemuk"))))) -> Sangat Kurus | AJ14: =IF(D!BN10="","",IF(D!BN10<-3,"Sgt Kurus",IF(AND(D!BN10>=-3,D!BN10<-2),"Kurus",IF(AND(D!BN10>=-2,D!BN10<1),"Normal",IF(AND(D!BN10>=1,D!BN10<2),"Gemuk","Obesitas"))))) -> Sgt Kurus
B15: 2 | C15: 45780 | D15: 3503112803250002 | E15: Brahim Akio Pradana | F15: =IFERROR(DATEDIF(G15,C15,"Y") & " thn. " &IF(DATEDIF(G15,C15,"YM")<10,"0"&DATEDIF(G15,C15,"YM"),DATEDIF(G15,C15,"YM")) & " bln.","") -> 0 thn. 01 bln. | G15: =IFERROR(ABS(IF(VALUE(MID(D15,7,2))>40,VALUE(MID(D15,7,2))-40,VALUE(MID(D15,7,2)))&"-"&IF(VALUE(MID(D15,9,2))<10,"0"&VALUE(MID(D15,9,2)),VALUE(MID(D15,9,2)))&"-"&VALUE(MID(D15,11,2))),"") -> 45744 | H15: KARANGSOKO | I15: RT 18 | J15: 57 | K15: 5.6 | L15: 36 | W15: 3400 | X15: 51 | AA15: Negatif | AB15: Ya | AC15: Ya | AG15: =IF(D!BE11="","",IF(D!BE11<-3,"Gizi Buruk",IF(AND(D!BE11>=-3,D!BE11<-2),"Gizi Kurang",IF(AND(D!BE11>=-2,D!BE11<2),"Gizi Normal","Gizi Lebih")))) -> Gizi Normal | AH15: =IF(D!BH11="","",IF(D!BH11<-3,"Sangat Pendek",IF(AND(D!BH11>=-3,D!BH11<-2),"Pendek",IF(AND(D!CB173>=-2,D!BH11<2),"Normal","Jangkung")))) -> Normal | AI15: =IF(D!BK11="","",(IF(D!BK11<-3,"Sangat Kurus",IF(AND(D!BK11>=-3,D!BK11<-2),"Kurus",IF(AND(D!BK11>=-2,D!BK11<2),"Normal","Gemuk"))))) -> Normal | AJ15: =IF(D!BN11="","",IF(D!BN11<-3,"Sgt Kurus",IF(AND(D!BN11>=-3,D!BN11<-2),"Kurus",IF(AND(D!BN11>=-2,D!BN11<1),"Normal",IF(AND(D!BN11>=1,D!BN11<2),"Gemuk","Obesitas"))))) -> Gemuk
B16: 3 | C16: 45782 | D16: 3503114601250001 | E16: ADIVA MUMTAZA | F16: =IFERROR(DATEDIF(G16,C16,"Y") & " thn. " &IF(DATEDIF(G16,C16,"YM")<10,"0"&DATEDIF(G16,C16,"YM"),DATEDIF(G16,C16,"YM")) & " bln.","") -> 0 thn. 03 bln. | G16: =IFERROR(ABS(IF(VALUE(MID(D16,7,2))>40,VALUE(MID(D16,7,2))-40,VALUE(MID(D16,7,2)))&"-"&IF(VALUE(MID(D16,9,2))<10,"0"&VALUE(MID(D16,9,2)),VALUE(MID(D16,9,2)))&"-"&VALUE(MID(D16,11,2))),"") -> 45663 | H16: KARANGSOKO | I16: RT 5 RW 1 | J16: 61 | K16: 7 | L16: 0 | W16: 3200 | X16: 48 | AA16: Negatif | AB16: Ya | AC16: Ya | AG16: =IF(D!BE12="","",IF(D!BE12<-3,"Gizi Buruk",IF(AND(D!BE12>=-3,D!BE12<-2),"Gizi Kurang",IF(AND(D!BE12>=-2,D!BE12<2),"Gizi Normal","Gizi Lebih")))) -> Gizi Lebih | AH16: =IF(D!BH12="","",IF(D!BH12<-3,"Sangat Pendek",IF(AND(D!BH12>=-3,D!BH12<-2),"Pendek",IF(AND(D!CB174>=-2,D!BH12<2),"Normal","Jangkung")))) -> Normal | AI16: =IF(D!BK12="","",(IF(D!BK12<-3,"Sangat Kurus",IF(AND(D!BK12>=-3,D!BK12<-2),"Kurus",IF(AND(D!BK12>=-2,D!BK12<2),"Normal","Gemuk"))))) -> Gemuk | AJ16: =IF(D!BN12="","",IF(D!BN12<-3,"Sgt Kurus",IF(AND(D!BN12>=-3,D!BN12<-2),"Kurus",IF(AND(D!BN12>=-2,D!BN12<1),"Normal",IF(AND(D!BN12>=1,D!BN12<2),"Gemuk","Obesitas"))))) -> Gemuk
B17: 4 | C17: 45787 | D17: 3503114504250002 | E17: DANBAY | F17: =IFERROR(DATEDIF(G17,C17,"Y") & " thn. " &IF(DATEDIF(G17,C17,"YM")<10,"0"&DATEDIF(G17,C17,"YM"),DATEDIF(G17,C17,"YM")) & " bln.","") -> 0 thn. 01 bln. | G17: =IFERROR(ABS(IF(VALUE(MID(D17,7,2))>40,VALUE(MID(D17,7,2))-40,VALUE(MID(D17,7,2)))&"-"&IF(VALUE(MID(D17,9,2))<10,"0"&VALUE(MID(D17,9,2)),VALUE(MID(D17,9,2)))&"-"&VALUE(MID(D17,11,2))),"") -> 45752 | H17: KARANGSOKO | I17: rt 21 rw 5 | J17: 50 | K17: 4.8 | L17: 0 | W17: 4500 | X17: 50 | AA17: Negatif | AB17: Ya | AC17: Ya | AG17: =IF(D!BE13="","",IF(D!BE13<-3,"Gizi Buruk",IF(AND(D!BE13>=-3,D!BE13<-2),"Gizi Kurang",IF(AND(D!BE13>=-2,D!BE13<2),"Gizi Normal","Gizi Lebih")))) -> Gizi Normal | AH17: =IF(D!BH13="","",IF(D!BH13<-3,"Sangat Pendek",IF(AND(D!BH13>=-3,D!BH13<-2),"Pendek",IF(AND(D!CB175>=-2,D!BH13<2),"Normal","Jangkung")))) -> Normal | AI17: =IF(D!BK13="","",(IF(D!BK13<-3,"Sangat Kurus",IF(AND(D!BK13>=-3,D!BK13<-2),"Kurus",IF(AND(D!BK13>=-2,D!BK13<2),"Normal","Gemuk"))))) -> Gemuk | AJ17: =IF(D!BN13="","",IF(D!BN13<-3,"Sgt Kurus",IF(AND(D!BN13>=-3,D!BN13<-2),"Kurus",IF(AND(D!BN13>=-2,D!BN13<1),"Normal",IF(AND(D!BN13>=1,D!BN13<2),"Gemuk","Obesitas"))))) -> Obesitas
B18: 5 | C18: 45798 | D18: 350311530325000x | E18: Kayla Anindia Putri | F18: =IFERROR(DATEDIF(G18,C18,"Y") & " thn. " &IF(DATEDIF(G18,C18,"YM")<10,"0"&DATEDIF(G18,C18,"YM"),DATEDIF(G18,C18,"YM")) & " bln.","") -> 0 thn. 02 bln. | G18: =IFERROR(ABS(IF(VALUE(MID(D18,7,2))>40,VALUE(MID(D18,7,2))-40,VALUE(MID(D18,7,2)))&"-"&IF(VALUE(MID(D18,9,2))<10,"0"&VALUE(MID(D18,9,2)),VALUE(MID(D18,9,2)))&"-"&VALUE(MID(D18,11,2))),"") -> 45729 | H18: karangsoko | I18: rt 06/01 | J18: 52 | K18: 5 | L18: 37 | W18: 2900 | X18: 48 | AA18: Negatif | AB18: Ya | AC18: Ya | AG18: =IF(D!BE14="","",IF(D!BE14<-3,"Gizi Buruk",IF(AND(D!BE14>=-3,D!BE14<-2),"Gizi Kurang",IF(AND(D!BE14>=-2,D!BE14<2),"Gizi Normal","Gizi Lebih")))) -> Gizi Normal | AH18: =IF(D!BH14="","",IF(D!BH14<-3,"Sangat Pendek",IF(AND(D!BH14>=-3,D!BH14<-2),"Pendek",IF(AND(D!CB176>=-2,D!BH14<2),"Normal","Jangkung")))) -> Normal | AI18: =IF(D!BK14="","",(IF(D!BK14<-3,"Sangat Kurus",IF(AND(D!BK14>=-3,D!BK14<-2),"Kurus",IF(AND(D!BK14>=-2,D!BK14<2),"Normal","Gemuk"))))) -> Gemuk | AJ18: =IF(D!BN14="","",IF(D!BN14<-3,"Sgt Kurus",IF(AND(D!BN14>=-3,D!BN14<-2),"Kurus",IF(AND(D!BN14>=-2,D!BN14<1),"Normal",IF(AND(D!BN14>=1,D!BN14<2),"Gemuk","Obesitas"))))) -> Gemuk
B19: 6 | C19: 45798 | D19: 350311700125000x | E19: Rili Aynazwa Singadji | F19: =IFERROR(DATEDIF(G19,C19,"Y") & " thn. " &IF(DATEDIF(G19,C19,"YM")<10,"0"&DATEDIF(G19,C19,"YM"),DATEDIF(G19,C19,"YM")) & " bln.","") -> 0 thn. 03 bln. | G19: =IFERROR(ABS(IF(VALUE(MID(D19,7,2))>40,VALUE(MID(D19,7,2))-40,VALUE(MID(D19,7,2)))&"-"&IF(VALUE(MID(D19,9,2))<10,"0"&VALUE(MID(D19,9,2)),VALUE(MID(D19,9,2)))&"-"&VALUE(MID(D19,11,2))),"") -> 45687 | H19: KARANGSOKO | I19: rt 24 | J19: 56 | K19: 6.4 | L19: 37 | W19: 3300 | X19: 48 | AA19: Negatif | AB19: Ya | AC19: Ya | AG19: =IF(D!BE15="","",IF(D!BE15<-3,"Gizi Buruk",IF(AND(D!BE15>=-3,D!BE15<-2),"Gizi Kurang",IF(AND(D!BE15>=-2,D!BE15<2),"Gizi Normal","Gizi Lebih")))) -> Gizi Normal | AH19: =IF(D!BH15="","",IF(D!BH15<-3,"Sangat Pendek",IF(AND(D!BH15>=-3,D!BH15<-2),"Pendek",IF(AND(D!CB177>=-2,D!BH15<2),"Normal","Jangkung")))) -> Normal | AI19: =IF(D!BK15="","",(IF(D!BK15<-3,"Sangat Kurus",IF(AND(D!BK15>=-3,D!BK15<-2),"Kurus",IF(AND(D!BK15>=-2,D!BK15<2),"Normal","Gemuk"))))) -> Gemuk | AJ19: =IF(D!BN15="","",IF(D!BN15<-3,"Sgt Kurus",IF(AND(D!BN15>=-3,D!BN15<-2),"Kurus",IF(AND(D!BN15>=-2,D!BN15<1),"Normal",IF(AND(D!BN15>=1,D!BN15<2),"Gemuk","Obesitas"))))) -> Obesitas
B20: 7 | C20: 45798 | D20: 3503060102250001 | E20: ELVANO FARIZQY ALMUBAROG | F20: =IFERROR(DATEDIF(G20,C20,"Y") & " thn. " &IF(DATEDIF(G20,C20,"YM")<10,"0"&DATEDIF(G20,C20,"YM"),DATEDIF(G20,C20,"YM")) & " bln.","") -> 0 thn. 03 bln. | G20: =IFERROR(ABS(IF(VALUE(MID(D20,7,2))>40,VALUE(MID(D20,7,2))-40,VALUE(MID(D20,7,2)))&"-"&IF(VALUE(MID(D20,9,2))<10,"0"&VALUE(MID(D20,9,2)),VALUE(MID(D20,9,2)))&"-"&VALUE(MID(D20,11,2))),"") -> 45689 | H20: KARANGSOKO | I20: RT 03 RW 01 | J20: 58 | K20: 6.1 | L20: 0 | W20: 2900 | X20: 50 | AA20: Negatif | AB20: Ya | AC20: Ya | AG20: =IF(D!BE16="","",IF(D!BE16<-3,"Gizi Buruk",IF(AND(D!BE16>=-3,D!BE16<-2),"Gizi Kurang",IF(AND(D!BE16>=-2,D!BE16<2),"Gizi Normal","Gizi Lebih")))) -> Gizi Buruk | AH20: =IF(D!BH16="","",IF(D!BH16<-3,"Sangat Pendek",IF(AND(D!BH16>=-3,D!BH16<-2),"Pendek",IF(AND(D!CB178>=-2,D!BH16<2),"Normal","Jangkung")))) -> Normal | AI20: =IF(D!BK16="","",(IF(D!BK16<-3,"Sangat Kurus",IF(AND(D!BK16>=-3,D!BK16<-2),"Kurus",IF(AND(D!BK16>=-2,D!BK16<2),"Normal","Gemuk"))))) -> Sangat Kurus | AJ20: =IF(D!BN16="","",IF(D!BN16<-3,"Sgt Kurus",IF(AND(D!BN16>=-3,D!BN16<-2),"Kurus",IF(AND(D!BN16>=-2,D!BN16<1),"Normal",IF(AND(D!BN16>=1,D!BN16<2),"Gemuk","Obesitas"))))) -> Sgt Kurus
B21: 8 | C21: 45798 | D21: 3503110302250001 | E21: ELZEANDRA DIERO ARGATSANI | F21: =IFERROR(DATEDIF(G21,C21,"Y") & " thn. " &IF(DATEDIF(G21,C21,"YM")<10,"0"&DATEDIF(G21,C21,"YM"),DATEDIF(G21,C21,"YM")) & " bln.","") -> 0 thn. 03 bln. | G21: =IFERROR(ABS(IF(VALUE(MID(D21,7,2))>40,VALUE(MID(D21,7,2))-40,VALUE(MID(D21,7,2)))&"-"&IF(VALUE(MID(D21,9,2))<10,"0"&VALUE(MID(D21,9,2)),VALUE(MID(D21,9,2)))&"-"&VALUE(MID(D21,11,2))),"") -> 45691 | H21: KARANGSOKO | I21: RT 3 RW 1 | J21: 63 | K21: 7.1 | L21: 0 | W21: 3500 | X21: 51 | AA21: Negatif | AB21: Ya | AC21: Ya | AG21: =IF(D!BE17="","",IF(D!BE17<-3,"Gizi Buruk",IF(AND(D!BE17>=-3,D!BE17<-2),"Gizi Kurang",IF(AND(D!BE17>=-2,D!BE17<2),"Gizi Normal","Gizi Lebih")))) -> Gizi Buruk | AH21: =IF(D!BH17="","",IF(D!BH17<-3,"Sangat Pendek",IF(AND(D!BH17>=-3,D!BH17<-2),"Pendek",IF(AND(D!CB179>=-2,D!BH17<2),"Normal","Jangkung")))) -> Normal | AI21: =IF(D!BK17="","",(IF(D!BK17<-3,"Sangat Kurus",IF(AND(D!BK17>=-3,D!BK17<-2),"Kurus",IF(AND(D!BK17>=-2,D!BK17<2),"Normal","Gemuk"))))) -> Sangat Kurus | AJ21: =IF(D!BN17="","",IF(D!BN17<-3,"Sgt Kurus",IF(AND(D!BN17>=-3,D!BN17<-2),"Kurus",IF(AND(D!BN17>=-2,D!BN17<1),"Normal",IF(AND(D!BN17>=1,D!BN17<2),"Gemuk","Obesitas"))))) -> Sgt Kurus
B22: 9 | C22: 45801 | D22: 350311510525000x | E22: ALZENA HUMAIRA MAHESWARI BACHTIAR | F22: =IFERROR(DATEDIF(G22,C22,"Y") & " thn. " &IF(DATEDIF(G22,C22,"YM")<10,"0"&DATEDIF(G22,C22,"YM"),DATEDIF(G22,C22,"YM")) & " bln.","") -> 0 thn. 00 bln. | G22: =IFERROR(ABS(IF(VALUE(MID(D22,7,2))>40,VALUE(MID(D22,7,2))-40,VALUE(MID(D22,7,2)))&"-"&IF(VALUE(MID(D22,9,2))<10,"0"&VALUE(MID(D22,9,2)),VALUE(MID(D22,9,2)))&"-"&VALUE(MID(D22,11,2))),"") -> 45788 | H22: KARANGSOKO | I22: rt 18 rw 4 | J22: 51 | K22: 3.1 | L22: 0 | W22: 2900 | X22: 49 | AA22: Negatif | AB22: Ya | AC22: Ya | AG22: =IF(D!BE18="","",IF(D!BE18<-3,"Gizi Buruk",IF(AND(D!BE18>=-3,D!BE18<-2),"Gizi Kurang",IF(AND(D!BE18>=-2,D!BE18<2),"Gizi Normal","Gizi Lebih")))) -> Gizi Buruk | AH22: =IF(D!BH18="","",IF(D!BH18<-3,"Sangat Pendek",IF(AND(D!BH18>=-3,D!BH18<-2),"Pendek",IF(AND(D!CB180>=-2,D!BH18<2),"Normal","Jangkung")))) -> Normal | AI22: =IF(D!BK18="","",(IF(D!BK18<-3,"Sangat Kurus",IF(AND(D!BK18>=-3,D!BK18<-2),"Kurus",IF(AND(D!BK18>=-2,D!BK18<2),"Normal","Gemuk"))))) -> Sangat Kurus | AJ22: =IF(D!BN18="","",IF(D!BN18<-3,"Sgt Kurus",IF(AND(D!BN18>=-3,D!BN18<-2),"Kurus",IF(AND(D!BN18>=-2,D!BN18<1),"Normal",IF(AND(D!BN18>=1,D!BN18<2),"Gemuk","Obesitas"))))) -> Sgt Kurus
B23: 10 | C23: 45801 | D23: 9271024604200001 | E23: ARSHIYLA SHANUM PUTRI SANTO | F23: =IFERROR(DATEDIF(G23,C23,"Y") & " thn. " &IF(DATEDIF(G23,C23,"YM")<10,"0"&DATEDIF(G23,C23,"YM"),DATEDIF(G23,C23,"YM")) & " bln.","") -> 5 thn. 01 bln. | G23: =IFERROR(ABS(IF(VALUE(MID(D23,7,2))>40,VALUE(MID(D23,7,2))-40,VALUE(MID(D23,7,2)))&"-"&IF(VALUE(MID(D23,9,2))<10,"0"&VALUE(MID(D23,9,2)),VALUE(MID(D23,9,2)))&"-"&VALUE(MID(D23,11,2))),"") -> 43927 | H23: KARANGSOKO | I23: RT 24 | J23: 109 | K23: 18 | L23: 0 | M23: Tidak | O23: Non disabilitas | Q23: Tidak | R23: Tidak | S23: Tidak | U23: Tidak | AG23: =IF(D!BE19="","",IF(D!BE19<-3,"Gizi Buruk",IF(AND(D!BE19>=-3,D!BE19<-2),"Gizi Kurang",IF(AND(D!BE19>=-2,D!BE19<2),"Gizi Normal","Gizi Lebih")))) -> Gizi Normal | AH23: =IF(D!BH19="","",IF(D!BH19<-3,"Sangat Pendek",IF(AND(D!BH19>=-3,D!BH19<-2),"Pendek",IF(AND(D!CB181>=-2,D!BH19<2),"Normal","Jangkung")))) -> Normal | AI23: =IF(D!BK19="","",(IF(D!BK19<-3,"Sangat Kurus",IF(AND(D!BK19>=-3,D!BK19<-2),"Kurus",IF(AND(D!BK19>=-2,D!BK19<2),"Normal","Gemuk"))))) -> Normal | AJ23: =IF(D!BN19="","",IF(D!BN19<-3,"Sgt Kurus",IF(AND(D!BN19>=-3,D!BN19<-2),"Kurus",IF(AND(D!BN19>=-2,D!BN19<1),"Normal",IF(AND(D!BN19>=1,D!BN19<2),"Gemuk","Obesitas"))))) -> Normal | AP23: Sesuai usia | AS23: Ya | AU23: Tidak | AX23: Tidak
B24: 11 | C24: 45801 | D24: 3503114210210001 | E24: AURETA YUMNA OKTARIA | F24: =IFERROR(DATEDIF(G24,C24,"Y") & " thn. " &IF(DATEDIF(G24,C24,"YM")<10,"0"&DATEDIF(G24,C24,"YM"),DATEDIF(G24,C24,"YM")) & " bln.","") -> 3 thn. 07 bln. | G24: =IFERROR(ABS(IF(VALUE(MID(D24,7,2))>40,VALUE(MID(D24,7,2))-40,VALUE(MID(D24,7,2)))&"-"&IF(VALUE(MID(D24,9,2))<10,"0"&VALUE(MID(D24,9,2)),VALUE(MID(D24,9,2)))&"-"&VALUE(MID(D24,11,2))),"") -> 44471 | H24: KARANGSOKO | I24: rt 24 / 05 | J24: 92 | K24: 12.8 | L24: 0 | M24: Tidak | O24: Non disabilitas | Q24: Tidak | R24: Tidak | S24: Tidak | U24: Tidak | AG24: =IF(D!BE20="","",IF(D!BE20<-3,"Gizi Buruk",IF(AND(D!BE20>=-3,D!BE20<-2),"Gizi Kurang",IF(AND(D!BE20>=-2,D!BE20<2),"Gizi Normal","Gizi Lebih")))) -> Gizi Buruk | AH24: =IF(D!BH20="","",IF(D!BH20<-3,"Sangat Pendek",IF(AND(D!BH20>=-3,D!BH20<-2),"Pendek",IF(AND(D!CB182>=-2,D!BH20<2),"Normal","Jangkung")))) -> Normal | AI24: =IF(D!BK20="","",(IF(D!BK20<-3,"Sangat Kurus",IF(AND(D!BK20>=-3,D!BK20<-2),"Kurus",IF(AND(D!BK20>=-2,D!BK20<2),"Normal","Gemuk"))))) -> Sangat Kurus | AJ24: =IF(D!BN20="","",IF(D!BN20<-3,"Sgt Kurus",IF(AND(D!BN20>=-3,D!BN20<-2),"Kurus",IF(AND(D!BN20>=-2,D!BN20<1),"Normal",IF(AND(D!BN20>=1,D!BN20<2),"Gemuk","Obesitas"))))) -> Sgt Kurus | AP24: Sesuai usia | AS24: Ya | AU24: Tidak | AX24: Tidak
B25: 12 | C25: 45801 | D25: 3503116705220001 | E25: RAISYA ZAKIYA NURFHADILAH | F25: =IFERROR(DATEDIF(G25,C25,"Y") & " thn. " &IF(DATEDIF(G25,C25,"YM")<10,"0"&DATEDIF(G25,C25,"YM"),DATEDIF(G25,C25,"YM")) & " bln.","") -> 2 thn. 11 bln. | G25: =IFERROR(ABS(IF(VALUE(MID(D25,7,2))>40,VALUE(MID(D25,7,2))-40,VALUE(MID(D25,7,2)))&"-"&IF(VALUE(MID(D25,9,2))<10,"0"&VALUE(MID(D25,9,2)),VALUE(MID(D25,9,2)))&"-"&VALUE(MID(D25,11,2))),"") -> 44708 | H25: KARANGSOKO | I25: rt 29 | J25: 91 | K25: 12.1 | L25: 0 | O25: Non disabilitas | P25: Tidak | U25: Tidak | AG25: =IF(D!BE21="","",IF(D!BE21<-3,"Gizi Buruk",IF(AND(D!BE21>=-3,D!BE21<-2),"Gizi Kurang",IF(AND(D!BE21>=-2,D!BE21<2),"Gizi Normal","Gizi Lebih")))) -> Gizi Buruk | AH25: =IF(D!BH21="","",IF(D!BH21<-3,"Sangat Pendek",IF(AND(D!BH21>=-3,D!BH21<-2),"Pendek",IF(AND(D!CB183>=-2,D!BH21<2),"Normal","Jangkung")))) -> Normal | AI25: =IF(D!BK21="","",(IF(D!BK21<-3,"Sangat Kurus",IF(AND(D!BK21>=-3,D!BK21<-2),"Kurus",IF(AND(D!BK21>=-2,D!BK21<2),"Normal","Gemuk"))))) -> Sangat Kurus | AJ25: =IF(D!BN21="","",IF(D!BN21<-3,"Sgt Kurus",IF(AND(D!BN21>=-3,D!BN21<-2),"Kurus",IF(AND(D!BN21>=-2,D!BN21<1),"Normal",IF(AND(D!BN21>=1,D!BN21<2),"Gemuk","Obesitas"))))) -> Sgt Kurus | AP25: Sesuai usia | AS25: Tidak
B26: 13 | C26: 45801 | D26: 3503116411220002 | E26: ANDARA CHEISYA YUKI PRASETYO | F26: =IFERROR(DATEDIF(G26,C26,"Y") & " thn. " &IF(DATEDIF(G26,C26,"YM")<10,"0"&DATEDIF(G26,C26,"YM"),DATEDIF(G26,C26,"YM")) & " bln.","") -> 2 thn. 06 bln. | G26: =IFERROR(ABS(IF(VALUE(MID(D26,7,2))>40,VALUE(MID(D26,7,2))-40,VALUE(MID(D26,7,2)))&"-"&IF(VALUE(MID(D26,9,2))<10,"0"&VALUE(MID(D26,9,2)),VALUE(MID(D26,9,2)))&"-"&VALUE(MID(D26,11,2))),"") -> 44889 | H26: KARANGSOKO | I26: rt 29 rw 05 | J26: 94 | K26: 14.5 | L26: 0 | O26: Non disabilitas | P26: Tidak | U26: Tidak | AG26: =IF(D!BE22="","",IF(D!BE22<-3,"Gizi Buruk",IF(AND(D!BE22>=-3,D!BE22<-2),"Gizi Kurang",IF(AND(D!BE22>=-2,D!BE22<2),"Gizi Normal","Gizi Lebih")))) -> Gizi Buruk | AH26: =IF(D!BH22="","",IF(D!BH22<-3,"Sangat Pendek",IF(AND(D!BH22>=-3,D!BH22<-2),"Pendek",IF(AND(D!CB184>=-2,D!BH22<2),"Normal","Jangkung")))) -> Normal | AI26: =IF(D!BK22="","",(IF(D!BK22<-3,"Sangat Kurus",IF(AND(D!BK22>=-3,D!BK22<-2),"Kurus",IF(AND(D!BK22>=-2,D!BK22<2),"Normal","Gemuk"))))) -> Sangat Kurus | AJ26: =IF(D!BN22="","",IF(D!BN22<-3,"Sgt Kurus",IF(AND(D!BN22>=-3,D!BN22<-2),"Kurus",IF(AND(D!BN22>=-2,D!BN22<1),"Normal",IF(AND(D!BN22>=1,D!BN22<2),"Gemuk","Obesitas"))))) -> Sgt Kurus | AP26: Sesuai usia | AS26: Tidak
B27: 14 | C27: 45801 | D27: 3503115903240002 | E27: FAZLUNA MAHALA CANDARINI | F27: =IFERROR(DATEDIF(G27,C27,"Y") & " thn. " &IF(DATEDIF(G27,C27,"YM")<10,"0"&DATEDIF(G27,C27,"YM"),DATEDIF(G27,C27,"YM")) & " bln.","") -> 1 thn. 02 bln. | G27: =IFERROR(ABS(IF(VALUE(MID(D27,7,2))>40,VALUE(MID(D27,7,2))-40,VALUE(MID(D27,7,2)))&"-"&IF(VALUE(MID(D27,9,2))<10,"0"&VALUE(MID(D27,9,2)),VALUE(MID(D27,9,2)))&"-"&VALUE(MID(D27,11,2))),"") -> 45370 | H27: KARANGSOKO | I27: rt 24 | J27: 72 | K27: 9.2 | L27: 0 | O27: Non disabilitas | U27: Tidak | AG27: =IF(D!BE23="","",IF(D!BE23<-3,"Gizi Buruk",IF(AND(D!BE23>=-3,D!BE23<-2),"Gizi Kurang",IF(AND(D!BE23>=-2,D!BE23<2),"Gizi Normal","Gizi Lebih")))) -> Gizi Buruk | AH27: =IF(D!BH23="","",IF(D!BH23<-3,"Sangat Pendek",IF(AND(D!BH23>=-3,D!BH23<-2),"Pendek",IF(AND(D!CB185>=-2,D!BH23<2),"Normal","Jangkung")))) -> Normal | AI27: =IF(D!BK23="","",(IF(D!BK23<-3,"Sangat Kurus",IF(AND(D!BK23>=-3,D!BK23<-2),"Kurus",IF(AND(D!BK23>=-2,D!BK23<2),"Normal","Gemuk"))))) -> Sangat Kurus | AJ27: =IF(D!BN23="","",IF(D!BN23<-3,"Sgt Kurus",IF(AND(D!BN23>=-3,D!BN23<-2),"Kurus",IF(AND(D!BN23>=-2,D!BN23<1),"Normal",IF(AND(D!BN23>=1,D!BN23<2),"Gemuk","Obesitas"))))) -> Sgt Kurus | AL27: Y
B28: 15 | C28: 45803 | D28: 350311510525000x | E28: Muhammad Faizar Alvarendra | F28: =IFERROR(DATEDIF(G28,C28,"Y") & " thn. " &IF(DATEDIF(G28,C28,"YM")<10,"0"&DATEDIF(G28,C28,"YM"),DATEDIF(G28,C28,"YM")) & " bln.","") -> 0 thn. 00 bln. | G28: =IFERROR(ABS(IF(VALUE(MID(D28,7,2))>40,VALUE(MID(D28,7,2))-40,VALUE(MID(D28,7,2)))&"-"&IF(VALUE(MID(D28,9,2))<10,"0"&VALUE(MID(D28,9,2)),VALUE(MID(D28,9,2)))&"-"&VALUE(MID(D28,11,2))),"") -> 45788 | H28: KARANGSOKO | I28: rt 29 | J28: 92 | K28: 12.8 | L28: 0 | O28: Non disabilitas | U28: Tidak | AG28: =IF(D!BE24="","",IF(D!BE24<-3,"Gizi Buruk",IF(AND(D!BE24>=-3,D!BE24<-2),"Gizi Kurang",IF(AND(D!BE24>=-2,D!BE24<2),"Gizi Normal","Gizi Lebih")))) -> Gizi Buruk | AH28: =IF(D!BH24="","",IF(D!BH24<-3,"Sangat Pendek",IF(AND(D!BH24>=-3,D!BH24<-2),"Pendek",IF(AND(D!CB186>=-2,D!BH24<2),"Normal","Jangkung")))) -> Jangkung | AI28: =IF(D!BK24="","",(IF(D!BK24<-3,"Sangat Kurus",IF(AND(D!BK24>=-3,D!BK24<-2),"Kurus",IF(AND(D!BK24>=-2,D!BK24<2),"Normal","Gemuk"))))) -> Sangat Kurus | AJ28: =IF(D!BN24="","",IF(D!BN24<-3,"Sgt Kurus",IF(AND(D!BN24>=-3,D!BN24<-2),"Kurus",IF(AND(D!BN24>=-2,D!BN24<1),"Normal",IF(AND(D!BN24>=1,D!BN24<2),"Gemuk","Obesitas"))))) -> Sgt Kurus | AL28: Y | AS28: Ya
B29: 16 | C29: 45803 | D29: 3503110504220001 | E29: ELGIO DANIYAL ALKHALIFI | F29: =IFERROR(DATEDIF(G29,C29,"Y") & " thn. " &IF(DATEDIF(G29,C29,"YM")<10,"0"&DATEDIF(G29,C29,"YM"),DATEDIF(G29,C29,"YM")) & " bln.","") -> 3 thn. 01 bln. | G29: =IFERROR(ABS(IF(VALUE(MID(D29,7,2))>40,VALUE(MID(D29,7,2))-40,VALUE(MID(D29,7,2)))&"-"&IF(VALUE(MID(D29,9,2))<10,"0"&VALUE(MID(D29,9,2)),VALUE(MID(D29,9,2)))&"-"&VALUE(MID(D29,11,2))),"") -> 44656 | H29: KARANGSOKO | I29: rt 29 | J29: 87 | K29: 10.7 | L29: 0 | M29: Tidak | O29: Non disabilitas | Q29: Tidak | R29: Tidak | S29: Tidak | U29: Tidak | AG29: =IF(D!BE25="","",IF(D!BE25<-3,"Gizi Buruk",IF(AND(D!BE25>=-3,D!BE25<-2),"Gizi Kurang",IF(AND(D!BE25>=-2,D!BE25<2),"Gizi Normal","Gizi Lebih")))) -> Gizi Buruk | AH29: =IF(D!BH25="","",IF(D!BH25<-3,"Sangat Pendek",IF(AND(D!BH25>=-3,D!BH25<-2),"Pendek",IF(AND(D!CB187>=-2,D!BH25<2),"Normal","Jangkung")))) -> Pendek | AI29: =IF(D!BK25="","",(IF(D!BK25<-3,"Sangat Kurus",IF(AND(D!BK25>=-3,D!BK25<-2),"Kurus",IF(AND(D!BK25>=-2,D!BK25<2),"Normal","Gemuk"))))) -> Sangat Kurus | AJ29: =IF(D!BN25="","",IF(D!BN25<-3,"Sgt Kurus",IF(AND(D!BN25>=-3,D!BN25<-2),"Kurus",IF(AND(D!BN25>=-2,D!BN25<1),"Normal",IF(AND(D!BN25>=1,D!BN25<2),"Gemuk","Obesitas"))))) -> Sgt Kurus | AP29: Sesuai usia | AS29: Tidak | AU29: Tidak | AX29: Tidak
B30: 17 | C30: 45803 | D30: 350311060125000x | E30: andrean azzam alfarizqi | F30: =IFERROR(DATEDIF(G30,C30,"Y") & " thn. " &IF(DATEDIF(G30,C30,"YM")<10,"0"&DATEDIF(G30,C30,"YM"),DATEDIF(G30,C30,"YM")) & " bln.","") -> 0 thn. 04 bln. | G30: =IFERROR(ABS(IF(VALUE(MID(D30,7,2))>40,VALUE(MID(D30,7,2))-40,VALUE(MID(D30,7,2)))&"-"&IF(VALUE(MID(D30,9,2))<10,"0"&VALUE(MID(D30,9,2)),VALUE(MID(D30,9,2)))&"-"&VALUE(MID(D30,11,2))),"") -> 45663 | H30: KARANGSOKO | I30: rt 24 | J30: 96 | K30: 14.6 | L30: 0 | M30: Tidak | O30: Non disabilitas | Q30: Tidak | R30: Tidak | S30: Tidak | U30: Tidak | AG30: =IF(D!BE26="","",IF(D!BE26<-3,"Gizi Buruk",IF(AND(D!BE26>=-3,D!BE26<-2),"Gizi Kurang",IF(AND(D!BE26>=-2,D!BE26<2),"Gizi Normal","Gizi Lebih")))) -> Gizi Buruk | AH30: =IF(D!BH26="","",IF(D!BH26<-3,"Sangat Pendek",IF(AND(D!BH26>=-3,D!BH26<-2),"Pendek",IF(AND(D!CB188>=-2,D!BH26<2),"Normal","Jangkung")))) -> Jangkung | AI30: =IF(D!BK26="","",(IF(D!BK26<-3,"Sangat Kurus",IF(AND(D!BK26>=-3,D!BK26<-2),"Kurus",IF(AND(D!BK26>=-2,D!BK26<2),"Normal","Gemuk"))))) -> Sangat Kurus | AJ30: =IF(D!BN26="","",IF(D!BN26<-3,"Sgt Kurus",IF(AND(D!BN26>=-3,D!BN26<-2),"Kurus",IF(AND(D!BN26>=-2,D!BN26<1),"Normal",IF(AND(D!BN26>=1,D!BN26<2),"Gemuk","Obesitas"))))) -> Sgt Kurus | AP30: Sesuai usia | AS30: Tidak | AU30: Tidak | AX30: Tidak
B31: 18 | C31: 45803 | D31: 3503111112200001 | E31: ARSHAKI RAZIQ ZUHRI | F31: =IFERROR(DATEDIF(G31,C31,"Y") & " thn. " &IF(DATEDIF(G31,C31,"YM")<10,"0"&DATEDIF(G31,C31,"YM"),DATEDIF(G31,C31,"YM")) & " bln.","") -> 4 thn. 05 bln. | G31: =IFERROR(ABS(IF(VALUE(MID(D31,7,2))>40,VALUE(MID(D31,7,2))-40,VALUE(MID(D31,7,2)))&"-"&IF(VALUE(MID(D31,9,2))<10,"0"&VALUE(MID(D31,9,2)),VALUE(MID(D31,9,2)))&"-"&VALUE(MID(D31,11,2))),"") -> 44176 | H31: KARANGSOKO | I31: RT 24 RW 5 | J31: 110 | K31: 17.4 | L31: 0 | M31: Tidak | O31: Non disabilitas | Q31: Tidak | R31: Tidak | S31: Tidak | U31: Tidak | AG31: =IF(D!BE27="","",IF(D!BE27<-3,"Gizi Buruk",IF(AND(D!BE27>=-3,D!BE27<-2),"Gizi Kurang",IF(AND(D!BE27>=-2,D!BE27<2),"Gizi Normal","Gizi Lebih")))) -> Gizi Buruk | AH31: =IF(D!BH27="","",IF(D!BH27<-3,"Sangat Pendek",IF(AND(D!BH27>=-3,D!BH27<-2),"Pendek",IF(AND(D!CB189>=-2,D!BH27<2),"Normal","Jangkung")))) -> Normal | AI31: =IF(D!BK27="","",(IF(D!BK27<-3,"Sangat Kurus",IF(AND(D!BK27>=-3,D!BK27<-2),"Kurus",IF(AND(D!BK27>=-2,D!BK27<2),"Normal","Gemuk"))))) -> Sangat Kurus | AJ31: =IF(D!BN27="","",IF(D!BN27<-3,"Sgt Kurus",IF(AND(D!BN27>=-3,D!BN27<-2),"Kurus",IF(AND(D!BN27>=-2,D!BN27<1),"Normal",IF(AND(D!BN27>=1,D!BN27<2),"Gemuk","Obesitas"))))) -> Sgt Kurus | AP31: Sesuai usia | AS31: Tidak | AU31: Tidak | AX31: Tidak
B32: 19 | C32: 45803 | D32: 3503112302210001 | E32: CHEVANDRA FEBRIAN FRANSISCO | F32: =IFERROR(DATEDIF(G32,C32,"Y") & " thn. " &IF(DATEDIF(G32,C32,"YM")<10,"0"&DATEDIF(G32,C32,"YM"),DATEDIF(G32,C32,"YM")) & " bln.","") -> 4 thn. 03 bln. | G32: =IFERROR(ABS(IF(VALUE(MID(D32,7,2))>40,VALUE(MID(D32,7,2))-40,VALUE(MID(D32,7,2)))&"-"&IF(VALUE(MID(D32,9,2))<10,"0"&VALUE(MID(D32,9,2)),VALUE(MID(D32,9,2)))&"-"&VALUE(MID(D32,11,2))),"") -> 44250 | H32: JATIPRAHU | I32: RT 23 | J32: 104 | K32: 19 | L32: 0 | M32: Tidak | O32: Non disabilitas | Q32: Tidak | R32: Tidak | S32: Tidak | U32: Tidak | AG32: =IF(D!BE28="","",IF(D!BE28<-3,"Gizi Buruk",IF(AND(D!BE28>=-3,D!BE28<-2),"Gizi Kurang",IF(AND(D!BE28>=-2,D!BE28<2),"Gizi Normal","Gizi Lebih")))) -> Gizi Normal | AH32: =IF(D!BH28="","",IF(D!BH28<-3,"Sangat Pendek",IF(AND(D!BH28>=-3,D!BH28<-2),"Pendek",IF(AND(D!CB190>=-2,D!BH28<2),"Normal","Jangkung")))) -> Normal | AI32: =IF(D!BK28="","",(IF(D!BK28<-3,"Sangat Kurus",IF(AND(D!BK28>=-3,D!BK28<-2),"Kurus",IF(AND(D!BK28>=-2,D!BK28<2),"Normal","Gemuk"))))) -> Normal | AJ32: =IF(D!BN28="","",IF(D!BN28<-3,"Sgt Kurus",IF(AND(D!BN28>=-3,D!BN28<-2),"Kurus",IF(AND(D!BN28>=-2,D!BN28<1),"Normal",IF(AND(D!BN28>=1,D!BN28<2),"Gemuk","Obesitas"))))) -> Gemuk | AP32: Sesuai usia | AS32: Tidak | AU32: Tidak | AX32: Tidak
B33: 20 | C33: 45803 | D33: 7371021207210002 | E33: LIBAN ABHISEVA RAZKYTAMA | F33: =IFERROR(DATEDIF(G33,C33,"Y") & " thn. " &IF(DATEDIF(G33,C33,"YM")<10,"0"&DATEDIF(G33,C33,"YM"),DATEDIF(G33,C33,"YM")) & " bln.","") -> 3 thn. 10 bln. | G33: =IFERROR(ABS(IF(VALUE(MID(D33,7,2))>40,VALUE(MID(D33,7,2))-40,VALUE(MID(D33,7,2)))&"-"&IF(VALUE(MID(D33,9,2))<10,"0"&VALUE(MID(D33,9,2)),VALUE(MID(D33,9,2)))&"-"&VALUE(MID(D33,11,2))),"") -> 44389 | H33: KARANGSOKO | I33: rt 22 | J33: 0 | K33: 102 | L33: 18.1 | M33: Tidak | O33: Non disabilitas | Q33: Tidak | R33: Tidak | S33: Tidak | U33: Tidak | AG33: =IF(D!BE29="","",IF(D!BE29<-3,"Gizi Buruk",IF(AND(D!BE29>=-3,D!BE29<-2),"Gizi Kurang",IF(AND(D!BE29>=-2,D!BE29<2),"Gizi Normal","Gizi Lebih")))) -> Gizi Lebih | AH33: =IF(D!BH29="","",IF(D!BH29<-3,"Sangat Pendek",IF(AND(D!BH29>=-3,D!BH29<-2),"Pendek",IF(AND(D!CB191>=-2,D!BH29<2),"Normal","Jangkung")))) -> Sangat Pendek | AI33: =IF(D!BK29="","",(IF(D!BK29<-3,"Sangat Kurus",IF(AND(D!BK29>=-3,D!BK29<-2),"Kurus",IF(AND(D!BK29>=-2,D!BK29<2),"Normal","Gemuk"))))) | AJ33: =IF(D!BN29="","",IF(D!BN29<-3,"Sgt Kurus",IF(AND(D!BN29>=-3,D!BN29<-2),"Kurus",IF(AND(D!BN29>=-2,D!BN29<1),"Normal",IF(AND(D!BN29>=1,D!BN29<2),"Gemuk","Obesitas"))))) | AP33: Sesuai usia | AS33: Tidak | AU33: Tidak | AX33: Tidak
B34: 21 | C34: 45803 | D34: 3503110310210002 | E34: FAIREL ATHARIZZ CALIEF | F34: =IFERROR(DATEDIF(G34,C34,"Y") & " thn. " &IF(DATEDIF(G34,C34,"YM")<10,"0"&DATEDIF(G34,C34,"YM"),DATEDIF(G34,C34,"YM")) & " bln.","") -> 3 thn. 07 bln. | G34: =IFERROR(ABS(IF(VALUE(MID(D34,7,2))>40,VALUE(MID(D34,7,2))-40,VALUE(MID(D34,7,2)))&"-"&IF(VALUE(MID(D34,9,2))<10,"0"&VALUE(MID(D34,9,2)),VALUE(MID(D34,9,2)))&"-"&VALUE(MID(D34,11,2))),"") -> 44472 | H34: KARANGSOKO | I34: rtc29 | J34: 100 | K34: 14.2 | L34: 0 | M34: Tidak | O34: Non disabilitas | Q34: Tidak | R34: Tidak | S34: Tidak | U34: Tidak | AG34: =IF(D!BE30="","",IF(D!BE30<-3,"Gizi Buruk",IF(AND(D!BE30>=-3,D!BE30<-2),"Gizi Kurang",IF(AND(D!BE30>=-2,D!BE30<2),"Gizi Normal","Gizi Lebih")))) -> Gizi Buruk | AH34: =IF(D!BH30="","",IF(D!BH30<-3,"Sangat Pendek",IF(AND(D!BH30>=-3,D!BH30<-2),"Pendek",IF(AND(D!CB192>=-2,D!BH30<2),"Normal","Jangkung")))) -> Normal | AI34: =IF(D!BK30="","",(IF(D!BK30<-3,"Sangat Kurus",IF(AND(D!BK30>=-3,D!BK30<-2),"Kurus",IF(AND(D!BK30>=-2,D!BK30<2),"Normal","Gemuk"))))) -> Sangat Kurus | AJ34: =IF(D!BN30="","",IF(D!BN30<-3,"Sgt Kurus",IF(AND(D!BN30>=-3,D!BN30<-2),"Kurus",IF(AND(D!BN30>=-2,D!BN30<1),"Normal",IF(AND(D!BN30>=1,D!BN30<2),"Gemuk","Obesitas"))))) -> Sgt Kurus | AP34: Sesuai usia | AS34: Tidak | AU34: Tidak | AX34: Tidak
B35: 22 | C35: 45803 | D35: 3503110611210001 | E35: ZAFRAN BASYAR HUSNAPUTRA | F35: =IFERROR(DATEDIF(G35,C35,"Y") & " thn. " &IF(DATEDIF(G35,C35,"YM")<10,"0"&DATEDIF(G35,C35,"YM"),DATEDIF(G35,C35,"YM")) & " bln.","") -> 3 thn. 06 bln. | G35: =IFERROR(ABS(IF(VALUE(MID(D35,7,2))>40,VALUE(MID(D35,7,2))-40,VALUE(MID(D35,7,2)))&"-"&IF(VALUE(MID(D35,9,2))<10,"0"&VALUE(MID(D35,9,2)),VALUE(MID(D35,9,2)))&"-"&VALUE(MID(D35,11,2))),"") -> 44506 | H35: KARANGSOKO | I35: rt 24 | J35: 101 | K35: 15 | L35: 0 | M35: Tidak | O35: Non disabilitas | Q35: Tidak | R35: Tidak | S35: Tidak | U35: Tidak | AG35: =IF(D!BE31="","",IF(D!BE31<-3,"Gizi Buruk",IF(AND(D!BE31>=-3,D!BE31<-2),"Gizi Kurang",IF(AND(D!BE31>=-2,D!BE31<2),"Gizi Normal","Gizi Lebih")))) -> Gizi Normal | AH35: =IF(D!BH31="","",IF(D!BH31<-3,"Sangat Pendek",IF(AND(D!BH31>=-3,D!BH31<-2),"Pendek",IF(AND(D!CB193>=-2,D!BH31<2),"Normal","Jangkung")))) -> Normal | AI35: =IF(D!BK31="","",(IF(D!BK31<-3,"Sangat Kurus",IF(AND(D!BK31>=-3,D!BK31<-2),"Kurus",IF(AND(D!BK31>=-2,D!BK31<2),"Normal","Gemuk"))))) -> Normal | AJ35: =IF(D!BN31="","",IF(D!BN31<-3,"Sgt Kurus",IF(AND(D!BN31>=-3,D!BN31<-2),"Kurus",IF(AND(D!BN31>=-2,D!BN31<1),"Normal",IF(AND(D!BN31>=1,D!BN31<2),"Gemuk","Obesitas"))))) -> Normal | AP35: Sesuai usia | AS35: Tidak | AU35: Tidak | AX35: Tidak
B36: 23 | C36: 45803 | D36: 3504057105230002 | E36: ELENORA CEISYA HANUM | F36: =IFERROR(DATEDIF(G36,C36,"Y") & " thn. " &IF(DATEDIF(G36,C36,"YM")<10,"0"&DATEDIF(G36,C36,"YM"),DATEDIF(G36,C36,"YM")) & " bln.","") -> 1 thn. 11 bln. | G36: =IFERROR(ABS(IF(VALUE(MID(D36,7,2))>40,VALUE(MID(D36,7,2))-40,VALUE(MID(D36,7,2)))&"-"&IF(VALUE(MID(D36,9,2))<10,"0"&VALUE(MID(D36,9,2)),VALUE(MID(D36,9,2)))&"-"&VALUE(MID(D36,11,2))),"") -> 45077 | H36: KARANGSOKO | I36: 45799 | J36: 90 | K36: 15 | L36: 0 | O36: Non disabilitas | U36: Tidak | AG36: =IF(D!BE32="","",IF(D!BE32<-3,"Gizi Buruk",IF(AND(D!BE32>=-3,D!BE32<-2),"Gizi Kurang",IF(AND(D!BE32>=-2,D!BE32<2),"Gizi Normal","Gizi Lebih")))) -> Gizi Lebih | AH36: =IF(D!BH32="","",IF(D!BH32<-3,"Sangat Pendek",IF(AND(D!BH32>=-3,D!BH32<-2),"Pendek",IF(AND(D!CB194>=-2,D!BH32<2),"Normal","Jangkung")))) -> Normal | AI36: =IF(D!BK32="","",(IF(D!BK32<-3,"Sangat Kurus",IF(AND(D!BK32>=-3,D!BK32<-2),"Kurus",IF(AND(D!BK32>=-2,D!BK32<2),"Normal","Gemuk"))))) -> Normal | AJ36: =IF(D!BN32="","",IF(D!BN32<-3,"Sgt Kurus",IF(AND(D!BN32>=-3,D!BN32<-2),"Kurus",IF(AND(D!BN32>=-2,D!BN32<1),"Normal",IF(AND(D!BN32>=1,D!BN32<2),"Gemuk","Obesitas"))))) -> Obesitas | AL36: Y
B37: 24 | C37: 45804 | D37: 3503112207220001 | E37: ADZRIL PRADIPTA AL BAIHAQI | F37: =IFERROR(DATEDIF(G37,C37,"Y") & " thn. " &IF(DATEDIF(G37,C37,"YM")<10,"0"&DATEDIF(G37,C37,"YM"),DATEDIF(G37,C37,"YM")) & " bln.","") -> 2 thn. 10 bln. | G37: =IFERROR(ABS(IF(VALUE(MID(D37,7,2))>40,VALUE(MID(D37,7,2))-40,VALUE(MID(D37,7,2)))&"-"&IF(VALUE(MID(D37,9,2))<10,"0"&VALUE(MID(D37,9,2)),VALUE(MID(D37,9,2)))&"-"&VALUE(MID(D37,11,2))),"") -> 44764 | H37: KARANGSOKO | I37: RT 09 | J37: 88 | K37: 161 | L37: 0 | O37: Non disabilitas | P37: Tidak | U37: Tidak | AG37: =IF(D!BE33="","",IF(D!BE33<-3,"Gizi Buruk",IF(AND(D!BE33>=-3,D!BE33<-2),"Gizi Kurang",IF(AND(D!BE33>=-2,D!BE33<2),"Gizi Normal","Gizi Lebih")))) -> Gizi Lebih | AH37: =IF(D!BH33="","",IF(D!BH33<-3,"Sangat Pendek",IF(AND(D!BH33>=-3,D!BH33<-2),"Pendek",IF(AND(D!CB195>=-2,D!BH33<2),"Normal","Jangkung")))) -> Pendek | AI37: =IF(D!BK33="","",(IF(D!BK33<-3,"Sangat Kurus",IF(AND(D!BK33>=-3,D!BK33<-2),"Kurus",IF(AND(D!BK33>=-2,D!BK33<2),"Normal","Gemuk"))))) -> Gemuk | AJ37: =IF(D!BN33="","",IF(D!BN33<-3,"Sgt Kurus",IF(AND(D!BN33>=-3,D!BN33<-2),"Kurus",IF(AND(D!BN33>=-2,D!BN33<1),"Normal",IF(AND(D!BN33>=1,D!BN33<2),"Gemuk","Obesitas"))))) -> Obesitas | AP37: Sesuai usia | AS37: Tidak
B38: 25 | C38: 45804 | D38: 3503111403230001 | E38: KENZIO XABIRU WIJAYA | F38: =IFERROR(DATEDIF(G38,C38,"Y") & " thn. " &IF(DATEDIF(G38,C38,"YM")<10,"0"&DATEDIF(G38,C38,"YM"),DATEDIF(G38,C38,"YM")) & " bln.","") -> 2 thn. 02 bln. | G38: =IFERROR(ABS(IF(VALUE(MID(D38,7,2))>40,VALUE(MID(D38,7,2))-40,VALUE(MID(D38,7,2)))&"-"&IF(VALUE(MID(D38,9,2))<10,"0"&VALUE(MID(D38,9,2)),VALUE(MID(D38,9,2)))&"-"&VALUE(MID(D38,11,2))),"") -> 44999 | H38: KARANGSOKO | I38: RT 11 | J38: 83 | K38: 10.5 | L38: 0 | O38: Non disabilitas | P38: Tidak | U38: Tidak | AG38: =IF(D!BE34="","",IF(D!BE34<-3,"Gizi Buruk",IF(AND(D!BE34>=-3,D!BE34<-2),"Gizi Kurang",IF(AND(D!BE34>=-2,D!BE34<2),"Gizi Normal","Gizi Lebih")))) -> Gizi Buruk | AH38: =IF(D!BH34="","",IF(D!BH34<-3,"Sangat Pendek",IF(AND(D!BH34>=-3,D!BH34<-2),"Pendek",IF(AND(D!CB196>=-2,D!BH34<2),"Normal","Jangkung")))) -> Normal | AI38: =IF(D!BK34="","",(IF(D!BK34<-3,"Sangat Kurus",IF(AND(D!BK34>=-3,D!BK34<-2),"Kurus",IF(AND(D!BK34>=-2,D!BK34<2),"Normal","Gemuk"))))) -> Sangat Kurus | AJ38: =IF(D!BN34="","",IF(D!BN34<-3,"Sgt Kurus",IF(AND(D!BN34>=-3,D!BN34<-2),"Kurus",IF(AND(D!BN34>=-2,D!BN34<1),"Normal",IF(AND(D!BN34>=1,D!BN34<2),"Gemuk","Obesitas"))))) -> Sgt Kurus | AP38: Sesuai usia | AS38: Tidak
B39: 26 | C39: 45804 | D39: 3503111503230002 | E39: ALVINO NUFFAIL HAIDAR SETIAWAN | F39: =IFERROR(DATEDIF(G39,C39,"Y") & " thn. " &IF(DATEDIF(G39,C39,"YM")<10,"0"&DATEDIF(G39,C39,"YM"),DATEDIF(G39,C39,"YM")) & " bln.","") -> 2 thn. 02 bln. | G39: =IFERROR(ABS(IF(VALUE(MID(D39,7,2))>40,VALUE(MID(D39,7,2))-40,VALUE(MID(D39,7,2)))&"-"&IF(VALUE(MID(D39,9,2))<10,"0"&VALUE(MID(D39,9,2)),VALUE(MID(D39,9,2)))&"-"&VALUE(MID(D39,11,2))),"") -> 45000 | H39: KARANGSOKO | I39: RT 11 RW 02 | J39: 82 | K39: 10.2 | L39: 0 | O39: Non disabilitas | P39: Tidak | U39: Tidak | AG39: =IF(D!BE35="","",IF(D!BE35<-3,"Gizi Buruk",IF(AND(D!BE35>=-3,D!BE35<-2),"Gizi Kurang",IF(AND(D!BE35>=-2,D!BE35<2),"Gizi Normal","Gizi Lebih")))) -> Gizi Buruk | AH39: =IF(D!BH35="","",IF(D!BH35<-3,"Sangat Pendek",IF(AND(D!BH35>=-3,D!BH35<-2),"Pendek",IF(AND(D!CB197>=-2,D!BH35<2),"Normal","Jangkung")))) -> Pendek | AI39: =IF(D!BK35="","",(IF(D!BK35<-3,"Sangat Kurus",IF(AND(D!BK35>=-3,D!BK35<-2),"Kurus",IF(AND(D!BK35>=-2,D!BK35<2),"Normal","Gemuk"))))) -> Sangat Kurus | AJ39: =IF(D!BN35="","",IF(D!BN35<-3,"Sgt Kurus",IF(AND(D!BN35>=-3,D!BN35<-2),"Kurus",IF(AND(D!BN35>=-2,D!BN35<1),"Normal",IF(AND(D!BN35>=1,D!BN35<2),"Gemuk","Obesitas"))))) -> Sgt Kurus | AP39: Sesuai usia | AS39: Tidak
B40: 27 | C40: 45804 | D40: 3503111410200004 | E40: MAHARDIKA KHOIRUL ALFARIS | F40: =IFERROR(DATEDIF(G40,C40,"Y") & " thn. " &IF(DATEDIF(G40,C40,"YM")<10,"0"&DATEDIF(G40,C40,"YM"),DATEDIF(G40,C40,"YM")) & " bln.","") -> 4 thn. 07 bln. | G40: =IFERROR(ABS(IF(VALUE(MID(D40,7,2))>40,VALUE(MID(D40,7,2))-40,VALUE(MID(D40,7,2)))&"-"&IF(VALUE(MID(D40,9,2))<10,"0"&VALUE(MID(D40,9,2)),VALUE(MID(D40,9,2)))&"-"&VALUE(MID(D40,11,2))),"") -> 44118 | H40: KARANGSOKO | I40: rt 11 | J40: 103 | K40: 16.9 | L40: 0 | M40: Tidak | O40: Non disabilitas | Q40: Tidak | R40: Tidak | S40: Tidak | U40: Tidak | AG40: =IF(D!BE36="","",IF(D!BE36<-3,"Gizi Buruk",IF(AND(D!BE36>=-3,D!BE36<-2),"Gizi Kurang",IF(AND(D!BE36>=-2,D!BE36<2),"Gizi Normal","Gizi Lebih")))) -> Gizi Buruk | AH40: =IF(D!BH36="","",IF(D!BH36<-3,"Sangat Pendek",IF(AND(D!BH36>=-3,D!BH36<-2),"Pendek",IF(AND(D!CB198>=-2,D!BH36<2),"Normal","Jangkung")))) -> Normal | AI40: =IF(D!BK36="","",(IF(D!BK36<-3,"Sangat Kurus",IF(AND(D!BK36>=-3,D!BK36<-2),"Kurus",IF(AND(D!BK36>=-2,D!BK36<2),"Normal","Gemuk"))))) -> Sangat Kurus | AJ40: =IF(D!BN36="","",IF(D!BN36<-3,"Sgt Kurus",IF(AND(D!BN36>=-3,D!BN36<-2),"Kurus",IF(AND(D!BN36>=-2,D!BN36<1),"Normal",IF(AND(D!BN36>=1,D!BN36<2),"Gemuk","Obesitas"))))) -> Sgt Kurus | AP40: Sesuai usia | AS40: Tidak | AU40: Tidak
B41: 28 | C41: 45804 | D41: 3503113008210001 | E41: GUSTAV ANDRYAN AIRLANGGA | F41: =IFERROR(DATEDIF(G41,C41,"Y") & " thn. " &IF(DATEDIF(G41,C41,"YM")<10,"0"&DATEDIF(G41,C41,"YM"),DATEDIF(G41,C41,"YM")) & " bln.","") -> 3 thn. 08 bln. | G41: =IFERROR(ABS(IF(VALUE(MID(D41,7,2))>40,VALUE(MID(D41,7,2))-40,VALUE(MID(D41,7,2)))&"-"&IF(VALUE(MID(D41,9,2))<10,"0"&VALUE(MID(D41,9,2)),VALUE(MID(D41,9,2)))&"-"&VALUE(MID(D41,11,2))),"") -> 44438 | H41: 0 | I41: rt 11 rw 2 | J41: 104 | K41: 17.1 | L41: 0 | M41: Tidak | O41: Non disabilitas | Q41: Tidak | R41: Tidak | S41: Tidak | U41: Tidak | AG41: =IF(D!BE37="","",IF(D!BE37<-3,"Gizi Buruk",IF(AND(D!BE37>=-3,D!BE37<-2),"Gizi Kurang",IF(AND(D!BE37>=-2,D!BE37<2),"Gizi Normal","Gizi Lebih")))) -> Gizi Buruk | AH41: =IF(D!BH37="","",IF(D!BH37<-3,"Sangat Pendek",IF(AND(D!BH37>=-3,D!BH37<-2),"Pendek",IF(AND(D!CB199>=-2,D!BH37<2),"Normal","Jangkung")))) -> Normal | AI41: =IF(D!BK37="","",(IF(D!BK37<-3,"Sangat Kurus",IF(AND(D!BK37>=-3,D!BK37<-2),"Kurus",IF(AND(D!BK37>=-2,D!BK37<2),"Normal","Gemuk"))))) -> Sangat Kurus | AJ41: =IF(D!BN37="","",IF(D!BN37<-3,"Sgt Kurus",IF(AND(D!BN37>=-3,D!BN37<-2),"Kurus",IF(AND(D!BN37>=-2,D!BN37<1),"Normal",IF(AND(D!BN37>=1,D!BN37<2),"Gemuk","Obesitas"))))) -> Sgt Kurus | AP41: Sesuai usia | AS41: Tidak | AU41: Tidak
...

Sheet D
AA10: 1 | AB10: =PKG!C14 -> 45779 | AC10: =PKG!G14 -> 45658 | AD10: =IFERROR(IF(VALUE(MID(PKG!D14,7,2))>40,"P","L"),"") -> L | AE10: =PKG!H14 -> KARANGSOKO | AF10: =IFERROR(VLOOKUP(AE10,$AW$10:$AX$16,2,0),"") -> 1 | AG10: =IFERROR(IF(AND(AE10<>"",AF10=""),"Luar Wil",AE10)&VLOOKUP(DAY(AB10),$AS$10:$AT$14,2),"") -> KARANGSOKOMg 1 | AH10: =IFERROR(DATEDIF(AC10,AB10,"Y"),"") -> 0 | AI10: =IFERROR(DATEDIF(AC10,AB10,"yM"),"") -> 4 | AJ10: =IFERROR(DATEDIF(AC10,AB10,"M"),"") -> 4 | AK10: =IFERROR(VLOOKUP(VLOOKUP(AJ10,$AM$10:$AN$13,2)&AD10,$AQ$10:$AR$17,2),"") | AM10: 216 | AN10: A | AO10: 18 | AP10: A | AQ10: AL | AR10: PKG USIA 18-29 TH | AS10: 1 | AT10: Mg 1 | AU10: =DAY(AB10) -> 2 | AV10: =VLOOKUP(DAY(AB10),$AS$10:$AT$14,2) -> Mg 1 | AW10: KARANGSOKO | AX10: 1 | AZ10: =IFERROR(DATEDIF(AC10,AB10,"M"),"") -> 4 | BA10: =IF(AZ10>216,"D",AZ10) -> 4 | BB10: =PKG!J14 -> 62 | BC10: =PKG!K14 -> 6.2 | BD10: =IFERROR(IF(AD10="L",VLOOKUP(BA10,$BZ$10:$CF$226,2),IF(AD10="P",VLOOKUP(BA10,$BZ$10:$CF$226,5),"")),"") -> 6.7 | BE10: =IFERROR((BC10-BD10)/IF(AD10="L",(IF(OR(BC10>BD10,BC10=BD10),VLOOKUP(BA10,$BZ$10:$CF$226,4),VLOOKUP(BA10,$BZ$10:$CF$226,3))),IF(OR(BC10>BD10,BC10=BD10),VLOOKUP(BA10,$BZ$10:$CF$226,7),VLOOKUP(BA10,$BZ$10:$CF$226,6))),"") -> -7.1651235 | BG10: =IFERROR(IF(AD10="L",VLOOKUP(BA10,$CH$10:$CN$226,2),IF(AD10="P",VLOOKUP(BA10,$CH$10:$CN$226,5),"")),"") -> 63.7 | BH10: =IFERROR((BB10-BG10)/IF(AD10="L",(IF(OR(BB10>BG10,BB10=BG10),VLOOKUP(BA10,$CH$10:$CN$226,4),VLOOKUP(BA10,$CH$10:$CN$226,3))),IF(OR(BB10>BG10,BB10=BG10),VLOOKUP(BA10,$CH$10:$CN$226,7),VLOOKUP(BA10,$CH$10:$CN$226,6))),"") -> -0.62962963 | BJ10: =IFERROR(IF(AD10="L",VLOOKUP(BB10,$CP$10:$CV$272,2),IF(AD10="P",VLOOKUP(BB10,$CP$10:$CV$272,5),"")),"") -> 6.2 | BK10: =IFERROR((BC10-BJ10)/IF(AD10="L",(IF(OR(BC10>BJ10,BC10=BJ10),VLOOKUP(BB10,$CP$10:$CV$272,4),VLOOKUP(BB10,$CP$10:$CV$272,3))),IF(OR(BC10>BJ10,BC10=BJ10),VLOOKUP(BB10,$CP$10:$CV$272,7),VLOOKUP(BB10,$CP$10:$CV$272,6))),"") -> -8.4980159 | BM10: =IFERROR(BC10/(BB10/100)^2,"") -> 0.65397734 | BN10: =IFERROR(IF(BM10>DP10,3+(BM10-DP10)/(DP10-DQ10),IF(BM10>DQ10,2+(BM10-DQ10)/(DP10-DQ10),IF(BM10>DR10,1+(BM10-DR10)/(DQ10-DR10),IF(BM10>DS10,(BM10-DS10)/(DR10-DS10),IF(BM10>DT10,-1+(BM10-DT10)/(DS10-DT10),IF(BM10>DU10,-2+(BM10-DU10)/(DT10-DU10),IF(BM10>DV10,-3+(BM10-DV10)/(DU10-DV10),-3-(DV10-BM10)/(DU10-DV10)))))))),"") -> -14.587293 | BZ10: 0 | CA10: 3.3 | CB10: 0.4 | CC10: 0.5 | CD10: 3.2 | CE10: 0.5 | CF10: 0.4 | CH10: 0 | CI10: 50.5 | CJ10: 2.3 | CK10: 2.3 | CL10: 49.9 | CM10: 2.2 | CN10: 2.1 | CP10: 49 | CQ10: 3.1 | CR10: 0.3 | CS10: 0.6 | CT10: 3.3 | CU10: 0.4 | CV10: 0.3 | CZ10: 0 | DA10: 18.1 | DB10: 16.3 | DC10: 14.8 | DD10: 13.4 | DE10: 12.2 | DF10: 11.1 | DG10: 10.2 | DH10: 17.7 | DI10: 16.1 | DJ10: 14.6 | DK10: 13.3 | DL10: 12.2 | DM10: 11.1 | DN10: 10.1 | DP10: =IFERROR(IF(AD10="L",VLOOKUP(BA10,$CZ$10:$DN$82,2),IF(AD10="P",VLOOKUP(BA10,$CZ$10:$DN$82,9),0)),"") -> 22.1 | DQ10: =IFERROR(IF(AD10="L",VLOOKUP(BA10,$CZ$10:$DN$82,3),IF(AD10="P",VLOOKUP(BA10,$CZ$10:$DN$82,10),0)),"") -> 20.3 | DR10: =IFERROR(IF(AD10="L",VLOOKUP(BA10,$CZ$10:$DN$82,4),IF(AD10="P",VLOOKUP(BA10,$CZ$10:$DN$82,11),0)),"") -> 18.7 | DS10: =IFERROR(IF(AD10="L",VLOOKUP(BA10,$CZ$10:$DN$82,5),IF(AD10="P",VLOOKUP(BA10,$CZ$10:$DN$82,12),0)),"") -> 17.2 | DT10: =IFERROR(IF(AD10="L",VLOOKUP(BA10,$CZ$10:$DN$82,6),IF(AD10="P",VLOOKUP(BA10,$CZ$10:$DN$82,13),0)),"") -> 15.8 | DU10: =IFERROR(IF(AD10="L",VLOOKUP(BA10,$CZ$10:$DN$82,7),IF(AD10="P",VLOOKUP(BA10,$CZ$10:$DN$82,14),0)),"") -> 14.5 | DV10: =IFERROR(IF(AD10="L",VLOOKUP(BA10,$CZ$10:$DN$82,8),IF(AD10="P",VLOOKUP(BA10,$CZ$10:$DN$82,15),0)),"") -> 13.4 | DZ10: 0 | EA10: 38.3 | EB10: 37 | EC10: 35.7 | ED10: 34.5 | EE10: 33.2 | EF10: 31.9 | EG10: 30.7 | EH10: 37.4 | EI10: 36.2 | EJ10: 35.1 | EK10: 33.9 | EL10: 32.7 | EM10: 31.5 | EN10: 30.3
AA11: 2 | AB11: =PKG!C15 -> 45780 | AC11: =PKG!G15 -> 45744 | AD11: =IFERROR(IF(VALUE(MID(PKG!D15,7,2))>40,"P","L"),"") -> L | AE11: =PKG!H15 -> KARANGSOKO | AF11: =IFERROR(VLOOKUP(AE11,$AW$10:$AX$16,2,0),"") -> 1 | AG11: =IFERROR(IF(AND(AE11<>"",AF11=""),"Luar Wil",AE11)&VLOOKUP(DAY(AB11),$AS$10:$AT$14,2),"") -> KARANGSOKOMg 1 | AH11: =IFERROR(DATEDIF(AC11,AB11,"Y"),"") -> 0 | AI11: =IFERROR(DATEDIF(AC11,AB11,"yM"),"") -> 1 | AJ11: =IFERROR(DATEDIF(AC11,AB11,"M"),"") -> 1 | AK11: =IFERROR(VLOOKUP(VLOOKUP(AJ11,$AM$10:$AN$13,2)&AD11,$AQ$10:$AR$17,2),"") | AM11: 360 | AN11: B | AO11: 30 | AP11: B | AQ11: AP | AR11: PKG USIA 18-29 TH | AS11: 7 | AT11: Mg 2 | AW11: KELUTAN | AX11: 3 | AZ11: =IFERROR(DATEDIF(AC11,AB11,"M"),"") -> 1 | BA11: =IF(AZ11>216,"D",AZ11) -> 1 | BB11: =PKG!J15 -> 57 | BC11: =PKG!K15 -> 5.6 | BD11: =IFERROR(IF(AD11="L",VLOOKUP(BA11,$BZ$10:$CF$226,2),IF(AD11="P",VLOOKUP(BA11,$BZ$10:$CF$226,5),"")),"") -> 4.3 | BE11: =IFERROR((BC11-BD11)/IF(AD11="L",(IF(OR(BC11>BD11,BC11=BD11),VLOOKUP(BA11,$BZ$10:$CF$226,4),VLOOKUP(BA11,$BZ$10:$CF$226,3))),IF(OR(BC11>BD11,BC11=BD11),VLOOKUP(BA11,$BZ$10:$CF$226,7),VLOOKUP(BA11,$BZ$10:$CF$226,6))),"") -> 1.8571429 | BG11: =IFERROR(IF(AD11="L",VLOOKUP(BA11,$CH$10:$CN$226,2),IF(AD11="P",VLOOKUP(BA11,$CH$10:$CN$226,5),"")),"") -> 54.6 | BH11: =IFERROR((BB11-BG11)/IF(AD11="L",(IF(OR(BB11>BG11,BB11=BG11),VLOOKUP(BA11,$CH$10:$CN$226,4),VLOOKUP(BA11,$CH$10:$CN$226,3))),IF(OR(BB11>BG11,BB11=BG11),VLOOKUP(BA11,$CH$10:$CN$226,7),VLOOKUP(BA11,$CH$10:$CN$226,6))),"") -> 0.96 | BJ11: =IFERROR(IF(AD11="L",VLOOKUP(BB11,$CP$10:$CV$272,2),IF(AD11="P",VLOOKUP(BB11,$CP$10:$CV$272,5),"")),"") -> 4.8 | BK11: =IFERROR((BC11-BJ11)/IF(AD11="L",(IF(OR(BC11>BJ11,BC11=BJ11),VLOOKUP(BB11,$CP$10:$CV$272,4),VLOOKUP(BB11,$CP$10:$CV$272,3))),IF(OR(BC11>BJ11,BC11=BJ11),VLOOKUP(BB11,$CP$10:$CV$272,7),VLOOKUP(BB11,$CP$10:$CV$272,6))),"") -> 1.1428571 | BM11: =IFERROR(BC11/(BB11/100)^2,"") -> 17.236073 | BN11: =IFERROR(IF(BM11>DP11,3+(BM11-DP11)/(DP11-DQ11),IF(BM11>DQ11,2+(BM11-DQ11)/(DP11-DQ11),IF(BM11>DR11,1+(BM11-DR11)/(DQ11-DR11),IF(BM11>DS11,(BM11-DS11)/(DR11-DS11),IF(BM11>DT11,-1+(BM11-DT11)/(DS11-DT11),IF(BM11>DU11,-2+(BM11-DU11)/(DT11-DU11),IF(BM11>DV11,-3+(BM11-DV11)/(DU11-DV11),-3-(DV11-BM11)/(DU11-DV11)))))))),"") -> 1.6240484 | BZ11: 1 | CA11: 4.3 | CB11: 0.7 | CC11: 0.7 | CD11: 4 | CE11: 0.6 | CF11: 0.5 | CH11: 1 | CI11: 54.6 | CJ11: 2.5 | CK11: 2.5 | CL11: 53.5 | CM11: 2.3 | CN11: 2.3 | CP11: 49.5 | CQ11: 3.2 | CR11: 0.3 | CS11: 0.6 | CT11: 3.4 | CU11: 0.4 | CV11: 0.3 | CZ11: 1 | DA11: 19.4 | DB11: 17.8 | DC11: 16.3 | DD11: 14.9 | DE11: 13.6 | DF11: 12.4 | DG11: 11.3 | DH11: 19.1 | DI11: 17.5 | DJ11: 16 | DK11: 14.6 | DL11: 13.2 | DM11: 12 | DN11: 10.8 | DP11: =IFERROR(IF(AD11="L",VLOOKUP(BA11,$CZ$10:$DN$82,2),IF(AD11="P",VLOOKUP(BA11,$CZ$10:$DN$82,9),0)),"") -> 19.4 | DQ11: =IFERROR(IF(AD11="L",VLOOKUP(BA11,$CZ$10:$DN$82,3),IF(AD11="P",VLOOKUP(BA11,$CZ$10:$DN$82,10),0)),"") -> 17.8 | DR11: =IFERROR(IF(AD11="L",VLOOKUP(BA11,$CZ$10:$DN$82,4),IF(AD11="P",VLOOKUP(BA11,$CZ$10:$DN$82,11),0)),"") -> 16.3 | DS11: =IFERROR(IF(AD11="L",VLOOKUP(BA11,$CZ$10:$DN$82,5),IF(AD11="P",VLOOKUP(BA11,$CZ$10:$DN$82,12),0)),"") -> 14.9 | DT11: =IFERROR(IF(AD11="L",VLOOKUP(BA11,$CZ$10:$DN$82,6),IF(AD11="P",VLOOKUP(BA11,$CZ$10:$DN$82,13),0)),"") -> 13.6 | DU11: =IFERROR(IF(AD11="L",VLOOKUP(BA11,$CZ$10:$DN$82,7),IF(AD11="P",VLOOKUP(BA11,$CZ$10:$DN$82,14),0)),"") -> 12.4 | DV11: =IFERROR(IF(AD11="L",VLOOKUP(BA11,$CZ$10:$DN$82,8),IF(AD11="P",VLOOKUP(BA11,$CZ$10:$DN$82,15),0)),"") -> 11.3 | DZ11: 1 | EA11: 40.8 | EB11: 39.6 | EC11: 38.4 | ED11: 37.3 | EE11: 36.1 | EF11: 34.9 | EG11: 33.8 | EH11: 40.1 | EI11: 38.9 | EJ11: 37.7 | EK11: 36.5 | EL11: 35.4 | EM11: 34.2 | EN11: 33
AA12: 3 | AB12: =PKG!C16 -> 45782 | AC12: =PKG!G16 -> 45663 | AD12: =IFERROR(IF(VALUE(MID(PKG!D16,7,2))>40,"P","L"),"") -> P | AE12: =PKG!H16 -> KARANGSOKO | AF12: =IFERROR(VLOOKUP(AE12,$AW$10:$AX$16,2,0),"") -> 1 | AG12: =IFERROR(IF(AND(AE12<>"",AF12=""),"Luar Wil",AE12)&VLOOKUP(DAY(AB12),$AS$10:$AT$14,2),"") -> KARANGSOKOMg 1 | AH12: =IFERROR(DATEDIF(AC12,AB12,"Y"),"") -> 0 | AI12: =IFERROR(DATEDIF(AC12,AB12,"yM"),"") -> 3 | AJ12: =IFERROR(DATEDIF(AC12,AB12,"M"),"") -> 3 | AK12: =IFERROR(VLOOKUP(VLOOKUP(AJ12,$AM$10:$AN$13,2)&AD12,$AQ$10:$AR$17,2),"") | AM12: 480 | AN12: C | AO12: 40 | AP12: C | AQ12: BL | AR12: PKG USIA 30-39 TH (Laki2) | AS12: 14 | AT12: Mg 3 | AW12: Luar Wil | AX12: 7 | AZ12: =IFERROR(DATEDIF(AC12,AB12,"M"),"") -> 3 | BA12: =IF(AZ12>216,"D",AZ12) -> 3 | BB12: =PKG!J16 -> 61 | BC12: =PKG!K16 -> 7 | BD12: =IFERROR(IF(AD12="L",VLOOKUP(BA12,$BZ$10:$CF$226,2),IF(AD12="P",VLOOKUP(BA12,$BZ$10:$CF$226,5),"")),"") -> 5.4 | BE12: =IFERROR((BC12-BD12)/IF(AD12="L",(IF(OR(BC12>BD12,BC12=BD12),VLOOKUP(BA12,$BZ$10:$CF$226,4),VLOOKUP(BA12,$BZ$10:$CF$226,3))),IF(OR(BC12>BD12,BC12=BD12),VLOOKUP(BA12,$BZ$10:$CF$226,7),VLOOKUP(BA12,$BZ$10:$CF$226,6))),"") -> 2 | BG12: =IFERROR(IF(AD12="L",VLOOKUP(BA12,$CH$10:$CN$226,2),IF(AD12="P",VLOOKUP(BA12,$CH$10:$CN$226,5),"")),"") -> 59.5 | BH12: =IFERROR((BB12-BG12)/IF(AD12="L",(IF(OR(BB12>BG12,BB12=BG12),VLOOKUP(BA12,$CH$10:$CN$226,4),VLOOKUP(BA12,$CH$10:$CN$226,3))),IF(OR(BB12>BG12,BB12=BG12),VLOOKUP(BA12,$CH$10:$CN$226,7),VLOOKUP(BA12,$CH$10:$CN$226,6))),"") -> 0.625 | BJ12: =IFERROR(IF(AD12="L",VLOOKUP(BB12,$CP$10:$CV$272,2),IF(AD12="P",VLOOKUP(BB12,$CP$10:$CV$272,5),"")),"") -> 5.8 | BK12: =IFERROR((BC12-BJ12)/IF(AD12="L",(IF(OR(BC12>BJ12,BC12=BJ12),VLOOKUP(BB12,$CP$10:$CV$272,4),VLOOKUP(BB12,$CP$10:$CV$272,3))),IF(OR(BC12>BJ12,BC12=BJ12),VLOOKUP(BB12,$CP$10:$CV$272,7),VLOOKUP(BB12,$CP$10:$CV$272,6))),"") -> 2 | BM12: =IFERROR(BC12/(BB12/100)^2,"") -> 18.812147 | BN12: =IFERROR(IF(BM12>DP12,3+(BM12-DP12)/(DP12-DQ12),IF(BM12>DQ12,2+(BM12-DQ12)/(DP12-DQ12),IF(BM12>DR12,1+(BM12-DR12)/(DQ12-DR12),IF(BM12>DS12,(BM12-DS12)/(DR12-DS12),IF(BM12>DT12,-1+(BM12-DT12)/(DS12-DT12),IF(BM12>DU12,-2+(BM12-DU12)/(DT12-DU12),IF(BM12>DV12,-3+(BM12-DV12)/(DU12-DV12),-3-(DV12-BM12)/(DU12-DV12)))))))),"") -> 1.5067485 | BZ12: 2 | CA12: 5.2 | CB12: 0.9 | CC12: 0.8 | CD12: 4.7 | CE12: 0.7 | CF12: 0.7 | CH12: 2 | CI12: 58.1 | CJ12: 2.6 | CK12: 2.6 | CL12: 56.8 | CM12: 2.4 | CN12: 2.4 | CP12: 50 | CQ12: 3.3 | CR12: 0.4 | CS12: 0.6 | CT12: 3.4 | CU12: 0.4 | CV12: 0.4 | CZ12: 2 | DA12: 21.1 | DB12: 19.4 | DC12: 17.8 | DD12: 16.3 | DE12: 15 | DF12: 13.7 | DG12: 12.5 | DH12: 20.7 | DI12: 19 | DJ12: 17.3 | DK12: 15.8 | DL12: 14.3 | DM12: 13 | DN12: 11.8 | DP12: =IFERROR(IF(AD12="L",VLOOKUP(BA12,$CZ$10:$DN$82,2),IF(AD12="P",VLOOKUP(BA12,$CZ$10:$DN$82,9),0)),"") -> 21.5 | DQ12: =IFERROR(IF(AD12="L",VLOOKUP(BA12,$CZ$10:$DN$82,3),IF(AD12="P",VLOOKUP(BA12,$CZ$10:$DN$82,10),0)),"") -> 19.7 | DR12: =IFERROR(IF(AD12="L",VLOOKUP(BA12,$CZ$10:$DN$82,4),IF(AD12="P",VLOOKUP(BA12,$CZ$10:$DN$82,11),0)),"") -> 17.9 | DS12: =IFERROR(IF(AD12="L",VLOOKUP(BA12,$CZ$10:$DN$82,5),IF(AD12="P",VLOOKUP(BA12,$CZ$10:$DN$82,12),0)),"") -> 16.4 | DT12: =IFERROR(IF(AD12="L",VLOOKUP(BA12,$CZ$10:$DN$82,6),IF(AD12="P",VLOOKUP(BA12,$CZ$10:$DN$82,13),0)),"") -> 14.9 | DU12: =IFERROR(IF(AD12="L",VLOOKUP(BA12,$CZ$10:$DN$82,7),IF(AD12="P",VLOOKUP(BA12,$CZ$10:$DN$82,14),0)),"") -> 13.6 | DV12: =IFERROR(IF(AD12="L",VLOOKUP(BA12,$CZ$10:$DN$82,8),IF(AD12="P",VLOOKUP(BA12,$CZ$10:$DN$82,15),0)),"") -> 12.4 | DZ12: 2 | EA12: 42.6 | EB12: 41.5 | EC12: 40.3 | ED12: 39.1 | EE12: 38 | EF12: 36.8 | EG12: 35.6 | EH12: 41.9 | EI12: 40.7 | EJ12: 39.5 | EK12: 38.3 | EL12: 37 | EM12: 35.8 | EN12: 34.6
AA13: 4 | AB13: =PKG!C17 -> 45787 | AC13: =PKG!G17 -> 45752 | AD13: =IFERROR(IF(VALUE(MID(PKG!D17,7,2))>40,"P","L"),"") -> P | AE13: =PKG!H17 -> KARANGSOKO | AF13: =IFERROR(VLOOKUP(AE13,$AW$10:$AX$16,2,0),"") -> 1 | AG13: =IFERROR(IF(AND(AE13<>"",AF13=""),"Luar Wil",AE13)&VLOOKUP(DAY(AB13),$AS$10:$AT$14,2),"") -> KARANGSOKOMg 2 | AH13: =IFERROR(DATEDIF(AC13,AB13,"Y"),"") -> 0 | AI13: =IFERROR(DATEDIF(AC13,AB13,"yM"),"") -> 1 | AJ13: =IFERROR(DATEDIF(AC13,AB13,"M"),"") -> 1 | AK13: =IFERROR(VLOOKUP(VLOOKUP(AJ13,$AM$10:$AN$13,2)&AD13,$AQ$10:$AR$17,2),"") | AM13: 720 | AN13: D | AO13: 60 | AP13: D | AQ13: BP | AR13: PKG USIA 30-39 TH (Perempuan) | AS13: 21 | AT13: Mg 4 | AW13: NGANTRU | AX13: 6 | AZ13: =IFERROR(DATEDIF(AC13,AB13,"M"),"") -> 1 | BA13: =IF(AZ13>216,"D",AZ13) -> 1 | BB13: =PKG!J17 -> 50 | BC13: =PKG!K17 -> 4.8 | BD13: =IFERROR(IF(AD13="L",VLOOKUP(BA13,$BZ$10:$CF$226,2),IF(AD13="P",VLOOKUP(BA13,$BZ$10:$CF$226,5),"")),"") -> 4 | BE13: =IFERROR((BC13-BD13)/IF(AD13="L",(IF(OR(BC13>BD13,BC13=BD13),VLOOKUP(BA13,$BZ$10:$CF$226,4),VLOOKUP(BA13,$BZ$10:$CF$226,3))),IF(OR(BC13>BD13,BC13=BD13),VLOOKUP(BA13,$BZ$10:$CF$226,7),VLOOKUP(BA13,$BZ$10:$CF$226,6))),"") -> 1.6 | BG13: =IFERROR(IF(AD13="L",VLOOKUP(BA13,$CH$10:$CN$226,2),IF(AD13="P",VLOOKUP(BA13,$CH$10:$CN$226,5),"")),"") -> 53.5 | BH13: =IFERROR((BB13-BG13)/IF(AD13="L",(IF(OR(BB13>BG13,BB13=BG13),VLOOKUP(BA13,$CH$10:$CN$226,4),VLOOKUP(BA13,$CH$10:$CN$226,3))),IF(OR(BB13>BG13,BB13=BG13),VLOOKUP(BA13,$CH$10:$CN$226,7),VLOOKUP(BA13,$CH$10:$CN$226,6))),"") -> -1.5217391 | BJ13: =IFERROR(IF(AD13="L",VLOOKUP(BB13,$CP$10:$CV$272,2),IF(AD13="P",VLOOKUP(BB13,$CP$10:$CV$272,5),"")),"") -> 3.4 | BK13: =IFERROR((BC13-BJ13)/IF(AD13="L",(IF(OR(BC13>BJ13,BC13=BJ13),VLOOKUP(BB13,$CP$10:$CV$272,4),VLOOKUP(BB13,$CP$10:$CV$272,3))),IF(OR(BC13>BJ13,BC13=BJ13),VLOOKUP(BB13,$CP$10:$CV$272,7),VLOOKUP(BB13,$CP$10:$CV$272,6))),"") -> 3.5 | BM13: =IFERROR(BC13/(BB13/100)^2,"") -> 19.2 | BN13: =IFERROR(IF(BM13>DP13,3+(BM13-DP13)/(DP13-DQ13),IF(BM13>DQ13,2+(BM13-DQ13)/(DP13-DQ13),IF(BM13>DR13,1+(BM13-DR13)/(DQ13-DR13),IF(BM13>DS13,(BM13-DS13)/(DR13-DS13),IF(BM13>DT13,-1+(BM13-DT13)/(DS13-DT13),IF(BM13>DU13,-2+(BM13-DU13)/(DT13-DU13),IF(BM13>DV13,-3+(BM13-DV13)/(DU13-DV13),-3-(DV13-BM13)/(DU13-DV13)))))))),"") -> 3.0625 | BZ13: 3 | CA13: 6 | CB13: 1 | CC13: 0.9 | CD13: 5.4 | CE13: 0.7 | CF13: 0.8 | CH13: 3 | CI13: 61.1 | CJ13: 2.6 | CK13: 2.6 | CL13: 59.5 | CM13: 2.4 | CN13: 2.4 | CP13: 50.5 | CQ13: 3.4 | CR13: 0.4 | CS13: 0.6 | CT13: 3.5 | CU13: 0.4 | CV13: 0.4 | CZ13: 3 | DA13: 21.8 | DB13: 20 | DC13: 18.4 | DD13: 16.9 | DE13: 15.5 | DF13: 14.3 | DG13: 13.1 | DH13: 21.5 | DI13: 19.7 | DJ13: 17.9 | DK13: 16.4 | DL13: 14.9 | DM13: 13.6 | DN13: 12.4 | DP13: =IFERROR(IF(AD13="L",VLOOKUP(BA13,$CZ$10:$DN$82,2),IF(AD13="P",VLOOKUP(BA13,$CZ$10:$DN$82,9),0)),"") -> 19.1 | DQ13: =IFERROR(IF(AD13="L",VLOOKUP(BA13,$CZ$10:$DN$82,3),IF(AD13="P",VLOOKUP(BA13,$CZ$10:$DN$82,10),0)),"") -> 17.5 | DR13: =IFERROR(IF(AD13="L",VLOOKUP(BA13,$CZ$10:$DN$82,4),IF(AD13="P",VLOOKUP(BA13,$CZ$10:$DN$82,11),0)),"") -> 16 | DS13: =IFERROR(IF(AD13="L",VLOOKUP(BA13,$CZ$10:$DN$82,5),IF(AD13="P",VLOOKUP(BA13,$CZ$10:$DN$82,12),0)),"") -> 14.6 | DT13: =IFERROR(IF(AD13="L",VLOOKUP(BA13,$CZ$10:$DN$82,6),IF(AD13="P",VLOOKUP(BA13,$CZ$10:$DN$82,13),0)),"") -> 13.2 | DU13: =IFERROR(IF(AD13="L",VLOOKUP(BA13,$CZ$10:$DN$82,7),IF(AD13="P",VLOOKUP(BA13,$CZ$10:$DN$82,14),0)),"") -> 12 | DV13: =IFERROR(IF(AD13="L",VLOOKUP(BA13,$CZ$10:$DN$82,8),IF(AD13="P",VLOOKUP(BA13,$CZ$10:$DN$82,15),0)),"") -> 10.8 | DZ13: 3 | EA13: 44.1 | EB13: 42.9 | EC13: 41.7 | ED13: 40.5 | EE13: 39.3 | EF13: 38.1 | EG13: 37 | EH13: 43.3 | EI13: 42 | EJ13: 40.8 | EK13: 39.5 | EL13: 38.3 | EM13: 37.1 | EN13: 35.8
AA14: 5 | AB14: =PKG!C18 -> 45798 | AC14: =PKG!G18 -> 45729 | AD14: =IFERROR(IF(VALUE(MID(PKG!D18,7,2))>40,"P","L"),"") -> P | AE14: =PKG!H18 -> karangsoko | AF14: =IFERROR(VLOOKUP(AE14,$AW$10:$AX$16,2,0),"") -> 1 | AG14: =IFERROR(IF(AND(AE14<>"",AF14=""),"Luar Wil",AE14)&VLOOKUP(DAY(AB14),$AS$10:$AT$14,2),"") -> karangsokoMg 4 | AH14: =IFERROR(DATEDIF(AC14,AB14,"Y"),"") -> 0 | AI14: =IFERROR(DATEDIF(AC14,AB14,"yM"),"") -> 2 | AJ14: =IFERROR(DATEDIF(AC14,AB14,"M"),"") -> 2 | AK14: =IFERROR(VLOOKUP(VLOOKUP(AJ14,$AM$10:$AN$13,2)&AD14,$AQ$10:$AR$17,2),"") | AQ14: CL | AR14: PKG USIA 40-59 TH (Laki2) | AS14: 28 | AT14: Mg 5 | AW14: SAMBIREJO | AX14: 2 | AZ14: =IFERROR(DATEDIF(AC14,AB14,"M"),"") -> 2 | BA14: =IF(AZ14>216,"D",AZ14) -> 2 | BB14: =PKG!J18 -> 52 | BC14: =PKG!K18 -> 5 | BD14: =IFERROR(IF(AD14="L",VLOOKUP(BA14,$BZ$10:$CF$226,2),IF(AD14="P",VLOOKUP(BA14,$BZ$10:$CF$226,5),"")),"") -> 4.7 | BE14: =IFERROR((BC14-BD14)/IF(AD14="L",(IF(OR(BC14>BD14,BC14=BD14),VLOOKUP(BA14,$BZ$10:$CF$226,4),VLOOKUP(BA14,$BZ$10:$CF$226,3))),IF(OR(BC14>BD14,BC14=BD14),VLOOKUP(BA14,$BZ$10:$CF$226,7),VLOOKUP(BA14,$BZ$10:$CF$226,6))),"") -> 0.42857143 | BG14: =IFERROR(IF(AD14="L",VLOOKUP(BA14,$CH$10:$CN$226,2),IF(AD14="P",VLOOKUP(BA14,$CH$10:$CN$226,5),"")),"") -> 56.8 | BH14: =IFERROR((BB14-BG14)/IF(AD14="L",(IF(OR(BB14>BG14,BB14=BG14),VLOOKUP(BA14,$CH$10:$CN$226,4),VLOOKUP(BA14,$CH$10:$CN$226,3))),IF(OR(BB14>BG14,BB14=BG14),VLOOKUP(BA14,$CH$10:$CN$226,7),VLOOKUP(BA14,$CH$10:$CN$226,6))),"") -> -2 | BJ14: =IFERROR(IF(AD14="L",VLOOKUP(BB14,$CP$10:$CV$272,2),IF(AD14="P",VLOOKUP(BB14,$CP$10:$CV$272,5),"")),"") -> 3.7 | BK14: =IFERROR((BC14-BJ14)/IF(AD14="L",(IF(OR(BC14>BJ14,BC14=BJ14),VLOOKUP(BB14,$CP$10:$CV$272,4),VLOOKUP(BB14,$CP$10:$CV$272,3))),IF(OR(BC14>BJ14,BC14=BJ14),VLOOKUP(BB14,$CP$10:$CV$272,7),VLOOKUP(BB14,$CP$10:$CV$272,6))),"") -> 2.6 | BM14: =IFERROR(BC14/(BB14/100)^2,"") -> 18.491124 | BN14: =IFERROR(IF(BM14>DP14,3+(BM14-DP14)/(DP14-DQ14),IF(BM14>DQ14,2+(BM14-DQ14)/(DP14-DQ14),IF(BM14>DR14,1+(BM14-DR14)/(DQ14-DR14),IF(BM14>DS14,(BM14-DS14)/(DR14-DS14),IF(BM14>DT14,-1+(BM14-DT14)/(DS14-DT14),IF(BM14>DU14,-2+(BM14-DU14)/(DT14-DU14),IF(BM14>DV14,-3+(BM14-DV14)/(DU14-DV14),-3-(DV14-BM14)/(DU14-DV14)))))))),"") -> 1.7006613 | BZ14: 4 | CA14: 6.7 | CB14: 1 | CC14: 0.9 | CD14: 6 | CE14: 0.7 | CF14: 0.9 | CH14: 4 | CI14: 63.7 | CJ14: 2.7 | CK14: 2.7 | CL14: 62 | CM14: 2.6 | CN14: 2.6 | CP14: 51 | CQ14: 3.5 | CR14: 0.4 | CS14: 0.5 | CT14: 3.5 | CU14: 0.5 | CV14: 0.5 | CZ14: 4 | DA14: 22.1 | DB14: 20.3 | DC14: 18.7 | DD14: 17.2 | DE14: 15.8 | DF14: 14.5 | DG14: 13.4 | DH14: 22 | DI14: 20 | DJ14: 18.3 | DK14: 16.7 | DL14: 15.2 | DM14: 13.9 | DN14: 12.7 | DP14: =IFERROR(IF(AD14="L",VLOOKUP(BA14,$CZ$10:$DN$82,2),IF(AD14="P",VLOOKUP(BA14,$CZ$10:$DN$82,9),0)),"") -> 20.7 | DQ14: =IFERROR(IF(AD14="L",VLOOKUP(BA14,$CZ$10:$DN$82,3),IF(AD14="P",VLOOKUP(BA14,$CZ$10:$DN$82,10),0)),"") -> 19 | DR14: =IFERROR(IF(AD14="L",VLOOKUP(BA14,$CZ$10:$DN$82,4),IF(AD14="P",VLOOKUP(BA14,$CZ$10:$DN$82,11),0)),"") -> 17.3 | DS14: =IFERROR(IF(AD14="L",VLOOKUP(BA14,$CZ$10:$DN$82,5),IF(AD14="P",VLOOKUP(BA14,$CZ$10:$DN$82,12),0)),"") -> 15.8 | DT14: =IFERROR(IF(AD14="L",VLOOKUP(BA14,$CZ$10:$DN$82,6),IF(AD14="P",VLOOKUP(BA14,$CZ$10:$DN$82,13),0)),"") -> 14.3 | DU14: =IFERROR(IF(AD14="L",VLOOKUP(BA14,$CZ$10:$DN$82,7),IF(AD14="P",VLOOKUP(BA14,$CZ$10:$DN$82,14),0)),"") -> 13 | DV14: =IFERROR(IF(AD14="L",VLOOKUP(BA14,$CZ$10:$DN$82,8),IF(AD14="P",VLOOKUP(BA14,$CZ$10:$DN$82,15),0)),"") -> 11.8 | DZ14: 4 | EA14: 45.2 | EB14: 44 | EC14: 42.8 | ED14: 41.6 | EE14: 40.4 | EF14: 39.2 | EG14: 38 | EH14: 44.4 | EI14: 43.1 | EJ14: 41.8 | EK14: 40.6 | EL14: 39.3 | EM14: 38.1 | EN14: 36.8
